BEGIN:VCALENDAR
VERSION:2.0
PRODID:-//SevillaLover - ECPv6.15.16.1//NONSGML v1.0//EN
CALSCALE:GREGORIAN
METHOD:PUBLISH
X-ORIGINAL-URL:https://sevillalover.com
X-WR-CALDESC:Eventos para SevillaLover
REFRESH-INTERVAL;VALUE=DURATION:PT1H
X-Robots-Tag:noindex
X-PUBLISHED-TTL:PT1H
BEGIN:VTIMEZONE
TZID:UTC
BEGIN:STANDARD
TZOFFSETFROM:+0000
TZOFFSETTO:+0000
TZNAME:UTC
DTSTART:20250101T000000
END:STANDARD
END:VTIMEZONE
BEGIN:VEVENT
DTSTART;TZID=UTC:20260214T203000
DTEND;TZID=UTC:20260214T220000
DTSTAMP:20260425T171100
CREATED:20260211T094358Z
LAST-MODIFIED:20260211T094358Z
UID:16289-1771101000-1771106400@sevillalover.com
SUMMARY:El Sentido de la Birra Live en Sevilla
DESCRIPTION:Acompaña a Ricardo Moya en El Sentido de la Birra Live\, un espacio donde el humor y la reflexión se mezclan para abordar temas profundos de manera fresca y original\, cada vez con un invitado o invitada sorpresa… ¡y contigo! Este show no sería posible sin tu participación\, y no lo decimos en broma: parte de las preguntas que se tratarán en escena las plantearás tú durante la función.
URL:https://sevillalover.com/evento/el-sentido-de-la-birra-live-en-sevilla/
LOCATION:Teatro Triana\, C. Condes de Bustillo\, 17\, Sevilla\, Sevilla\, 41010\, Spain
CATEGORIES:TEATRO
ATTACH;FMTTYPE=image/png:https://sevillalover.com/wp-content/uploads/2026/02/481x540-sentido-de-la-birra.png
END:VEVENT
BEGIN:VEVENT
DTSTART;TZID=UTC:20260221T203000
DTEND;TZID=UTC:20260221T220000
DTSTAMP:20260425T171100
CREATED:20260211T121245Z
LAST-MODIFIED:20260211T121245Z
UID:16319-1771705800-1771711200@sevillalover.com
SUMMARY:EA - Julio Fraga en Sevilla
DESCRIPTION:JULIO FRAGA ha muerto… La capilla ardiente se abre y\, allí\, rodeado de amigos y familiares\, tras el último cálido adiós y la penúltima cerveza bien fría\, Julio no podía faltar. Pero no solo está presente físicamente\, sino también con cuerpo y alma. Julio asiste a su propio funeral sin saber que él es el verdadero protagonista de lo que ocurre. \nEl espejo convexo se vuelve cóncavo cuando descubre que es el difunto y\, desde esa superficie reflejada\, repasará su vida… y su muerte. Nacemos con un EA que nos reconforta\, vivimos desafiados por otros EA y\, en el último suspiro\, nos vamos con el EA que nos consuela. \nUna comedia esperpéntica\, irreverente y sorprendente sobre la muerte. Descanse en paz… o no.
URL:https://sevillalover.com/evento/ea-julio-fraga-en-sevilla/
LOCATION:Teatro Triana\, C. Condes de Bustillo\, 17\, Sevilla\, Sevilla\, 41010\, Spain
CATEGORIES:TEATRO
ATTACH;FMTTYPE=image/jpeg:https://sevillalover.com/wp-content/uploads/2026/02/Ea-Julio-Fraga-Teatro-triana.jpeg
END:VEVENT
END:VCALENDAR