BEGIN:VCALENDAR
VERSION:2.0
PRODID:-//SevillaLover - ECPv6.15.16.1//NONSGML v1.0//EN
CALSCALE:GREGORIAN
METHOD:PUBLISH
X-ORIGINAL-URL:https://sevillalover.com
X-WR-CALDESC:Eventos para SevillaLover
REFRESH-INTERVAL;VALUE=DURATION:PT1H
X-Robots-Tag:noindex
X-PUBLISHED-TTL:PT1H
BEGIN:VTIMEZONE
TZID:UTC
BEGIN:STANDARD
TZOFFSETFROM:+0000
TZOFFSETTO:+0000
TZNAME:UTC
DTSTART:20250101T000000
END:STANDARD
END:VTIMEZONE
BEGIN:VEVENT
DTSTART;TZID=UTC:20260211T193000
DTEND;TZID=UTC:20261231T210000
DTSTAMP:20260425T235144
CREATED:20260211T080611Z
LAST-MODIFIED:20260211T090343Z
UID:16257-1770838200-1798750800@sevillalover.com
SUMMARY:Casa Duende Tablao Flamenco en Sevilla
DESCRIPTION:CASA DUENDE – 55470925PCASA DUENDE – 55470925PCasa Duende: \nEl alma del flamenco \nBaile\, cante y guitarra se funden con la emoción del público para hacer surgir el Duende\, esa fuerza que trasciende la técnica. Tradición y vanguardia se entrelazan para ofrecer experiencias auténticas e inolvidables. Ven\, descubre y vive la esencia del flamenco en un espacio íntimo\, acogedor y rebosante de arte. \nEntradas ya disponibles para el espectáculo Casa Duende Tablao Flamenco\, que se celebrará en el espacio Casa Duende Tablao de Sevilla.
URL:https://sevillalover.com/evento/casa-duende-tablao-flamenco-en-sevilla/
LOCATION:Casa Duende Tablao\, c/ Corral del Rey\, 22 - Sevilla 41004 Sevilla\, Sevilla\, Andalucía\, 41004\, Spain
CATEGORIES:TEATRO
ATTACH;FMTTYPE=image/jpeg:https://sevillalover.com/wp-content/uploads/2026/02/cas-tablao.jpeg
END:VEVENT
BEGIN:VEVENT
DTSTART;VALUE=DATE:20260911
DTEND;VALUE=DATE:20260913
DTSTAMP:20260425T235144
CREATED:20260217T083022Z
LAST-MODIFIED:20260217T083022Z
UID:16563-1789084800-1789257599@sevillalover.com
SUMMARY:La Mujer Rota en Sevilla
DESCRIPTION:Nochevieja. Murielle permanece sola en su casa. El bullicio de la calle y los gritos festivos de los vecinos le impiden dormir. En esa noche en vela\, los recuerdos irrumpen y chocan con un presente sombrío y un porvenir todavía más incierto. Las pérdidas\, las renuncias\, el fracaso y la soledad la han dejado al margen\, vagando en una especie de limbo donde oscila entre el instinto de seguir adelante y el deseo de rendirse. Su tragedia personal —con tintes de comedia amarga— ha resquebrajado su autoestima como mujer\, como pareja\, como madre y como hija. \nUna vez iniciado el espectáculo\, no se permitirá el acceso al auditorio.
URL:https://sevillalover.com/evento/la-mujer-rota-en-sevilla/
LOCATION:AUDITORIO CARTUJA\, C. Albert Einstein\, s/n\, Sevilla\, Sevilla\, 41092\, España
CATEGORIES:DRAMA,TEATRO
ATTACH;FMTTYPE=image/jpeg:https://sevillalover.com/wp-content/uploads/2026/02/20250826120952_1756202992.3251epPeNb2E.jpg
END:VEVENT
BEGIN:VEVENT
DTSTART;TZID=UTC:20260919T210000
DTEND;TZID=UTC:20260919T223000
DTSTAMP:20260425T235144
CREATED:20260217T102745Z
LAST-MODIFIED:20260217T102745Z
UID:16578-1789851600-1789857000@sevillalover.com
SUMMARY:¡El Último que Apague la Luz! en Sevilla
DESCRIPTION:La obra explora el papel de los celos en la pareja y cómo un exceso de encanto puede\, paradójicamente\, conducir al divorcio. Se muestra la reacción de unos padres primerizos ante la llegada de su primer hijo al hogar\, así como distintas fórmulas para combatir la rutina en la relación de pareja. También refleja cómo hombres y mujeres a veces fingimos ser alguien que no somos para conquistar a quienes deseamos. \nLa imaginación del público juega un papel esencial en la obra. Los espectadores deben imaginar muñecos vestidos de bombero\, un niño\, un cigarro\, un periódico\, un biberón\, un caballo\, un camarero y muchos otros elementos. A medida que avanza la función\, la imaginación del público se mantiene activa y constante\, siendo indispensable para disfrutar plenamente de la representación. \nLa participación del espectador es clave y se integra a través del humor. Los intérpretes lo guían hacia distintos momentos y etapas\, mostrando los trucos que grandes actores han usado históricamente para ganarse el aplauso del público. \nEn un momento de la obra\, se invita al público a golpear el suelo con los pies en señal de protesta cuando algo en el escenario no es de su agrado\, creando una experiencia activa y divertida. Además\, la obra plantea las diferencias entre épocas pasadas y actuales\, no solo a través del tiempo\, la literatura\, el cine o la pintura\, sino también mostrando cómo se interpretaba la actuación en distintas épocas\, desde los griegos hasta hoy. \nTodo se representa mediante alegorías que el público reconoce por su popularidad\, lo que permite disfrutar y profundizar en un lenguaje teatral menos conocido\, que forma parte de la esencia y la tradición de la escena a lo largo de los siglos. \n“El último que apague la luz” ofrece cultura a través de la diversión y la sonrisa\, cumpliendo con el deseo y el deber de todo autor que ama su oficio: emocionar y entretener al público mientras se comparte el arte del teatro.
URL:https://sevillalover.com/evento/el-ultimo-que-apague-la-luz-en-sevilla/
LOCATION:AUDITORIO CARTUJA\, C. Albert Einstein\, s/n\, Sevilla\, Sevilla\, 41092\, España
CATEGORIES:COMEDIA,TEATRO
ATTACH;FMTTYPE=image/webp:https://sevillalover.com/wp-content/uploads/2026/02/¡EL-ULTIMO-QUE-APAGUE-LA-LUZ.webp
END:VEVENT
END:VCALENDAR