BEGIN:VCALENDAR
VERSION:2.0
PRODID:-//SevillaLover - ECPv6.15.16.1//NONSGML v1.0//EN
CALSCALE:GREGORIAN
METHOD:PUBLISH
X-ORIGINAL-URL:https://sevillalover.com
X-WR-CALDESC:Eventos para SevillaLover
REFRESH-INTERVAL;VALUE=DURATION:PT1H
X-Robots-Tag:noindex
X-PUBLISHED-TTL:PT1H
BEGIN:VTIMEZONE
TZID:UTC
BEGIN:STANDARD
TZOFFSETFROM:+0000
TZOFFSETTO:+0000
TZNAME:UTC
DTSTART:20240101T000000
END:STANDARD
END:VTIMEZONE
BEGIN:VEVENT
DTSTART;TZID=UTC:20250403T203000
DTEND;TZID=UTC:20250403T220000
DTSTAMP:20260422T170330
CREATED:20250302T195650Z
LAST-MODIFIED:20250302T195650Z
UID:13970-1743712200-1743717600@sevillalover.com
SUMMARY:Manuel Carrasco
DESCRIPTION:¡Vive la magia de Manuel Carrasco con el tributo «Sígueme» en el Teatro de Triana! 🎶✨\nSi eres fan de Manuel Carrasco y su música te emociona\, prepárate para un espectáculo único que te hará revivir sus canciones en directo. El Tributo a Manuel Carrasco – «Sígueme» llega al Teatro de Triana para ofrecer una noche llena de sentimiento\, pasión y las mejores canciones del artista onubense. \nEste concierto homenaje está diseñado para transportarte a través de la trayectoria musical de Manuel Carrasco\, con una interpretación fiel y apasionada de sus grandes éxitos. Desde sus inicios en la música hasta los temas más recientes que han conquistado corazones\, este tributo hará que cantes\, sientas y disfrutes como si estuvieras en uno de sus conciertos. \n¿Por qué no puedes faltar a este evento?\n🎤 Un tributo lleno de emoción\, donde la esencia de Manuel Carrasco se vive en cada canción.🎶 Los mejores éxitos en directo\, con una interpretación que te hará vibrar.🔥 Un espectáculo cuidado hasta el último detalle\, para que la experiencia sea inolvidable.🏛 El Teatro de Triana\, un lugar perfecto para disfrutar de la mejor música en un ambiente íntimo y especial.🎟 Entradas disponibles\, ¡asegura la tuya antes de que se agoten! \n📍 Detalles del evento:📅 Fecha: Próximamente en el Teatro de Triana⏰ Horario: Por confirmar📌 Lugar: Teatro de Triana\, Calle Condes de Bustillo 17\, Sevilla🎟 Entradas: A la venta en la web oficial y en taquilla antes del evento. \nSi alguna vez has cantado con el alma canciones como «Qué bonito es querer»\, «Ya no» o «No dejes de soñar»\, este tributo es para ti. No pierdas la oportunidad de revivir los temas que han marcado tu vida y déjate llevar por la emoción de la música en directo. \n📲 Más información y entradas en elteatrodetriana.com.
URL:https://sevillalover.com/evento/manuel-carrasco/
LOCATION:Teatro Triana\, C. Condes de Bustillo\, 17\, Sevilla\, Sevilla\, 41010\, Spain
CATEGORIES:CONCIERTOS,MUSICAL
ATTACH;FMTTYPE=image/png:https://sevillalover.com/wp-content/uploads/2025/03/Diseno-sin-titulo-14.png
END:VEVENT
END:VCALENDAR