BEGIN:VCALENDAR
VERSION:2.0
PRODID:-//SevillaLover - ECPv6.15.16.1//NONSGML v1.0//EN
CALSCALE:GREGORIAN
METHOD:PUBLISH
X-ORIGINAL-URL:https://sevillalover.com
X-WR-CALDESC:Eventos para SevillaLover
REFRESH-INTERVAL;VALUE=DURATION:PT1H
X-Robots-Tag:noindex
X-PUBLISHED-TTL:PT1H
BEGIN:VTIMEZONE
TZID:UTC
BEGIN:STANDARD
TZOFFSETFROM:+0000
TZOFFSETTO:+0000
TZNAME:UTC
DTSTART:20240101T000000
END:STANDARD
END:VTIMEZONE
BEGIN:VEVENT
DTSTART;TZID=UTC:20250614T100000
DTEND;TZID=UTC:20250614T120000
DTSTAMP:20260425T141930
CREATED:20250411T091347Z
LAST-MODIFIED:20250411T091347Z
UID:14958-1749895200-1749902400@sevillalover.com
SUMMARY:Carlos González en Sevilla
DESCRIPTION:Carlos González en Sevilla – Conferencia «Autoridad y Límites» 👨‍👩‍👧‍👦📘\nEl reconocido pediatra y autor Carlos González llega a Sevilla para ofrecer una charla imprescindible sobre crianza respetuosa. La conferencia\, titulada «Autoridad y Límites»\, está dirigida a madres\, padres\, educadores y cualquier persona interesada en la educación y el desarrollo infantil. \n\n💥 Información del evento:\n📅 Fecha: 14 de junio de 2025 \n🕒 Horario: De 10:00 a 12:00 h. + firma de libros \n📍 Lugar: Universidad de Sevilla – Facultad de Comunicación (C/ Américo Vespucio\, 27) \n🎟 Precio entrada: 30 € \n🔗 Entradas: Compra en Tomaticket \n\nDurante la conferencia\, Carlos González explicará cómo establecer límites claros sin dejar de respetar a los niños. También abordará la diferencia entre autoridad y autoritarismo\, ofreciendo herramientas prácticas para mejorar la convivencia en casa y en el aula. \nEste evento es ideal para quienes buscan una forma de educar basada en el amor\, el respeto y la empatía. Es también una excelente oportunidad para reflexionar sobre nuestro papel como adultos en la vida de los más pequeños. \nTras la charla\, se realizará una firma de libros\, donde los asistentes podrán conocer de cerca al autor y llevarse su obra dedicada. \n\n¿No te convence este evento y prefieres alguna otra categoría?\n Pulsa aquí y busca la que más se adapte a tí.
URL:https://sevillalover.com/evento/carlos-gonzalez-en-sevilla/
LOCATION:Universidad de Sevilla Facultad de Comunicación\, C/ Américo Vespucio\, 27\, Sevilla\, Sevilla\, 41927\, Spain
CATEGORIES:CULTURA,CULTURE,EN FAMILIA,ESPECTACULOS EN FAMILIA,EVENTOS,EVENTS,INFANTIL,INFANTIL
ATTACH;FMTTYPE=image/jpeg:https://sevillalover.com/wp-content/uploads/2025/04/Imagen-de-WhatsApp-2025-04-11-a-las-09.08.56_7f2f09d9.jpg
ORGANIZER;CN="T%C3%A1driam Espinosa":MAILTO:info@eventop.es
END:VEVENT
END:VCALENDAR