BEGIN:VCALENDAR
VERSION:2.0
PRODID:-//SevillaLover - ECPv6.15.16.1//NONSGML v1.0//EN
CALSCALE:GREGORIAN
METHOD:PUBLISH
X-WR-CALNAME:SevillaLover
X-ORIGINAL-URL:https://sevillalover.com
X-WR-CALDESC:Eventos para SevillaLover
REFRESH-INTERVAL;VALUE=DURATION:PT1H
X-Robots-Tag:noindex
X-PUBLISHED-TTL:PT1H
BEGIN:VTIMEZONE
TZID:UTC
BEGIN:STANDARD
TZOFFSETFROM:+0000
TZOFFSETTO:+0000
TZNAME:UTC
DTSTART:20250101T000000
END:STANDARD
END:VTIMEZONE
BEGIN:VEVENT
DTSTART;VALUE=DATE:20260306
DTEND;VALUE=DATE:20260627
DTSTAMP:20260425T154348
CREATED:20260211T135833Z
LAST-MODIFIED:20260211T135833Z
UID:16354-1772755200-1782518399@sevillalover.com
SUMMARY:Tardeo de jajas - Monólogos e impro cómica en Sevilla
DESCRIPTION:“Tardeo de Jajas” es el nuevo espectáculo del cómico\, actor e influencer Pabloshurmano. Tras más de cinco años actuando en teatros y salas de Sevilla\, y después de una gira nacional durante la temporada 2023-24\, Pablo presenta un formato totalmente nuevo y desternillante\, donde cada función es diferente y nunca sabes qué ocurrirá: stand up\, improvisación\, juegos con el público\, chistes\, canciones en directo\, performances\, proyecciones… ¡Lo único seguro es que te irás con agujetas en los abdominales de tanto reír! \nCada show también contará con un invitado o invitada especial\, haciendo la experiencia aún más única. Todo esto tendrá lugar en un espacio emblemático de Sevilla\, la Sala Cuatro Gatos (antiguo Platea Café y Copas)\, en el mítico barrio de San Jacinto\, ideal para disfrutar de cultura en directo mientras tomas unas palomitas y refrescos bien fríos. \nNo pierdas la oportunidad de conseguir tus entradas rebajadas o las entradas VIP\, limitadas a solo 2 por función\, que incluyen sorpresitas muy especiales para los más rápidos.
URL:https://sevillalover.com/evento/tardeo-de-jajas-monologos-e-impro-comica-en-sevilla-2/
LOCATION:cuatro gatos\, C. de Madre Dolores Márquez\, 11\, E\, Casco Antiguo\, Sevilla\, Sevilla\, 41807\, España
CATEGORIES:TEATRO
ATTACH;FMTTYPE=image/avif:https://sevillalover.com/wp-content/uploads/2026/02/1622380.avif
END:VEVENT
END:VCALENDAR