BEGIN:VCALENDAR
VERSION:2.0
PRODID:-//SevillaLover - ECPv6.15.16.1//NONSGML v1.0//EN
CALSCALE:GREGORIAN
METHOD:PUBLISH
X-ORIGINAL-URL:https://sevillalover.com
X-WR-CALDESC:Eventos para SevillaLover
REFRESH-INTERVAL;VALUE=DURATION:PT1H
X-Robots-Tag:noindex
X-PUBLISHED-TTL:PT1H
BEGIN:VTIMEZONE
TZID:UTC
BEGIN:STANDARD
TZOFFSETFROM:+0000
TZOFFSETTO:+0000
TZNAME:UTC
DTSTART:20230101T000000
END:STANDARD
END:VTIMEZONE
BEGIN:VEVENT
DTSTART;TZID=UTC:20240918T213000
DTEND;TZID=UTC:20240918T213000
DTSTAMP:20260423T154024
CREATED:20240909T090247Z
LAST-MODIFIED:20240909T091545Z
UID:13250-1726695000-1726695000@sevillalover.com
SUMMARY:"De pozo y luna": Cante Jondo Bajo la Luna del Real Alcázar
DESCRIPTION:«De pozo y luna»: Cante Jondo Bajo la Luna del Real Alcázar\nEl 18 de septiembre de 2024\, el Real Alcázar será testigo del espectáculo flamenco «De pozo y luna»\, con la participación de Inés Bacán\, Macanita y el pianista Pedro Ricardo Miño. En esta velada\, las dos grandes voces del cante jondo\, Bacán y Macanita\, fusionarán sus estilos con la profundidad del piano flamenco de Miño\, creando una experiencia única. Este encuentro promete una noche de emociones\, tradición y duende\, donde los sonidos del flamenco resonarán bajo la luz de la luna sevillana. \nInés Bacán\, nacida en una familia de grandes flamencos\, traerá su cante desgarrador y puro\, mientras que Macanita\, reconocida por su fuerza y sentimiento\, pondrá la energía del flamenco de Jerez. Pedro Ricardo Miño\, con su magistral interpretación al piano\, aportará un toque único a la fusión de estos estilos tradicionales con su visión contemporánea. \nEste espectáculo\, parte de la XXIII Bienal de Flamenco de Sevilla\, es una invitación a sumergirse en la esencia del flamenco. Desde seguiriyas hasta soleás\, la combinación de cante y piano ofrecerá una narrativa que explora la vida\, la pasión y el sufrimiento\, con una intensidad que solo el flamenco puede transmitir. \nEl Real Alcázar\, con su atmósfera cargada de historia y belleza\, será el escenario perfecto para este diálogo entre el cante profundo y el piano\, ofreciendo un espectáculo que une lo antiguo y lo nuevo en el flamenco. No te pierdas esta oportunidad de vivir una experiencia única bajo las estrellas sevillanas. \nSi amas el flamenco o simplemente quieres descubrir su magia en un entorno incomparable\, «De pozo y luna» es una cita imprescindible. \nGracias y te esperamos en Sevilla. \nWeb: www.sevillalover.com\nInstagram: @sevillalovercom\nDar de alta tu empresa en sevillalover.com: 661 35 92 95\nDar de alta gratuitamente tu evento en nuestro calendario: eventos@sevillalover.com
URL:https://sevillalover.com/evento/de-pozo-y-luna-cante-jondo-bajo-la-luna-del-real-alcazar/
LOCATION:Real Alcázar de Sevilla\, Patio de Banderas\, s/n\,\, Sevilla\, Sevilla\, 41004
CATEGORIES:MUSICAL,TEATRO
ATTACH;FMTTYPE=image/jpeg:https://sevillalover.com/wp-content/uploads/2024/09/RomeritoDeJerez-1.jpg
END:VEVENT
END:VCALENDAR