BEGIN:VCALENDAR
VERSION:2.0
PRODID:-//SevillaLover - ECPv6.15.16.1//NONSGML v1.0//EN
CALSCALE:GREGORIAN
METHOD:PUBLISH
X-ORIGINAL-URL:https://sevillalover.com
X-WR-CALDESC:Eventos para SevillaLover
REFRESH-INTERVAL;VALUE=DURATION:PT1H
X-Robots-Tag:noindex
X-PUBLISHED-TTL:PT1H
BEGIN:VTIMEZONE
TZID:UTC
BEGIN:STANDARD
TZOFFSETFROM:+0000
TZOFFSETTO:+0000
TZNAME:UTC
DTSTART:20240101T000000
END:STANDARD
END:VTIMEZONE
BEGIN:VEVENT
DTSTART;TZID=UTC:20250322T200000
DTEND;TZID=UTC:20250322T220000
DTSTAMP:20260421T183054
CREATED:20250317T130605Z
LAST-MODIFIED:20250317T130605Z
UID:14031-1742673600-1742680800@sevillalover.com
SUMMARY:¡Sevilla! - Ismael Jordi
DESCRIPTION:🎶 Ismael Jordi\, el tenor que vuelve a casa: Sevilla lo espera 🎶\nCuando Ismael Jordi pisa el escenario del Teatro de la Maestranza\, lo hace con el corazón lleno de emoción. Sevilla es su hogar\, el lugar donde comenzó su camino y al que siempre regresa con orgullo. Discípulo del legendario Alfredo Kraus\, ha llevado su voz a los escenarios más prestigiosos del mundo\, pero nunca olvida sus raíces. \nEste recital es un regalo para su ciudad. Acompañado por el talentoso Rubén Fernández Aguirre al piano\, interpretará un repertorio que promete emocionar. Conocido por su maestría en óperas como L’elisir d’amore\, Rigoletto y Lucia di Lammermoor\, Jordi rendirá homenaje a Sevilla con la icónica aria ¡Sevilla!. \n🎭 ¿Por qué no perderse este recital?\n🎶 Sevilla como inspiración – Ismael Jordi llenará el Maestranza con la emoción de su tierra.🌍 Talento sin fronteras – Su voz ha enamorado al público en los teatros más prestigiosos.🎹 Maestría al piano – Rubén Fernández Aguirre acompañará con su virtuosismo inconfundible. \n✨ Una noche para soñar – La ópera y la pasión se fusionan en un recital único. \n📍 Detalles del evento:\n📅 Fecha: 18/02/25⏰ Hora: De 20.00 a 22.00📌 Lugar: Teatro de la Maestranza\, Sevilla🎟 Entradas disponibles en la web oficial. \n💰 Precios según la ubicación:\n\nPatio: 45€\n1º Balcón: 42€\n2º Balcón: 39€\n1º Terraza: 36€\n2º Terraza: 33€\n1º Paraíso: 31€\n2º Paraíso: 28€\n3º Paraíso: 27€\n\nNo dejes pasar la oportunidad de vivir una noche mágica con la voz de uno de los tenores más grandes de nuestra época. ¡Asegura tu entrada y sé parte de este evento único! \n¿No te convence este evento y prefieres alguna otra categoría?\n Pulsa aquí y busca la que más se adapte a tí. \n#Ópera #IsmaelJordi #TeatroMaestranza #CulturaSevilla #soySevillaLover #SevillaEspaña
URL:https://sevillalover.com/evento/sevilla-ismael-jordi/
LOCATION:TEATRO DE LA MAESTRANZA\, P.º de Cristóbal Colón\, 22\, Sevilla\, Sevilla\, Sevilla\, 41001\, España
CATEGORIES:BANDAS SONORAS,CLÁSICO,CLASSIC,CLASSICAL MUSIC,TEATRO,THEATER
ATTACH;FMTTYPE=image/jpeg:https://sevillalover.com/wp-content/uploads/2025/03/ismael-jordi-fj-gomez-pinteno-1.jpg
END:VEVENT
BEGIN:VEVENT
DTSTART;TZID=UTC:20250322T200000
DTEND;TZID=UTC:20250322T220000
DTSTAMP:20260421T183054
CREATED:20250318T091044Z
LAST-MODIFIED:20250318T091044Z
UID:14049-1742673600-1742680800@sevillalover.com
SUMMARY:Oboe\, violonchelo y piano
DESCRIPTION:🎶 Excelencia\, encuentro y diálogo: La música de cámara brilla en Sevilla 🎶\nEl Teatro de la Maestranza abre sus puertas a una velada única\, donde la música de cámara se convierte en un espacio de encuentro\, aprendizaje y emoción. Los protagonistas son algunos de los mejores músicos de Europa de Oboe\, violonchelo y piano\, miembros de orquestas de renombre como la Filarmónica de Berlín y la Orquesta Sinfónica de la Radio de Baviera\, que unen su virtuosismo con la pasión por la docencia. \nEstos artistas forman parte del equipo docente de la Fundación Barenboim-Said y llegan cada mes a Sevilla para inspirar a jóvenes talentos. Ahora\, llevan su arte más allá del aula y lo comparten con el público en una noche que promete ser una experiencia transformadora. \n🎭 ¿Por qué no perderse este concierto?\n🎶 Música de excelencia – Interpretaciones magistrales de músicos de talla internacional. \n🤝 Un diálogo sonoro – La esencia de la música de cámara en su máxima expresión. \n🌍 Un puente entre generaciones – Artistas y público unidos por la emoción del arte. \n✨ Una noche para redescubrir la magia de la música en su forma más pura. \n📍 Detalles del evento:\n📅 Fecha: 22/03/25⏰ Hora: De 20.00 a 22.00📌 Lugar: Teatro de la Maestranza\, Sevilla🎟 Entradas disponibles en la web oficial. \n🎼 Programa:\n🎵 Beethoven – Trío en si bemol mayor Op.11\, Gassenhauer🎵 Schubert – Sonata en la menor para arpeggione y piano\, D. 821🎵 Saint-Saëns – Sonata para oboe y piano en re mayor Op. 166🎵 Boulanger – Trois pièces (arr. oboe\, violonchelo y piano)🎵 Bruch – 8 piezas para oboe\, violonchelo y piano Op. 83 (selección) \nNo dejes pasar la oportunidad de vivir un concierto que celebra la música\, el diálogo y el encuentro. ¡Asegura tu entrada y sumérgete en esta experiencia única! \n¿No te convence este evento y prefieres alguna otra categoría?\n Pulsa aquí y busca la que más se adapte a tí.
URL:https://sevillalover.com/evento/oboe-violonchelo-y-piano/
LOCATION:TEATRO DE LA MAESTRANZA\, P.º de Cristóbal Colón\, 22\, Sevilla\, Sevilla\, Sevilla\, 41001\, España
CATEGORIES:BANDAS SONORAS,CLÁSICO,CLASSIC,CLASSICAL MUSIC,EVENTOS,EVENTS,MÚSICA CLÁSICA,TEATRO,THEATER
ATTACH;FMTTYPE=image/jpeg:https://sevillalover.com/wp-content/uploads/2025/03/pavel-gomziakov-gomziakov-jb-millot-ficha.jpg
END:VEVENT
END:VCALENDAR