BEGIN:VCALENDAR
VERSION:2.0
PRODID:-//SevillaLover - ECPv6.15.16.1//NONSGML v1.0//EN
CALSCALE:GREGORIAN
METHOD:PUBLISH
X-WR-CALNAME:SevillaLover
X-ORIGINAL-URL:https://sevillalover.com
X-WR-CALDESC:Eventos para SevillaLover
REFRESH-INTERVAL;VALUE=DURATION:PT1H
X-Robots-Tag:noindex
X-PUBLISHED-TTL:PT1H
BEGIN:VTIMEZONE
TZID:UTC
BEGIN:STANDARD
TZOFFSETFROM:+0000
TZOFFSETTO:+0000
TZNAME:UTC
DTSTART:20230101T000000
END:STANDARD
END:VTIMEZONE
BEGIN:VEVENT
DTSTART;VALUE=DATE:20240620
DTEND;VALUE=DATE:20240915
DTSTAMP:20260423T034445
CREATED:20240816T092137Z
LAST-MODIFIED:20240816T101714Z
UID:12931-1718841600-1726358399@sevillalover.com
SUMMARY:Noches en los Jardines del Real Alcázar
DESCRIPTION:Noches en los Jardines del Real Alcázar XXV Edición\nLa XXV Edición de «Noches en los Jardines del Real Alcázar» es un evento emblemático que se celebra en los históricos jardines del Real Alcázar de Sevilla durante los meses de verano. Este ciclo de conciertos ofrece una programación diversa que abarca desde música clásica hasta flamenco\, jazz y música antigua\, creando una experiencia mágica bajo las estrellas en uno de los escenarios más bellos y cargados de historia de la ciudad. \nCada noche\, el Real Alcázar se convierte en un escenario único donde la música y la historia se entrelazan\, permitiendo a los asistentes disfrutar de un ambiente íntimo y envolvente. La acústica natural de los jardines\, combinada con la belleza arquitectónica del lugar\, proporciona un telón de fondo incomparable para una velada cultural inolvidable. \nLa programación de esta edición incluye una amplia variedad de artistas y géneros\, con un total de 75 conciertos programados que se extienden desde junio hasta septiembre. Los conciertos están cuidadosamente seleccionados para ofrecer una experiencia musical rica y diversa\, que refleje la riqueza cultural y musical de Sevilla y Andalucía. \nHorarios y Entradas\nLos conciertos comienzan a las 22:30 horas\, con acceso al recinto a partir de las 21:00 horas\, permitiendo a los asistentes disfrutar de un paseo por los jardines antes de que comience la música. Las entradas tienen un precio general de 7 euros\, y pueden adquirirse en línea a través de la web oficial del evento\, lo que facilita la planificación anticipada para quienes desean asegurarse un lugar en este popular evento. \nConclusión\n«Noches en los Jardines del Real Alcázar» es una cita ineludible para los amantes de la música y la cultura en Sevilla. Esta XXV edición promete ofrecer\, una vez más\, una experiencia mágica en un entorno de ensueño\, donde la música de diversos géneros se fusiona con la historia y la belleza del Real Alcázar. Es una oportunidad única para disfrutar de la música en vivo en uno de los espacios más emblemáticos de la ciudad\, haciendo de cada noche un recuerdo imborrable.
URL:https://sevillalover.com/evento/noches-en-los-jardines-del-real-alcazar/
LOCATION:Real Alcázar de Sevilla\, Patio de Banderas\, s/n\,\, Sevilla\, Sevilla\, 41004
CATEGORIES:NOCHE
ATTACH;FMTTYPE=image/jpeg:https://sevillalover.com/wp-content/uploads/2024/08/Diseno-sin-titulo-14.jpg
END:VEVENT
END:VCALENDAR