BEGIN:VCALENDAR
VERSION:2.0
PRODID:-//SevillaLover - ECPv6.15.16.1//NONSGML v1.0//EN
CALSCALE:GREGORIAN
METHOD:PUBLISH
X-ORIGINAL-URL:https://sevillalover.com
X-WR-CALDESC:Eventos para SevillaLover
REFRESH-INTERVAL;VALUE=DURATION:PT1H
X-Robots-Tag:noindex
X-PUBLISHED-TTL:PT1H
BEGIN:VTIMEZONE
TZID:UTC
BEGIN:STANDARD
TZOFFSETFROM:+0000
TZOFFSETTO:+0000
TZNAME:UTC
DTSTART:20250101T000000
END:STANDARD
END:VTIMEZONE
BEGIN:VEVENT
DTSTART;VALUE=DATE:20260211
DTEND;VALUE=DATE:20260501
DTSTAMP:20260425T110119
CREATED:20260211T090007Z
LAST-MODIFIED:20260211T090007Z
UID:16274-1770768000-1777593599@sevillalover.com
SUMMARY:Concierto Tablao Flamenco Las Setas en Sevilla
DESCRIPTION:En Tablao Flamenco Las Setas brindamos una experiencia exclusiva en un ambiente elegante y acogedor\, donde podrás disfrutar de un espectáculo flamenco de primer nivel acompañado de nuestra coctelería de autor\, elaborada con selectos vinos de Jerez.
URL:https://sevillalover.com/evento/concierto-tablao-flamenco-las-setas-en-sevilla-2/
LOCATION:Tablao Flamenco las Setas\, Setas de Sevilla\, Pl. de la Encarnación\, Casco Antiguo\, 41003 Sevilla\, Sevilla\, Andalucía\, 41003
CATEGORIES:TEATRO
ATTACH;FMTTYPE=image/jpeg:https://sevillalover.com/wp-content/uploads/2026/02/00-00089GS.jpeg
END:VEVENT
BEGIN:VEVENT
DTSTART;TZID=UTC:20260214T123000
DTEND;TZID=UTC:20260215T140000
DTSTAMP:20260425T110119
CREATED:20260211T105043Z
LAST-MODIFIED:20260211T105043Z
UID:16296-1771072200-1771164000@sevillalover.com
SUMMARY:Un Siglo de Magia - Homenaje a Disney en Sevilla
DESCRIPTION:Sumérgete en un viaje encantado a través del tiempo con «Un Siglo de Magia»\, un espectacular homenaje musical que celebra los 100 años de la magia de Disney. Este deslumbrante espectáculo invita a toda la familia a vivir una experiencia única\, repleta de emociones\, nostalgia y encanto. \nRevive las canciones más memorables de las películas que han marcado generaciones\, desde los clásicos eternos como Blancanieves y los Siete Enanitos y La Bella y la Bestia\, hasta los éxitos más recientes como Frozen y Encanto. Con coreografías impactantes\, voces en directo y una puesta en escena llena de color y creatividad\, este show hará latir tu corazón y despertará tu imaginación. \nAcompaña a un elenco lleno de energía mientras recorren mundos mágicos\, presentando a princesas\, héroes entrañables y transmitiendo lecciones de amor\, amistad y valentía. Desde la primera nota hasta el último acorde\, «Un Siglo de Magia» es un homenaje que nos recuerda que los sueños realmente pueden hacerse realidad. \nPrepárate para cantar\, reír y emocionarte en esta celebración de un siglo de historias y canciones que han dado vida a la magia de Disney.
URL:https://sevillalover.com/evento/un-siglo-de-magia-homenaje-a-disney-en-sevilla/
LOCATION:AUDITORIO CARTUJA\, C. Albert Einstein\, s/n\, Sevilla\, Sevilla\, 41092\, España
CATEGORIES:EN FAMILIA,MUSICAL,TEATRO
ATTACH;FMTTYPE=image/webp:https://sevillalover.com/wp-content/uploads/2026/02/un-siglo-magia.webp
END:VEVENT
END:VCALENDAR