BEGIN:VCALENDAR
VERSION:2.0
PRODID:-//SevillaLover - ECPv6.15.16.1//NONSGML v1.0//EN
CALSCALE:GREGORIAN
METHOD:PUBLISH
X-WR-CALNAME:SevillaLover
X-ORIGINAL-URL:https://sevillalover.com
X-WR-CALDESC:Eventos para SevillaLover
REFRESH-INTERVAL;VALUE=DURATION:PT1H
X-Robots-Tag:noindex
X-PUBLISHED-TTL:PT1H
BEGIN:VTIMEZONE
TZID:UTC
BEGIN:STANDARD
TZOFFSETFROM:+0000
TZOFFSETTO:+0000
TZNAME:UTC
DTSTART:20250101T000000
END:STANDARD
END:VTIMEZONE
BEGIN:VEVENT
DTSTART;TZID=UTC:20260703T220000
DTEND;TZID=UTC:20260703T220000
DTSTAMP:20260425T122553
CREATED:20260213T084518Z
LAST-MODIFIED:20260213T084518Z
UID:16515-1783116000-1783116000@sevillalover.com
SUMMARY:Concierto Hombres G - Los Mejores Años de nuestra vida - VIP en Sevilla
DESCRIPTION:Hombres G anuncian la gira “Los Mejores Años de Nuestra Vida 2026”\, que acompaña al largometraje documental homónimo que llegará a los cines el 30 de abril de 2026. \nUno de los grupos más emblemáticos y queridos de la música española propone un tour especial que recorre su historia y presente\, mostrando la experiencia\, la energía y la conexión con su público. Dirigido por Charlie Arnaiz y Alberto Ortega y producido por Movistar Plus+\, Dadá Films & Entertainment\, La Calabaza Amarilla\, A Contracorriente Films y Warner Music Spain\, el documental también cuenta con la participación de RTVE y el apoyo de SGR y la Comunidad de Madrid. \nLa gira “Los Mejores Años de Nuestra Vida 2026” es una celebración del presente: Hombres G están en un momento pleno\, al igual que su público. Un regalo para los fans de todas las generaciones\, que siguen llenando recintos y coreando sus éxitos. Noches cargadas de diversión\, pasión y complicidad sobre el escenario\, características que han definido sus conciertos durante décadas. \n“Queremos que esta gira sea una gran fiesta\, un homenaje a todos estos años vividos juntos y a lo que aún nos queda por disfrutar. Estamos convencidos de que estamos viviendo los mejores años de nuestra vida\, y eso es simplemente acojonante” – Hombres G.
URL:https://sevillalover.com/evento/concierto-hombres-g-los-mejores-anos-de-nuestra-vida-vip-en-sevilla/
LOCATION:ICONICA FEST PLAZA DE ESPAÑA\, Av. Isabel la Católica\, Sevilla\, 41004\, España
CATEGORIES:CONCIERTOS,POP
ATTACH;FMTTYPE=image/jpeg:https://sevillalover.com/wp-content/uploads/2026/02/hombres-g-2026g.jpeg
END:VEVENT
BEGIN:VEVENT
DTSTART;TZID=UTC:20260703T220000
DTEND;TZID=UTC:20260703T220000
DTSTAMP:20260425T122553
CREATED:20260213T085021Z
LAST-MODIFIED:20260213T085021Z
UID:16518-1783116000-1783116000@sevillalover.com
SUMMARY:Concierto Hombres G - Los Mejores Años de nuestra vida en Sevilla
DESCRIPTION:Hombres G anuncian la gira “Los Mejores Años de Nuestra Vida 2026”\, que acompaña al largometraje documental homónimo que llegará a los cines el 30 de abril de 2026. \nUno de los grupos más emblemáticos y queridos de la música española propone un tour especial que recorre su historia y presente\, mostrando la experiencia\, la energía y la conexión con su público. Dirigido por Charlie Arnaiz y Alberto Ortega y producido por Movistar Plus+\, Dadá Films & Entertainment\, La Calabaza Amarilla\, A Contracorriente Films y Warner Music Spain\, el documental también cuenta con la participación de RTVE y el apoyo de SGR y la Comunidad de Madrid. \nLa gira “Los Mejores Años de Nuestra Vida 2026” es una celebración del presente: Hombres G están en un momento pleno\, al igual que su público. Un regalo para los fans de todas las generaciones\, que siguen llenando recintos y coreando sus éxitos. Noches cargadas de diversión\, pasión y complicidad sobre el escenario\, características que han definido sus conciertos durante décadas. \n“Queremos que esta gira sea una gran fiesta\, un homenaje a todos estos años vividos juntos y a lo que aún nos queda por disfrutar. Estamos convencidos de que estamos viviendo los mejores años de nuestra vida\, y eso es simplemente acojonante” – Hombres G.
URL:https://sevillalover.com/evento/concierto-hombres-g-los-mejores-anos-de-nuestra-vida-en-sevilla/
LOCATION:ICONICA FEST PLAZA DE ESPAÑA\, Av. Isabel la Católica\, Sevilla\, 41004\, España
CATEGORIES:CONCIERTOS,POP
ATTACH;FMTTYPE=image/jpeg:https://sevillalover.com/wp-content/uploads/2026/02/hombres-g-2026g-1.jpeg
END:VEVENT
BEGIN:VEVENT
DTSTART;TZID=UTC:20260911T213000
DTEND;TZID=UTC:20260911T230000
DTSTAMP:20260425T122553
CREATED:20260217T081738Z
LAST-MODIFIED:20260217T081738Z
UID:16546-1789162200-1789167600@sevillalover.com
SUMMARY:Concierto El Arrebato - Cabaret Festival Mairena en Sevilla
DESCRIPTION:Adquiere tus entradas para el concierto de El Arrebato que se celebrará en el Centro Hípico Mairena del Aljarafe. \nLas entradas de Pista son de acceso general\, sin numeración y en modalidad de pie.Las localidades de Grada Frontal y Grada Lateral son numeradas e incluyen asiento asignado. \nLa realización del evento estará sujeta a la normativa vigente establecida por las autoridades competentes. La organización podrá ajustar el aforo\, modificar la ubicación de las localidades o reorganizar espacios si fuera necesario. Asimismo\, se reserva el derecho de admisión y la facultad de expulsar del recinto a cualquier persona que incumpla las normas de seguridad\, higiene o salud en vigor. Cualquier cambio o actualización será comunicado por correo electrónico a los compradores. \nLas personas con Movilidad Reducida deberán adquirir las entradas específicas destinadas a este colectivo\, ya que se ubicarán en una zona habilitada del recinto. Se permite un único acompañante\, quien deberá comprar la entrada denominada “Acompañante Movilidad Reducida” y ocupará un asiento contiguo. Por razones organizativas o de evacuación\, esta zona podría ser reubicada. \nPara acceder con este tipo de entrada\, será imprescindible presentar documentación oficial que acredite la condición de movilidad reducida. En caso de no justificarla adecuadamente\, no se permitirá el acceso con dicha localidad\, aunque la entrada haya sido previamente adquirida. \nLos menores de 16 años podrán asistir al concierto únicamente si van acompañados por su padre\, madre o tutor legal. \nSe informa además que durante el espectáculo se realizarán fotografías y grabaciones de vídeo en las que el público podrá aparecer de forma general o accesoria. Dicho material podrá difundirse posteriormente en redes sociales y otros medios de comunicación con fines promocionales del evento.
URL:https://sevillalover.com/evento/concierto-el-arrebato-cabaret-festival-mairena-en-sevilla/
LOCATION:CENTRO HÍPICO – MAIRENA DEL ALJARAFE\, c/ Haya\, s/n - Mairena del Aljarafe\, Sevilla\, Sevilla\, 41927\, España
CATEGORIES:CONCIERTOS,POP
ATTACH;FMTTYPE=image/jpeg:https://sevillalover.com/wp-content/uploads/2026/02/3170007_278513_1769075915199.jpeg
END:VEVENT
BEGIN:VEVENT
DTSTART;TZID=UTC:20260912T183000
DTEND;TZID=UTC:20260912T183000
DTSTAMP:20260425T122553
CREATED:20260217T100528Z
LAST-MODIFIED:20260217T100528Z
UID:16566-1789237800-1789237800@sevillalover.com
SUMMARY:Concierto Delaossa + Lucho RK - Cabaret Festival Mairena en Sevilla
DESCRIPTION:Adquiere tus entradas para el concierto de Delaossa y Lucho RK. El line up completo se confirmará en los días previos al evento. \nEntradasLas localidades de General son de pie y acceso libre dentro del recinto. \nMovilidad ReducidaLas personas con Movilidad Reducida contarán con un espacio habilitado en el recinto y deberán adquirir la entrada específica para este colectivo. Se permite un acompañante\, que deberá adquirir la entrada “Acompañante Movilidad Reducida” y se ubicará en un asiento contiguo. La ubicación de esta zona podrá modificarse por razones organizativas o de evacuación. \nPara acceder con estas entradas será obligatorio presentar documentación oficial que acredite la condición especial de movilidad. Aquellos que no la presenten no podrán acceder al recinto\, incluso si la entrada fue previamente comprada. \nPolítica de MenoresLos menores de 16 años podrán asistir al concierto únicamente acompañados por su padre\, madre o tutor legal. \nMedidas de SeguridadLa realización del espectáculo estará sujeta a la normativa vigente de las autoridades competentes. La organización se reserva el derecho de modificar el aforo\, reubicar localidades y ejercer el derecho de admisión\, así como expulsar del recinto a quienes incumplan las normas de seguridad\, higiene y salud. Todas las modificaciones serán comunicadas por correo electrónico a los compradores. \nInformación GeneralSe informa a los asistentes que durante el evento se realizarán fotografías y grabaciones de vídeo en las que el público podría aparecer de forma general o accesoria. Este material podrá difundirse en redes sociales y otros medios de comunicación con fines promocionales del concierto.
URL:https://sevillalover.com/evento/concierto-delaossa-lucho-rk-cabaret-festival-mairena-en-sevilla/
LOCATION:CENTRO HÍPICO – MAIRENA DEL ALJARAFE\, c/ Haya\, s/n - Mairena del Aljarafe\, Sevilla\, Sevilla\, 41927\, España
CATEGORIES:CONCIERTOS,RAP AND HIP-HOP
ATTACH;FMTTYPE=image/jpeg:https://sevillalover.com/wp-content/uploads/2026/02/490891770832447.jpeg
END:VEVENT
BEGIN:VEVENT
DTSTART;TZID=UTC:20260917T213000
DTEND;TZID=UTC:20260917T213000
DTSTAMP:20260425T122553
CREATED:20260217T101141Z
LAST-MODIFIED:20260217T101141Z
UID:16569-1789680600-1789680600@sevillalover.com
SUMMARY:Concierto Vanesa Martín - Cabaret Festival en Sevilla
DESCRIPTION:Adquiere tus entradas para el concierto de Vanesa Martín dentro del Cabaret Festival\, que tendrá lugar en el Centro Hípico Mairena del Aljarafe. \nTour Casa Mía 2026Vanesa Martín regresa con su Tour Casa Mía 2026\, una gira que está conquistando al público de todo el país. El espectáculo combina los temas de su último disco con los grandes éxitos que han definido su carrera\, ofreciendo un directo intenso y cercano que confirma por qué es una de las voces más reconocidas y personales del pop español. \nEntradas \n\n\nFront Stage y Pista: entradas generales de pie\, sin numerar. \n\n\nGrada Lateral y Grada Frontal: entradas numeradas. Si se compran varias localidades en estas zonas\, deberán adquirirse de forma contigua\, no estando permitido dejar asientos vacíos entre compras. \n\n\nMovilidad ReducidaLas personas con movilidad reducida dispondrán de una zona específica del recinto y deberán adquirir la entrada correspondiente. Se permite un acompañante\, que deberá adquirir la entrada “Acompañante Movilidad Reducida” y se ubicará en un asiento contiguo. La ubicación de esta zona puede modificarse por motivos organizativos o de evacuación. \nSerá necesario presentar documentación oficial que acredite la condición de movilidad reducida. Quienes no la presenten no podrán acceder al recinto\, aunque hayan comprado la entrada. \nPolítica de MenoresLos menores de 16 años podrán asistir al concierto únicamente acompañados por padre\, madre o tutor legal. \nMedidas de SeguridadEl evento se celebrará conforme a la normativa vigente establecida por las autoridades competentes. Por motivos ajenos a la organización\, podrían realizarse cambios de aforo o de ubicación de las localidades. Todas las actualizaciones se comunicarán por correo electrónico a los compradores. \nLa organización podrá denegar el acceso o expulsar a quienes incumplan las normas de seguridad\, higiene y salud vigentes. En caso de cancelación u otros cambios del evento\, se reembolsará íntegramente el importe de la entrada\, incluidos gastos de gestión y servicio. \nNo procede el derecho de desistimiento en la compra online de entradas para conciertos y espectáculos musicales. Los clientes pueden recurrir a la plataforma de resolución de litigios de la UE (Reglamento UE 524/2013) ante cualquier discrepancia. \nAviso a los asistentesDurante el concierto se realizarán fotografías y vídeos en los que el público podría aparecer de forma general o accesoria. Este material podrá difundirse en redes sociales y otros medios de comunicación con fines promocionales del evento.
URL:https://sevillalover.com/evento/concierto-vanesa-martin-cabaret-festival-en-sevilla/
LOCATION:CENTRO HÍPICO – MAIRENA DEL ALJARAFE\, c/ Haya\, s/n - Mairena del Aljarafe\, Sevilla\, Sevilla\, 41927\, España
CATEGORIES:CONCIERTOS,POP
ATTACH;FMTTYPE=image/jpeg:https://sevillalover.com/wp-content/uploads/2026/02/Vanesa_Martin_ECI_400x504px.jpeg
END:VEVENT
BEGIN:VEVENT
DTSTART;TZID=UTC:20260919T183000
DTEND;TZID=UTC:20260919T183000
DTSTAMP:20260425T122553
CREATED:20260217T102313Z
LAST-MODIFIED:20260217T102313Z
UID:16575-1789842600-1789842600@sevillalover.com
SUMMARY:Saiko + Djs invitados - Cabaret Festival Mairena en Sevilla
DESCRIPTION:Adquiere tus entradas para el concierto de Saiko acompañado de Djs invitados\, que se celebrará en el Centro Hípico de Mairena del Aljarafe dentro del Cabaret Festival. \nEntradas \n\n\nFront Stage y Pista: entradas generales de pie\, sin numerar. \n\n\nGrada Lateral y Grada Frontal: entradas numeradas. Si se compran varias localidades en estas zonas\, deberán adquirirse de forma contigua\, sin dejar asientos libres entre ellas. \n\n\nMovilidad ReducidaLas personas con movilidad reducida dispondrán de un espacio reservado dentro del recinto y deberán adquirir la entrada específica. Se permite un acompañante\, que deberá comprar la entrada “Acompañante Movilidad Reducida” y se ubicará en un asiento contiguo. La ubicación de esta zona puede variar por motivos organizativos o de evacuación. \nSerá obligatorio presentar documentación oficial que acredite la condición de movilidad reducida. En caso contrario\, no se permitirá el acceso al recinto\, aunque la entrada haya sido previamente adquirida. \nPolítica de MenoresLos menores de 16 años solo podrán acceder al concierto acompañados por padre\, madre\, tutor legal o un adulto responsable.Los jóvenes de 16 y 17 años podrán asistir sin acompañante\, aunque se podrá solicitar documentación que acredite su edad en el acceso al recinto. \nMedidas de SeguridadLa celebración del evento se regirá por la normativa vigente establecida por las autoridades competentes. Por motivos ajenos a la organización\, podrían realizarse cambios en el aforo o en la ubicación de las localidades. Todas las modificaciones se comunicarán por correo electrónico a los compradores. \nLa organización podrá denegar el acceso o expulsar a quienes no respeten las normas de seguridad\, higiene y salud. En caso de cancelación u otros cambios del evento\, se devolverá íntegramente el importe de la entrada\, incluyendo todos los gastos asociados. \nNo procede el derecho de desistimiento en la compra online de entradas para conciertos y espectáculos musicales. Los clientes pueden recurrir a la plataforma de resolución de litigios de la UE (Reglamento UE 524/2013) ante cualquier discrepancia. \nAviso a los asistentesDurante el espectáculo se realizarán fotografías y vídeos en los que el público podría aparecer de manera general o accesoria. Este material podrá difundirse en redes sociales y otros medios de comunicación con fines promocionales.
URL:https://sevillalover.com/evento/saiko-djs-invitados-cabaret-festival-mairena-en-sevilla/
LOCATION:CENTRO HÍPICO – MAIRENA DEL ALJARAFE\, c/ Haya\, s/n - Mairena del Aljarafe\, Sevilla\, Sevilla\, 41927\, España
CATEGORIES:CONCIERTOS,FESTIVALES,TRAP
ATTACH;FMTTYPE=image/jpeg:https://sevillalover.com/wp-content/uploads/2026/02/497561770057240.jpeg
END:VEVENT
BEGIN:VEVENT
DTSTART;TZID=UTC:20261212T210000
DTEND;TZID=UTC:20261212T230000
DTSTAMP:20260425T122553
CREATED:20260217T111701Z
LAST-MODIFIED:20260217T111701Z
UID:16584-1797109200-1797116400@sevillalover.com
SUMMARY:Concierto Galván Real - Gira 10 Aniversario en Sevilla
DESCRIPTION:Desde su debut profesional\, Galván Real ha conquistado a millones de personas en todo el mundo\, interpretando el romanticismo más puro con su inconfundible voz rasgada que lo distingue. \nEl artista ha alcanzado millones de visualizaciones y ha conseguido posicionarse en el Top Tendencias con cada uno de sus lanzamientos\, logrando en numerosas ocasiones el puesto número 1. A lo largo de su carrera\, ha sido galardonado con múltiples Discos de Oro\, Platino\, Doble Platino y Triple Platino por sus mayores éxitos. Con millones de seguidores en redes sociales y oyentes mensuales en plataformas digitales\, Galván Real se consolida como una de las voces más queridas y representativas de su género. \nSus conciertos se llenan de público\, colgando en muchas ocasiones el cartel de “Sold Out”\, mientras los asistentes disfrutan y ovacionan al ritmo de sus canciones. \nLas entradas ya están a la venta para el concierto de Galván Real – Gira 10 Aniversario\, que se celebrará en el Cartuja Center Cité de Sevilla.
URL:https://sevillalover.com/evento/concierto-galvan-real-gira-10-aniversario-en-sevilla/
LOCATION:CARTUJA CENTER CITE\, C/ Leonardo da Vinci\, 7.\, Sevilla\, Sevilla\, 41092\, España
CATEGORIES:CONCIERTOS,POP
ATTACH;FMTTYPE=image/jpeg:https://sevillalover.com/wp-content/uploads/2026/02/00-00089ko.jpeg
END:VEVENT
END:VCALENDAR