BEGIN:VCALENDAR
VERSION:2.0
PRODID:-//SevillaLover - ECPv6.15.16.1//NONSGML v1.0//EN
CALSCALE:GREGORIAN
METHOD:PUBLISH
X-WR-CALNAME:SevillaLover
X-ORIGINAL-URL:https://sevillalover.com
X-WR-CALDESC:Eventos para SevillaLover
REFRESH-INTERVAL;VALUE=DURATION:PT1H
X-Robots-Tag:noindex
X-PUBLISHED-TTL:PT1H
BEGIN:VTIMEZONE
TZID:UTC
BEGIN:STANDARD
TZOFFSETFROM:+0000
TZOFFSETTO:+0000
TZNAME:UTC
DTSTART:20240101T000000
END:STANDARD
END:VTIMEZONE
BEGIN:VEVENT
DTSTART;TZID=UTC:20250227T230000
DTEND;TZID=UTC:20250227T230000
DTSTAMP:20260423T105836
CREATED:20250226T103338Z
LAST-MODIFIED:20250226T103338Z
UID:13943-1740697200-1740697200@sevillalover.com
SUMMARY:Jueves de Reinas en El Bar Mutante
DESCRIPTION:¡Jueves de Reinas en El Bar Mutante! Una noche de bingo\, espectáculo y risas aseguradas 🎉👑\nSi buscas un plan diferente en Sevilla\, lleno de diversión\, buen ambiente y un toque de locura\, Jueves de Reinas en El Bar Mutante es el evento que no te puedes perder. El próximo jueves 27 de febrero de 2025\, prepárate para una noche inolvidable en la Alameda de Hércules\, donde el bingo se transforma en un auténtico show de humor\, improvisación y sorpresas. \nEste no es el típico bingo aburrido. Aquí\, las reinas del espectáculo convierten cada número en un momento de risas y emoción. Con su energía desbordante\, desparpajo y buen rollo\, harán que te olvides del tiempo y te sumerjas en una experiencia que mezcla entretenimiento\, juego y espectáculo. \nEntre partida y partida\, el escenario se llenará de actuaciones cargadas de glamour\, humor y picardía\, asegurando que no haya un solo minuto de aburrimiento. Además\, habrá premios\, sorpresas y mucha interacción con el público\, porque en Jueves de Reinas\, todos los asistentes son parte del show. \nEl ambiente inclusivo y acogedor de El Bar Mutante hace que todo el mundo se sienta bienvenido. Da igual si vienes con amigos o solo\, aquí te espera una noche donde las risas\, la música y la buena compañía están garantizadas. \n¿Por qué no puedes faltar?\n\nUn bingo diferente\, lleno de humor\, espectáculo y sorpresas.\nActuaciones en vivo con artistas increíbles que te harán reír sin parar.\nUn ambiente vibrante y diverso en pleno centro de Sevilla.\nPremios\, música y mucha diversión.\nEntrada libre hasta completar aforo.\n\n📍 Detalles del evento:📅 Fecha: Jueves\, 27 de febrero de 2025⏰ Horario: A partir de las 23:00 horas📌 Lugar: El Bar Mutante\, Calle Fresa 15\, Alameda de Hércules\, Sevilla🎟 Entrada: Gratis hasta completar aforo \nNo dejes que te lo cuenten. Consulta más detalles en ElBarMutante.com y prepárate para la noche más divertida de la semana.
URL:https://sevillalover.com/evento/jueves-de-reinas-en-el-bar-mutante/
LOCATION:El Bar Mutante\, C. Fresa\, 15\, Casco Antiguo\, Sevilla\, Sevilla\, 41002
CATEGORIES:NOCHE
ATTACH;FMTTYPE=image/png:https://sevillalover.com/wp-content/uploads/2025/02/Diseno-sin-titulo-2.png
ORGANIZER;CN="El Bar Mutante":MAILTO:info@elmutante.com
END:VEVENT
END:VCALENDAR