BEGIN:VCALENDAR
VERSION:2.0
PRODID:-//SevillaLover - ECPv6.15.16.1//NONSGML v1.0//EN
CALSCALE:GREGORIAN
METHOD:PUBLISH
X-WR-CALNAME:SevillaLover
X-ORIGINAL-URL:https://sevillalover.com
X-WR-CALDESC:Eventos para SevillaLover
REFRESH-INTERVAL;VALUE=DURATION:PT1H
X-Robots-Tag:noindex
X-PUBLISHED-TTL:PT1H
BEGIN:VTIMEZONE
TZID:UTC
BEGIN:STANDARD
TZOFFSETFROM:+0000
TZOFFSETTO:+0000
TZNAME:UTC
DTSTART:20230101T000000
END:STANDARD
END:VTIMEZONE
BEGIN:VEVENT
DTSTART;TZID=UTC:20240919T230000
DTEND;TZID=UTC:20240919T230000
DTSTAMP:20260423T123129
CREATED:20240909T095009Z
LAST-MODIFIED:20240909T102656Z
UID:13259-1726786800-1726786800@sevillalover.com
SUMMARY:"Vengo de mi Extremadura": La Esencia del Flamenco Extremeño en Sevilla
DESCRIPTION:«Vengo de mi Extremadura»: La Esencia del Flamenco Extremeño en Sevilla\nEl 19 de septiembre de 2024\, el Muelle Camaronero será el escenario de «Vengo de mi Extremadura»\, un espectáculo que reunirá a algunos de los máximos exponentes del flamenco extremeño. Guadiana\, con su cante profundo y emotivo\, liderará esta velada acompañado por el joven talento Juanfra Carrasco y los guitarristas Miguel Vargas y Juan Vargas. Juntos\, ofrecerán un recorrido por los cantes tradicionales de Extremadura\, como las granaínas\, seguiriyas\, tarantas y bulerías\, mostrando la riqueza de esta región en el arte flamenco. \nEste espectáculo es un homenaje a la tierra de Extremadura y su profunda influencia en el flamenco. Guadiana\, con una larga trayectoria artística\, traerá al escenario la esencia de su cante\, donde se fusionan tradición y emoción. Juanfra Carrasco\, una de las promesas del flamenco actual\, aportará frescura y fuerza a una velada cargada de sentimiento y arte puro. La guitarra de Miguel Vargas\, conocida por su capacidad de transmitir las emociones más profundas\, servirá de columna vertebral para las interpretaciones de los cantaores. \nEl flamenco extremeño tiene una sonoridad particular\, que mezcla los ecos rurales con el lamento profundo del cante jondo. Durante el espectáculo\, el público podrá disfrutar de palos clásicos del flamenco\, pero con un toque único que refleja la identidad de Extremadura. La energía\, el ritmo y la profundidad del cante y la guitarra se fundirán con el entorno único del Muelle Camaronero\, creando una atmósfera perfecta para disfrutar del mejor flamenco. \nEste evento es una oportunidad inmejorable para vivir una experiencia auténtica de flamenco en un escenario inigualable. Si eres amante del flamenco o te interesa conocer las raíces más profundas de este arte\, «Vengo de mi Extremadura» es una cita que no puedes perderte en la Bienal de Flamenco de Sevilla. \nGracias y te esperamos en Sevilla. \nWeb: www.sevillalover.com\nInstagram: @sevillalovercom\nDar de alta tu empresa en sevillalover.com: 661 35 92 95\nDar de alta gratuitamente tu evento en nuestro calendario: eventos@sevillalover.com
URL:https://sevillalover.com/evento/vengo-de-mi-extremadura-la-esencia-del-flamenco-extremeno-en-sevilla/
LOCATION:Muelle Camaronero\, Calle Betis\, Sevilla\, Sevilla\, 41010\, España
CATEGORIES:MUSICAL,TEATRO
ATTACH;FMTTYPE=image/jpeg:https://sevillalover.com/wp-content/uploads/2024/09/Diseno-sin-titulo-45.jpg
END:VEVENT
END:VCALENDAR