BEGIN:VCALENDAR
VERSION:2.0
PRODID:-//SevillaLover - ECPv6.15.16.1//NONSGML v1.0//EN
CALSCALE:GREGORIAN
METHOD:PUBLISH
X-WR-CALNAME:SevillaLover
X-ORIGINAL-URL:https://sevillalover.com
X-WR-CALDESC:Eventos para SevillaLover
REFRESH-INTERVAL;VALUE=DURATION:PT1H
X-Robots-Tag:noindex
X-PUBLISHED-TTL:PT1H
BEGIN:VTIMEZONE
TZID:UTC
BEGIN:STANDARD
TZOFFSETFROM:+0000
TZOFFSETTO:+0000
TZNAME:UTC
DTSTART:20240101T000000
END:STANDARD
END:VTIMEZONE
BEGIN:VEVENT
DTSTART;TZID=UTC:20250323T180000
DTEND;TZID=UTC:20250323T193000
DTSTAMP:20260422T220405
CREATED:20250318T103735Z
LAST-MODIFIED:20250318T103735Z
UID:14072-1742752800-1742758200@sevillalover.com
SUMMARY:El Palermasso – Función principal
DESCRIPTION:🎭 El Palermasso: La cofradía más irreverente vuelve al teatro 😂✨\nLa cofradía de El Palermasso está lista para su salida procesional\, pero nada es lo que parece… La mala gestión de la anterior Junta de Gobierno ha desatado envidias\, luchas internas y traiciones dignas de un culebrón. Entre besos como los de Judas y puñales de plata por la espalda\, la Hermandad está más dividida que nunca. \nPara colmo\, el nuevo Hermano Mayor ha conseguido que el Papa Francisco bendiga a toda la corporación en persona. En un ambiente de caos y rivalidad\, los miembros de El Palermasso intentan salvar la jornada sin que todo salga mal. \nTras el éxito de su estreno\, El Palermasso vuelve a los teatros con una puesta en escena que mantiene el espíritu de su famosa webserie original. Con una mezcla de humor cofrade\, sátira y enredos\, la obra promete risas sin parar durante 90 minutos. \n🎭 ¿Por qué no perderse esta obra?\n😂 Humor cofrade sin filtros – Una sátira desternillante sobre las Hermandades.🙌 Un fenómeno que vuelve al teatro – Tras su exitoso estreno\, regresa con más risas.🔥 Intriga y comedia en 90 minutos – Traiciones\, enredos y un Papa en camino. \n📍 Detalles del evento:\n📅 Fecha: Viernes 21 de marzo de 2025⏰ Hora: 21:00 h⏳ Duración: 1h 30min📌 Lugar: Auditorio / Teatro de La Cartuja \n Entradas disponibles en la web oficial.🎟 Precios según la ubicación: \n\n🪑 Zona 1: 28€\n🪑 Zona 2: 25€\n🪑 Zona 3: 22€\n🪑 Zona 4: 20€\n🪑 Zona 5: 18€👶 Edad recomendada: Mayores de 5 años\n\n✨ No te pierdas esta comedia única que promete carcajadas de principio a fin. \n🔍 ¿Buscas más espectáculos?\n Pulsa aquí y busca la que más se adapte a tí.
URL:https://sevillalover.com/evento/el-palermasso-funcion-principal/
LOCATION:CARTUJA CENTER CITE\, C/ Leonardo da Vinci\, 7.\, Sevilla\, Sevilla\, 41092\, España
CATEGORIES:COMEDIA,COMEDY,CULTURA,CULTURE,ESPECTACULOS,NOCHE,SPECTACULOS,TEATRO,THEATER
ATTACH;FMTTYPE=image/webp:https://sevillalover.com/wp-content/uploads/2025/03/El-Palermasso-2-1920x1080-2.webp
END:VEVENT
END:VCALENDAR