BEGIN:VCALENDAR
VERSION:2.0
PRODID:-//SevillaLover - ECPv6.15.16.1//NONSGML v1.0//EN
CALSCALE:GREGORIAN
METHOD:PUBLISH
X-ORIGINAL-URL:https://sevillalover.com
X-WR-CALDESC:Eventos para SevillaLover
REFRESH-INTERVAL;VALUE=DURATION:PT1H
X-Robots-Tag:noindex
X-PUBLISHED-TTL:PT1H
BEGIN:VTIMEZONE
TZID:UTC
BEGIN:STANDARD
TZOFFSETFROM:+0000
TZOFFSETTO:+0000
TZNAME:UTC
DTSTART:20250101T000000
END:STANDARD
END:VTIMEZONE
BEGIN:VEVENT
DTSTART;VALUE=DATE:20260603
DTEND;VALUE=DATE:20260605
DTSTAMP:20260421T012756
CREATED:20260213T081413Z
LAST-MODIFIED:20260213T081413Z
UID:16501-1780444800-1780617599@sevillalover.com
SUMMARY:Entradas Quieto Todo el Mundo en Sevilla
DESCRIPTION:“Quieto todo el mundo” es el último proyecto de Facu Díaz y Miguel Maldonado. Las noticias gobiernan el mundo y ellos se dedican a despedazarlas en este show semanal\, pensado para plataformas digitales pero que ya se ha ganado el derecho a disfrutarse en directo. \nTras 10 años de carrera juntos\, se ponen frente a una impresora de la que emergen (o no) noticias recientes (o no)\, que son analizadas sobre la marcha con improvisación total\, mínimo rigor y un objetivo claro: provocar carcajadas. \nCon casi 100 ediciones a sus espaldas\, “Quieto todo el mundo” inicia su primera gira por España\, dispuesto a informar y entretener… y\, sobre todo\, a divertirse a costa de todo.
URL:https://sevillalover.com/evento/entradas-quieto-todo-el-mundo-en-sevilla/
LOCATION:AUDITORIO CARTUJA\, C. Albert Einstein\, s/n\, Sevilla\, Sevilla\, 41092\, España
CATEGORIES:CULTURA
ATTACH;FMTTYPE=image/webp:https://sevillalover.com/wp-content/uploads/2026/02/facu-diaz-y-miguel-maldonado.webp
END:VEVENT
END:VCALENDAR