BEGIN:VCALENDAR
VERSION:2.0
PRODID:-//SevillaLover - ECPv6.15.16.1//NONSGML v1.0//EN
CALSCALE:GREGORIAN
METHOD:PUBLISH
X-ORIGINAL-URL:https://sevillalover.com
X-WR-CALDESC:Eventos para SevillaLover
REFRESH-INTERVAL;VALUE=DURATION:PT1H
X-Robots-Tag:noindex
X-PUBLISHED-TTL:PT1H
BEGIN:VTIMEZONE
TZID:UTC
BEGIN:STANDARD
TZOFFSETFROM:+0000
TZOFFSETTO:+0000
TZNAME:UTC
DTSTART:20240101T000000
END:STANDARD
END:VTIMEZONE
BEGIN:VEVENT
DTSTART;TZID=UTC:20250329T203000
DTEND;TZID=UTC:20250329T213000
DTSTAMP:20260421T181742
CREATED:20250302T192240Z
LAST-MODIFIED:20250302T192240Z
UID:13964-1743280200-1743283800@sevillalover.com
SUMMARY:Patricia Espejo
DESCRIPTION:¡No te pierdas a Patricia Espejo en el Teatro de Triana! 😂🎭\nSi te encanta el humor diferente\, inteligente y cargado de situaciones surrealistas\, «Comedia de la buena» con Patricia Espejo es el espectáculo que necesitas. El próximo sábado 6 de abril de 2025 a las 20:00 horas\, el Teatro de Triana será el epicentro de las risas con una de las cómicas más originales y brillantes del momento. \nPatricia Espejo no es una humorista cualquiera. Su forma única de ver la realidad\, su humor absurdo y su capacidad para convertir lo cotidiano en algo inesperado la han convertido en una de las grandes referencias de la comedia en España. Ha participado en programas como «El Club de la Comedia»\, «Sopa de Gansos»\, «Late Motiv» y «La Resistencia»\, dejando siempre su sello personal en cada aparición. \nSu espectáculo «Comedia de la buena» es una oportunidad para desconectar de la rutina y sumergirte en un monólogo diferente\, donde el ingenio y la locura van de la mano. Patricia rompe con los tópicos del stand-up tradicional y transforma cada historia en una experiencia única\, sacando carcajadas con sus ocurrencias inesperadas y su estilo tan peculiar. \n¿Por qué no puedes faltar a este show?\n😂 Un monólogo único y diferente\, que juega con lo absurdo de la vida cotidiana.🎭 Una de las humoristas más destacadas de la actualidad\, con un estilo inconfundible.🔥 Un espectáculo sin filtros\, donde la risa está garantizada de principio a fin.🏛 El Teatro de Triana\, un espacio acogedor que hará que disfrutes aún más de esta experiencia.🎟 Las entradas están volando\, ¡asegura la tuya antes de que se agoten! \n📍 Detalles del evento:📅 Fecha: Sábado\, 6 de abril de 2025⏰ Horario: 20:00 horas📌 Lugar: Teatro de Triana\, Calle Condes de Bustillo 17\, Sevilla🎟 Entradas: Disponibles en la web oficial y en taquilla antes del evento. \nNo te lo pienses más. Ven a disfrutar de una noche de risas inolvidable con Patricia Espejo. Consulta más información y consigue tus entradas en elteatrodetriana.com.
URL:https://sevillalover.com/evento/patricia-espejo/
LOCATION:Teatro Triana\, C. Condes de Bustillo\, 17\, Sevilla\, Sevilla\, 41010\, Spain
CATEGORIES:COMEDIA,CULTURA
ATTACH;FMTTYPE=image/png:https://sevillalover.com/wp-content/uploads/2025/03/Diseno-sin-titulo-12.png
END:VEVENT
BEGIN:VEVENT
DTSTART;TZID=UTC:20250330T180000
DTEND;TZID=UTC:20250330T200000
DTSTAMP:20260421T181742
CREATED:20250302T193451Z
LAST-MODIFIED:20250302T193451Z
UID:13967-1743357600-1743364800@sevillalover.com
SUMMARY:Comedy Padel Tour con Abraham Martín
DESCRIPTION:¡Risas y pádel se unen en el Comedy Padel Tour con Abraham Martín! 🎾😂\nSi te encanta el pádel y disfrutas del buen humor\, prepárate para un espectáculo único que no te dejará indiferente. El domingo 13 de abril de 2025 a las 18:00 horas\, el Teatro de Triana se convierte en la pista más divertida de Sevilla con el Comedy Padel Tour\, protagonizado por el desternillante Abraham Martín. \nEste monologuista\, conocido por su ingenio y su capacidad para hacer reír a cualquier público\, nos trae un show donde el mundo del deporte y la comedia se fusionan de una manera completamente nueva. Si creías que el pádel solo se jugaba en la pista\, espera a ver lo que Abraham tiene preparado en el escenario. \nDesde anécdotas surrealistas sobre partidos imposibles\, hasta las situaciones más disparatadas que cualquier aficionado al pádel ha vivido alguna vez\, Abraham Martín promete una noche de carcajadas aseguradas. Ya seas un profesional del pádel\, un jugador de fin de semana o simplemente alguien que necesita reírse un rato\, este espectáculo es para ti. \n¿Por qué no puedes faltar a este show?\n🎭 Un monólogo diferente\, donde el deporte y la comedia se dan la mano.🎾 El pádel como nunca lo has visto\, con anécdotas y situaciones que te harán llorar de risa.😂 Humor fresco y directo\, sin rodeos y con mucha improvisación.🏛 El Teatro de Triana\, un espacio ideal para disfrutar de una tarde llena de entretenimiento.🎟 Aforo limitado\, ¡hazte con tu entrada antes de que se agoten! \n📍 Detalles del evento:📅 Fecha: Domingo\, 13 de abril de 2025⏰ Horario: 18:00 horas📌 Lugar: Teatro de Triana\, Calle Condes de Bustillo 17\, Sevilla🎟 Entradas: A la venta en la web oficial y en taquilla antes del evento. \nNo te lo pienses más. Vive una tarde diferente y disfruta del mejor humor con Abraham Martín en el Comedy Padel Tour. Consulta más información y consigue tus entradas en elteatrodetriana.com.
URL:https://sevillalover.com/evento/comedy-padel-tour-con-abraham-martin/
LOCATION:Teatro Triana\, C. Condes de Bustillo\, 17\, Sevilla\, Sevilla\, 41010\, Spain
CATEGORIES:COMEDIA,CULTURA
ATTACH;FMTTYPE=image/png:https://sevillalover.com/wp-content/uploads/2025/03/Diseno-sin-titulo-13.png
END:VEVENT
END:VCALENDAR