BEGIN:VCALENDAR
VERSION:2.0
PRODID:-//SevillaLover - ECPv6.15.16.1//NONSGML v1.0//EN
CALSCALE:GREGORIAN
METHOD:PUBLISH
X-ORIGINAL-URL:https://sevillalover.com
X-WR-CALDESC:Eventos para SevillaLover
REFRESH-INTERVAL;VALUE=DURATION:PT1H
X-Robots-Tag:noindex
X-PUBLISHED-TTL:PT1H
BEGIN:VTIMEZONE
TZID:UTC
BEGIN:STANDARD
TZOFFSETFROM:+0000
TZOFFSETTO:+0000
TZNAME:UTC
DTSTART:20230101T000000
END:STANDARD
END:VTIMEZONE
BEGIN:VEVENT
DTSTART;TZID=UTC:20240920T230000
DTEND;TZID=UTC:20240920T230000
DTSTAMP:20260423T140328
CREATED:20240909T110654Z
LAST-MODIFIED:20240909T111653Z
UID:13269-1726873200-1726873200@sevillalover.com
SUMMARY:Puente Mágico
DESCRIPTION:«Puente Mágico»: El Encuentro Único de Gualberto y Ricardo Miño en la Bienal\nEl 21 de septiembre de 2024\, el Muelle Camaronero acogerá a Gualberto y Ricardo Miño en su espectáculo «Puente Mágico»\, parte de la XXIII Bienal de Flamenco de Sevilla. Este evento será un viaje musical que fusiona la guitarra flamenca de Miño con el sitar de Gualberto\, creando una mezcla única de flamenco y sonidos experimentales. Con el río Guadalquivir como escenario\, los asistentes vivirán una experiencia sonora donde tradición y vanguardia se encuentran\, en una de las noches más esperadas de la Bienal. \nGualberto\, pionero en fusionar flamenco con instrumentos poco convencionales\, y Ricardo Miño\, virtuoso de la guitarra\, llevan años explorando nuevos territorios sonoros. En «Puente Mágico»\, ambos músicos celebran su amistad artística y su amor por el flamenco\, pero con una mirada moderna y experimental que sorprenderá al público. Este espectáculo no es solo una demostración de talento musical\, sino una reflexión sobre los lazos entre culturas\, épocas y estilos. \nEl Muelle Camaronero\, con su atmósfera especial junto al Guadalquivir\, es el lugar perfecto para este tipo de propuesta\, ya que ofrece una conexión entre la tradición y la modernidad\, evocando el puente simbólico que ambos artistas crean a través de su música. Las cuerdas de la guitarra de Miño y los sonidos envolventes del sitar de Gualberto se entrelazarán para ofrecer una experiencia sensorial única. \nEste concierto es ideal para quienes desean explorar nuevas interpretaciones del flamenco\, donde la innovación y la tradición se mezclan de manera armoniosa. «Puente Mágico» promete ser una noche de música emocionante y llena de sorpresas\, donde el flamenco se convierte en un lenguaje universal. \nNo te pierdas este encuentro irrepetible entre dos maestros de la música. ¡Te esperamos para vivir una noche mágica! \nGracias y te esperamos en Sevilla. \nWeb: www.sevillalover.com\nInstagram: @sevillalovercom\nDar de alta tu empresa en sevillalover.com: 661 35 92 95\nDar de alta gratuitamente tu evento en nuestro calendario: eventos@sevillalover.com
URL:https://sevillalover.com/evento/puente-magico/
LOCATION:Muelle Camaronero\, Calle Betis\, Sevilla\, Sevilla\, 41010\, España
CATEGORIES:MUSICAL,TEATRO
ATTACH;FMTTYPE=image/jpeg:https://sevillalover.com/wp-content/uploads/2024/09/Diseno-sin-titulo-48.jpg
END:VEVENT
END:VCALENDAR