BEGIN:VCALENDAR
VERSION:2.0
PRODID:-//SevillaLover - ECPv6.15.16.1//NONSGML v1.0//EN
CALSCALE:GREGORIAN
METHOD:PUBLISH
X-WR-CALNAME:SevillaLover
X-ORIGINAL-URL:https://sevillalover.com
X-WR-CALDESC:Eventos para SevillaLover
REFRESH-INTERVAL;VALUE=DURATION:PT1H
X-Robots-Tag:noindex
X-PUBLISHED-TTL:PT1H
BEGIN:VTIMEZONE
TZID:UTC
BEGIN:STANDARD
TZOFFSETFROM:+0000
TZOFFSETTO:+0000
TZNAME:UTC
DTSTART:20230101T000000
END:STANDARD
END:VTIMEZONE
BEGIN:VEVENT
DTSTART;TZID=UTC:20240909T080000
DTEND;TZID=UTC:20240909T170000
DTSTAMP:20260423T123314
CREATED:20240909T111712Z
LAST-MODIFIED:20240909T112734Z
UID:13272-1725868800-1725901200@sevillalover.com
SUMMARY:"Algoritmo": El Flamenco del Futuro en la Bienal de Sevilla
DESCRIPTION:«Algoritmo»: El Flamenco del Futuro en la Bienal de Sevilla\nEl 21 de septiembre de 2024\, el Espacio Turina será testigo del innovador espectáculo «Algoritmo»\, protagonizado por tres jóvenes figuras del flamenco: José del Tomate\, Joni Jiménez e Ismael de la Rosa «El Bola». Estos artistas combinan tradición y modernidad\, mostrando la evolución del flamenco con frescura y creatividad. Con el virtuosismo de las guitarras de José del Tomate y Joni Jiménez\, junto al poderoso cante de Ismael de la Rosa\, el espectáculo promete emocionar a quienes busquen lo mejor del flamenco actual. \n«Algoritmo» es una exploración artística donde los tres jóvenes talentos desafían los límites del flamenco sin perder su esencia. José del Tomate\, heredero del toque clásico de su padre\, Tomatito\, aportará su técnica impecable y sensibilidad a las cuerdas. Joni Jiménez\, conocido por su capacidad para innovar dentro del flamenco tradicional\, sorprenderá con sus composiciones llenas de matices y energía. Y Ismael de la Rosa «El Bola»\, cuya voz encarna el cante jondo más puro\, añadirá una intensidad única con su poderoso eco\, elevando cada momento del espectáculo a nuevas alturas. \nCon un enfoque que combina los elementos más clásicos del flamenco con una perspectiva vanguardista\, «Algoritmo» promete ser un encuentro entre lo antiguo y lo nuevo\, ofreciendo una visión de hacia dónde se dirige el flamenco en las manos de la nueva generación de artistas. Este espectáculo es una oportunidad para los amantes del flamenco que deseen experimentar cómo los jóvenes están llevando este arte a un nuevo nivel. \nEl Espacio Turina\, con su ambiente íntimo y acústica excepcional\, será el lugar perfecto para esta fusión de talentos. No te pierdas esta ocasión única para disfrutar del futuro del flamenco en directo\, de la mano de tres de los artistas más prometedores del panorama actual. \nGracias y te esperamos en Sevilla. \nWeb: www.sevillalover.com\nInstagram: @sevillalovercom\nDar de alta tu empresa en sevillalover.com: 661 35 92 95\nDar de alta gratuitamente tu evento en nuestro calendario: eventos@sevillalover.com
URL:https://sevillalover.com/evento/algoritmo-el-flamenco-del-futuro-en-la-bienal-de-sevilla/
LOCATION:ESPACIO TURINA\, C. Laraña\, 4\, Casco Antiguo\, Sevilla\, Sevilla\, 41003\, España
CATEGORIES:MUSICAL,TEATRO
ATTACH;FMTTYPE=image/jpeg:https://sevillalover.com/wp-content/uploads/2024/09/Diseno-sin-titulo-49.jpg
END:VEVENT
END:VCALENDAR