BEGIN:VCALENDAR
VERSION:2.0
PRODID:-//SevillaLover - ECPv6.15.16.1//NONSGML v1.0//EN
CALSCALE:GREGORIAN
METHOD:PUBLISH
X-ORIGINAL-URL:https://sevillalover.com
X-WR-CALDESC:Eventos para SevillaLover
REFRESH-INTERVAL;VALUE=DURATION:PT1H
X-Robots-Tag:noindex
X-PUBLISHED-TTL:PT1H
BEGIN:VTIMEZONE
TZID:UTC
BEGIN:STANDARD
TZOFFSETFROM:+0000
TZOFFSETTO:+0000
TZNAME:UTC
DTSTART:20230101T000000
END:STANDARD
END:VTIMEZONE
BEGIN:VEVENT
DTSTART;TZID=UTC:20240919T203000
DTEND;TZID=UTC:20240919T203000
DTSTAMP:20260423T151810
CREATED:20240909T093650Z
LAST-MODIFIED:20240909T095000Z
UID:13256-1726777800-1726777800@sevillalover.com
SUMMARY:Rafael de Utrera
DESCRIPTION:Rafael de Utrera presenta «Fui piedra»: Una noche de cante profundo en la Bienal\nEl 19 de septiembre de 2024\, el Auditorio Cartuja será escenario del espectáculo «Fui piedra»\, un estreno absoluto protagonizado por Rafael de Utrera en la XXIII Bienal de Flamenco de Sevilla. Este espectáculo toma su inspiración de la famosa copla «Fui piedra»\, explorando la metáfora de la búsqueda del centro y la transformación personal a través del cante jondo. Acompañado por guitarras de renombre como Dani de Morón y un elenco de destacados músicos\, Utrera promete una velada llena de emoción y arte flamenco. \nEn «Fui piedra»\, Utrera profundiza en su trayectoria artística y personal\, rindiendo homenaje a sus raíces flamencas en Utrera\, cuna de grandes cantaores. El espectáculo promete un recorrido por los palos más tradicionales del flamenco\, desde soleás hasta bulerías\, con una interpretación que captura la esencia del flamenco más puro y emotivo. \nAdemás de las guitarras de Dani de Morón y Pepe Fernández\, la percusión de Paquito González aportará el ritmo perfecto\, mientras que un grupo de palmeros de renombre completará el ambiente sonoro. El espectáculo contará también con la colaboración especial de la bailaora Carmen Lozano y otros artistas invitados que añadirán una dimensión visual y rítmica a la actuación. \n«Fui piedra» es una cita imprescindible para quienes deseen experimentar el cante jondo en su forma más auténtica y vibrante\, en un espectáculo que une tradición y modernidad\, todo ello en el marco incomparable de la Bienal de Flamenco de Sevilla. \nGracias y te esperamos en Sevilla. \nWeb: www.sevillalover.com\nInstagram: @sevillalovercom\nDar de alta tu empresa en sevillalover.com: 661 35 92 95\nDar de alta gratuitamente tu evento en nuestro calendario: eventos@sevillalover.com
URL:https://sevillalover.com/evento/rafael-de-utrera/
LOCATION:AUDITORIO NISSAN CARTUJA\, Calle Albert Einstein\, Sevilla\, Sevilla\, 41092\, España
CATEGORIES:MUSICAL,TEATRO
ATTACH;FMTTYPE=image/jpeg:https://sevillalover.com/wp-content/uploads/2024/09/Diseno-sin-titulo-44.jpg
END:VEVENT
END:VCALENDAR