BEGIN:VCALENDAR
VERSION:2.0
PRODID:-//SevillaLover - ECPv6.15.16.1//NONSGML v1.0//EN
CALSCALE:GREGORIAN
METHOD:PUBLISH
X-ORIGINAL-URL:https://sevillalover.com
X-WR-CALDESC:Eventos para SevillaLover
REFRESH-INTERVAL;VALUE=DURATION:PT1H
X-Robots-Tag:noindex
X-PUBLISHED-TTL:PT1H
BEGIN:VTIMEZONE
TZID:UTC
BEGIN:STANDARD
TZOFFSETFROM:+0000
TZOFFSETTO:+0000
TZNAME:UTC
DTSTART:20250101T000000
END:STANDARD
END:VTIMEZONE
BEGIN:VEVENT
DTSTART;TZID=UTC:20260211T193000
DTEND;TZID=UTC:20261231T210000
DTSTAMP:20260425T015324
CREATED:20260211T080611Z
LAST-MODIFIED:20260211T090343Z
UID:16257-1770838200-1798750800@sevillalover.com
SUMMARY:Casa Duende Tablao Flamenco en Sevilla
DESCRIPTION:CASA DUENDE – 55470925PCASA DUENDE – 55470925PCasa Duende: \nEl alma del flamenco \nBaile\, cante y guitarra se funden con la emoción del público para hacer surgir el Duende\, esa fuerza que trasciende la técnica. Tradición y vanguardia se entrelazan para ofrecer experiencias auténticas e inolvidables. Ven\, descubre y vive la esencia del flamenco en un espacio íntimo\, acogedor y rebosante de arte. \nEntradas ya disponibles para el espectáculo Casa Duende Tablao Flamenco\, que se celebrará en el espacio Casa Duende Tablao de Sevilla.
URL:https://sevillalover.com/evento/casa-duende-tablao-flamenco-en-sevilla/
LOCATION:Casa Duende Tablao\, c/ Corral del Rey\, 22 - Sevilla 41004 Sevilla\, Sevilla\, Andalucía\, 41004\, Spain
CATEGORIES:TEATRO
ATTACH;FMTTYPE=image/jpeg:https://sevillalover.com/wp-content/uploads/2026/02/cas-tablao.jpeg
END:VEVENT
BEGIN:VEVENT
DTSTART;VALUE=DATE:20260613
DTEND;VALUE=DATE:20261019
DTSTAMP:20260425T015324
CREATED:20260213T083510Z
LAST-MODIFIED:20260326T093742Z
UID:16511-1781308800-1792367999@sevillalover.com
SUMMARY:Concierto Manuel Carrasco en Sevilla
DESCRIPTION:Manuel presenta “SALVAJE DESDE LA RAÍZ”\, un proyecto único que se hará realidad en 2026 con cuatro conciertos en el Estadio La Cartuja de Sevilla. Se trata de una propuesta sin precedentes en España: por primera vez\, un artista español convierte un estadio en residencia durante cuatro noches\, dedicando cada una a uno de sus álbumes lanzados en la última década: Bailar el viento\, La cruz del mapa\, Corazón y flecha y Pueblo salvaje. \n\n\n\n\n\n\n\n\n\nORGANIZADORES: \n  \nABONO: KABUKI MUSIC\,S.L. – B72850720 \n13/06/2026: KABUKI MUSIC\,S.L. – B72850720 \n14/06/2026: Riff Records\, S.L.U. – B56020159 \n19/06/2026: Capeando la Mar S.L.U\, – B-56161730 \n20/06/2026: NAZARI FLOW S.L.U\, – B21932884
URL:https://sevillalover.com/evento/concierto-manuel-carrasco-en-sevilla/
LOCATION:Estadio de la Cartuja\, Isla de la Cartuja\, sector norte\, 41092 Sevilla\, Sevilla\, Andalucía\, 41092\, Spain
CATEGORIES:CONCIERTOS,POP
ATTACH;FMTTYPE=image/jpeg:https://sevillalover.com/wp-content/uploads/2026/02/manuel-carrasco-sevilla-400x504-002.jpeg
END:VEVENT
END:VCALENDAR