BEGIN:VCALENDAR
VERSION:2.0
PRODID:-//SevillaLover - ECPv6.15.16.1//NONSGML v1.0//EN
CALSCALE:GREGORIAN
METHOD:PUBLISH
X-ORIGINAL-URL:https://sevillalover.com
X-WR-CALDESC:Eventos para SevillaLover
REFRESH-INTERVAL;VALUE=DURATION:PT1H
X-Robots-Tag:noindex
X-PUBLISHED-TTL:PT1H
BEGIN:VTIMEZONE
TZID:UTC
BEGIN:STANDARD
TZOFFSETFROM:+0000
TZOFFSETTO:+0000
TZNAME:UTC
DTSTART:20250101T000000
END:STANDARD
END:VTIMEZONE
BEGIN:VEVENT
DTSTART;VALUE=DATE:20260211
DTEND;VALUE=DATE:20260301
DTSTAMP:20260424T225156
CREATED:20260211T083117Z
LAST-MODIFIED:20260211T090545Z
UID:16263-1770768000-1772323199@sevillalover.com
SUMMARY:Entradas Sevilla FC Stadium Tour en Sevilla
DESCRIPTION:Bienvenidos al tour del rey de la Europa League\, el estadio del Sevilla FC\, un recinto emblemático que ha vivido noches históricas y grandes triunfos. \nDescubre cómo transcurre el día a día del equipo\, recorre los vestuarios\, cruza el túnel por el que salen tus ídolos\, pisa el césped o toma asiento en la sala de prensa. Disfrutarás de una visita exclusiva por espacios privilegiados del Ramón Sánchez-Pizjuán y sentirás de cerca la pasión que define al club de Nervión.
URL:https://sevillalover.com/evento/entradas-sevilla-fc-stadium-tour-en-sevilla/
LOCATION:Estadio Ramón Sánchez-Pizjuán\, C. Sevilla Fútbol Club\, s/n\, Sevilla\, Andalucía\, 41005\, Spain
CATEGORIES:CULTURA
ATTACH;FMTTYPE=image/webp:https://sevillalover.com/wp-content/uploads/2026/02/Pizjuan.jpg.webp
END:VEVENT
BEGIN:VEVENT
DTSTART;VALUE=DATE:20260211
DTEND;VALUE=DATE:20260309
DTSTAMP:20260424T225156
CREATED:20260211T084825Z
LAST-MODIFIED:20260211T090449Z
UID:16269-1770768000-1773014399@sevillalover.com
SUMMARY:Cirque Du Soleil - Kurios en Sevilla
DESCRIPTION:Un Buscador está convencido de que en su inmenso gabinete de curiosidades existe un universo oculto e invisible\, repleto de ideas extravagantes y sueños extraordinarios. Cuando personajes procedentes de otro mundo irrumpen en su particular universo mecánico\, tratan de despertar su imaginación revolucionando su realidad y aportando una dosis de humor y poesía. Al mismo tiempo\, sus curiosidades comienzan a cobrar vida ante sus propios ojos\, una tras otra.
URL:https://sevillalover.com/evento/cirque-du-soleil-kurios-en-sevilla/
LOCATION:Bajo la Gran Carpa. Sevilla\, Triana\, Parque Vega de\, Ctra. Cádiz-Huelva\, s/n\, Sevilla\, Andalucía\, 41010\, Spain
CATEGORIES:TEATRO
ATTACH;FMTTYPE=image/avif:https://sevillalover.com/wp-content/uploads/2026/02/cirque-du-soleil-kurios-share-1200x630-en.avif
END:VEVENT
BEGIN:VEVENT
DTSTART;TZID=UTC:20260211T193000
DTEND;TZID=UTC:20261231T210000
DTSTAMP:20260424T225156
CREATED:20260211T080611Z
LAST-MODIFIED:20260211T090343Z
UID:16257-1770838200-1798750800@sevillalover.com
SUMMARY:Casa Duende Tablao Flamenco en Sevilla
DESCRIPTION:CASA DUENDE – 55470925PCASA DUENDE – 55470925PCasa Duende: \nEl alma del flamenco \nBaile\, cante y guitarra se funden con la emoción del público para hacer surgir el Duende\, esa fuerza que trasciende la técnica. Tradición y vanguardia se entrelazan para ofrecer experiencias auténticas e inolvidables. Ven\, descubre y vive la esencia del flamenco en un espacio íntimo\, acogedor y rebosante de arte. \nEntradas ya disponibles para el espectáculo Casa Duende Tablao Flamenco\, que se celebrará en el espacio Casa Duende Tablao de Sevilla.
URL:https://sevillalover.com/evento/casa-duende-tablao-flamenco-en-sevilla/
LOCATION:Casa Duende Tablao\, c/ Corral del Rey\, 22 - Sevilla 41004 Sevilla\, Sevilla\, Andalucía\, 41004\, Spain
CATEGORIES:TEATRO
ATTACH;FMTTYPE=image/jpeg:https://sevillalover.com/wp-content/uploads/2026/02/cas-tablao.jpeg
END:VEVENT
BEGIN:VEVENT
DTSTART;TZID=UTC:20260214T180000
DTEND;TZID=UTC:20260214T191500
DTSTAMP:20260424T225156
CREATED:20260211T100149Z
LAST-MODIFIED:20260211T100149Z
UID:16292-1771092000-1771096500@sevillalover.com
SUMMARY:Tabú en Sevilla
DESCRIPTION:Tabú es un espectáculo de stand-up comedy donde Dani Alés explora al máximo los límites de aquello que normalmente no se puede bromear. \nEn Tabú\, Dani nos presenta su show más cínico\, auténtico\, exagerado\, ecléctico y lleno de palabras esdrújulas que\, francamente\, nadie sabe muy bien qué significan. Un cóctel desenfrenado de situaciones absurdas\, temas atrevidos\, perspectivas originales y un montón de chistes que hacen cosquillas a tu inteligencia. Una vertiginosa batalla entre ingenio y honestidad\, un auténtico incendio de stand-up puro y sin filtros.
URL:https://sevillalover.com/evento/tabu-en-sevilla/
LOCATION:cuatro gatos\, C. de Madre Dolores Márquez\, 11\, E\, Casco Antiguo\, Sevilla\, Sevilla\, 41807\, España
CATEGORIES:TEATRO
ATTACH;FMTTYPE=image/jpeg:https://sevillalover.com/wp-content/uploads/2026/02/DaniAles_400x504.jpeg
END:VEVENT
BEGIN:VEVENT
DTSTART;VALUE=DATE:20260215
DTEND;VALUE=DATE:20260524
DTSTAMP:20260424T225156
CREATED:20260211T113505Z
LAST-MODIFIED:20260211T113505Z
UID:16310-1771113600-1779580799@sevillalover.com
SUMMARY:La Impro Verbena en Sevilla
DESCRIPTION:¡La improvisación y la comedia regresan a La Sala\, el mítico espacio de entretenimiento y cultura de Sevilla\, recién reacondicionado y listo para recibir a Impro Verbena! De la mano de los cómicos e improvisadores Pabloshurmano y Nacho Terceño (actores y humoristas con amplia trayectoria y ganadores de la Liga de Improvisación Andaluza)\, disfrutarás de un espectáculo único lleno de humor\, con juegos de improvisación clásicos y nuevos\, monólogos\, sketches y mucho más. ¡El mejor plan en Sevilla para pasar tus noches de fin de semana riendo a carcajadas! \nCompra tus entradas VIP y vive el show con privilegios exclusivos y sorpresas especiales que solo se revelarán durante la función. ¡Qué intriga\, ¿verdad?!
URL:https://sevillalover.com/evento/la-impro-verbena-en-sevilla/
LOCATION:LA SALA – SEVILLA\, C. Aniceto Sáenz\, 1\, 41003 Sevilla\, Sevilla\, Sevilla\, 41003\, España
CATEGORIES:TEATRO
ATTACH;FMTTYPE=image/avif:https://sevillalover.com/wp-content/uploads/2026/02/1740342.avif
END:VEVENT
BEGIN:VEVENT
DTSTART;TZID=UTC:20260215T190000
DTEND;TZID=UTC:20260215T201500
DTSTAMP:20260424T225156
CREATED:20260211T112252Z
LAST-MODIFIED:20260211T112252Z
UID:16307-1771182000-1771186500@sevillalover.com
SUMMARY:Sólo Para Parejas - Alex Salaberri en Sevilla
DESCRIPTION:Llega por primera vez a Sevilla Solo para Parejas\, el show de humor de Alex Salaberri. \nSolo para Parejas es un espectáculo de stand-up de una hora diseñado para que las parejas rían sin parar. Un show perfecto para disfrutar en pareja\, con risas aseguradas del principio al fin. ¡No te pierdas esta divertida propuesta de Alex Salaberri! \n¿Quieres sorprender a tu pareja con un plan original y divertido? \nEste espectáculo es ideal para parejas que quieran disfrutar de una velada llena de humor\, diversión y momentos inolvidables juntos.
URL:https://sevillalover.com/evento/solo-para-parejas-alex-salaberri-en-sevilla/
LOCATION:AUDITORIO CARTUJA\, C. Albert Einstein\, s/n\, Sevilla\, Sevilla\, 41092\, España
CATEGORIES:TEATRO
ATTACH;FMTTYPE=image/jpeg:https://sevillalover.com/wp-content/uploads/2026/02/solo-para-parejas-8211-alex-salaberri-en-sevilla.jpeg
END:VEVENT
BEGIN:VEVENT
DTSTART;TZID=UTC:20260215T193000
DTEND;TZID=UTC:20260215T210000
DTSTAMP:20260424T225156
CREATED:20260211T111422Z
LAST-MODIFIED:20260211T111422Z
UID:16304-1771183800-1771189200@sevillalover.com
SUMMARY:El Show de Edén Serrano en Sevilla
DESCRIPTION:Con un estilo propio\, directo y afilado\, Edén te hará reír sin descanso mientras aborda\, sin filtros\, temas como el amor\, la familia\, los prejuicios\, lo absurdo de la vida diaria o la actualidad. Humor inteligente\, reflexiones originales y anécdotas inesperadas se entrelazan en un show fresco y diferente\, con toques de humor negro y momentos de interacción con el público. ¡No te pierdas esta función única y disfruta de una noche de risas sin censura!
URL:https://sevillalover.com/evento/el-show-de-eden-serrano-en-sevilla/
LOCATION:Teatro Triana\, C. Condes de Bustillo\, 17\, Sevilla\, Sevilla\, 41010\, Spain
CATEGORIES:TEATRO
ATTACH;FMTTYPE=image/jpeg:https://sevillalover.com/wp-content/uploads/2026/02/EDEN-SERRANO-LOGRONO-A3-copia_sin_texto_CENTRADO.jpeg
END:VEVENT
BEGIN:VEVENT
DTSTART;VALUE=DATE:20260226
DTEND;VALUE=DATE:20260619
DTSTAMP:20260424T225156
CREATED:20260211T123802Z
LAST-MODIFIED:20260211T123802Z
UID:16326-1772064000-1781827199@sevillalover.com
SUMMARY:Todo por los jajas en Sevilla
DESCRIPTION:¡Ven a descubrir el show de comedia que está transformando las noches de los miércoles en Sevilla! \nEn cada función podrás disfrutar de una selección de los mejores cómicos de la ciudad\, conducidos por el humorista e influencer Pabloshurmano. No hay mejor plan para animar la semana que una buena dosis de comedia en un ambiente inmejorable\, acompañado de bebidas bien frías en la sala Cuatro Gatos (antiguo Platea Café y Copas)\, uno de los locales de referencia en la capital hispalense. \nMás de cuatro años de éxito y aforos completos respaldan a estos cómicos\, que ahora se reúnen en un nuevo espacio para reinventar el concepto de open mic en la ciudad.
URL:https://sevillalover.com/evento/todo-por-los-jajas-en-sevilla-2/
LOCATION:cuatro gatos\, C. de Madre Dolores Márquez\, 11\, E\, Casco Antiguo\, Sevilla\, Sevilla\, 41807\, España
CATEGORIES:TEATRO
ATTACH;FMTTYPE=image/jpeg:https://sevillalover.com/wp-content/uploads/2026/02/tic_0_0.jpeg
END:VEVENT
BEGIN:VEVENT
DTSTART;TZID=UTC:20260227T210000
DTEND;TZID=UTC:20260227T223000
DTSTAMP:20260424T225156
CREATED:20260211T124712Z
LAST-MODIFIED:20260211T124712Z
UID:16329-1772226000-1772231400@sevillalover.com
SUMMARY:Entradas ¡Acojonado! - Miguel Miguel en Sevilla
DESCRIPTION:¡iAcojonado! es el nuevo espectáculo de Miguel Miguel\, donde recopila todas las experiencias que ha acumulado a lo largo de los años. \nUna mezcla de lo vivido\, lo que estamos viviendo y lo que aún nos queda por afrontar después de los cuarenta\, con todas las “maravillosas” consecuencias que trae esta etapa. Habla de la mala suerte\, de los problemas de ahora y de los que había antes\, porque al final todo cambia… pero no tanto. \nSer el menor de cuatro hermanos le ha servido a Miguel Miguel para aprender a sobrevivir\, como un ñu cruzando el Amazonas. \nMiguel Miguel está acojonado… ¿y tú? Humor\, carcajadas\, chistes y hasta un toque de magia en un mismo espectáculo.
URL:https://sevillalover.com/evento/entradas-acojonado-miguel-miguel-en-sevilla/
LOCATION:AUDITORIO CARTUJA\, C. Albert Einstein\, s/n\, Sevilla\, Sevilla\, 41092\, España
CATEGORIES:CULTURA
ATTACH;FMTTYPE=image/jpeg:https://sevillalover.com/wp-content/uploads/2026/02/20250326091029_17429766293722I6XHm9IF.jpeg
END:VEVENT
BEGIN:VEVENT
DTSTART;TZID=UTC:20260228T180000
DTEND;TZID=UTC:20260228T193000
DTSTAMP:20260424T225156
CREATED:20260211T131633Z
LAST-MODIFIED:20260211T131633Z
UID:16338-1772301600-1772307000@sevillalover.com
SUMMARY:Cajón Desastre - Adri & Rod en Sevilla
DESCRIPTION:Estamos en esa etapa en la que no somos ni jóvenes ni mayores. Una generación que no se ha quedado desfasada\, pero que tampoco pertenece a la última tendencia. \nEse punto intermedio en el que te llaman señor o señora\, aunque tú sigas sintiéndote como alguien de 20… hasta que saltas tres veces seguidas y tu cuerpo te recuerda la realidad. Un show sensible y empático\, pero también con un toque canalla. El público no solo observa\, sino que forma parte del proceso creativo\, dando lugar a una experiencia irrepetible que solo sucede ese día y con esas personas. \nUn formato pensado para CONECTAR de verdad con la gente.
URL:https://sevillalover.com/evento/cajon-desastre-adri-rod-en-sevilla/
LOCATION:cuatro gatos\, C. de Madre Dolores Márquez\, 11\, E\, Casco Antiguo\, Sevilla\, Sevilla\, 41807\, España
CATEGORIES:TEATRO
ATTACH;FMTTYPE=image/jpeg:https://sevillalover.com/wp-content/uploads/2026/02/CajonDesastreSevilla_400x504.jpeg
END:VEVENT
END:VCALENDAR