BEGIN:VCALENDAR
VERSION:2.0
PRODID:-//SevillaLover - ECPv6.15.16.1//NONSGML v1.0//EN
CALSCALE:GREGORIAN
METHOD:PUBLISH
X-ORIGINAL-URL:https://sevillalover.com
X-WR-CALDESC:Eventos para SevillaLover
REFRESH-INTERVAL;VALUE=DURATION:PT1H
X-Robots-Tag:noindex
X-PUBLISHED-TTL:PT1H
BEGIN:VTIMEZONE
TZID:UTC
BEGIN:STANDARD
TZOFFSETFROM:+0000
TZOFFSETTO:+0000
TZNAME:UTC
DTSTART:20240101T000000
END:STANDARD
END:VTIMEZONE
BEGIN:VEVENT
DTSTART;TZID=UTC:20250226T120000
DTEND;TZID=UTC:20250924T120000
DTSTAMP:20260425T155533
CREATED:20250225T125301Z
LAST-MODIFIED:20250226T072630Z
UID:13929-1740571200-1758715200@sevillalover.com
SUMMARY:Ciclo de Música de Cámara ROSS en Sevilla
DESCRIPTION:Ciclo de Música de Cámara ROSS en Sevilla – Una experiencia musical única 🎻🎶\nLa música clásica tiene el poder de emocionar\, inspirar y transportar a otros mundos\, y el Ciclo de Música de Cámara ROSS en Sevilla es la oportunidad perfecta para vivir esta experiencia. Organizado por la Real Orquesta Sinfónica de Sevilla (ROSS)\, este ciclo nos sumerge en un recorrido apasionante por las grandes obras del repertorio de cámara\, interpretadas por músicos excepcionales en un formato íntimo y cercano. \nEste evento destaca por su cuidada selección de piezas\, que abarca desde compositores clásicos hasta obras menos conocidas\, ofreciendo un equilibrio perfecto entre tradición y descubrimiento. Cada concierto del Ciclo de Música de Cámara ROSS en Sevilla es una invitación a disfrutar de la música en su forma más pura\, con la calidez y la complicidad que caracterizan a la música de cámara. \nA diferencia de los conciertos sinfónicos\, la música de cámara permite una mayor cercanía con los intérpretes y una conexión más profunda con la esencia de cada pieza. En estos conciertos\, los músicos de la ROSS muestran su virtuosismo y sensibilidad en interpretaciones llenas de matices\, creando una experiencia envolvente que cautiva al público. \nAdemás\, el ciclo se desarrolla en espacios emblemáticos de Sevilla\, seleccionados cuidadosamente por su acústica excepcional\, lo que permite disfrutar cada nota con una calidad sonora incomparable. Es una oportunidad única para sumergirse en la belleza de la música clásica en un entorno ideal. \nTodos los conciertos se celebrarán en el Espacio Turina\, ubicado en la Calle Laraña\, 4\, Sevilla\, y darán comienzo a las 12:00 horas. \nProgramación: \n\n\nCÁMARA 1 – Domingo\, 27 de octubre de 2024\n\nPrograma:\n\nAntonín Dvořák: Sexteto de cuerda en La mayor\nRichard Strauss: Metamorfosis para septeto de cuerda\n\n\nIntérpretes:\n\nViolines: Branislav Sisel y Gabriel Dinca\nViolas: York Yu Kwong y Jerome Ireland\nViolonchelos: Gretchen Talbot y Alice Yun Hsin Huang\nContrabajo: Lucian Ciorata\n\n\n\n\n\nCÁMARA 2 – Domingo\, 3 de noviembre de 2024\n\nPrograma:\n\nGeorg Philipp Telemann: Tafelmusik Cuarteto para dos flautas\, fagot y continuo\nJohann Friedrich Fasch: Cuarteto para dos flautas\, fagot y continuo en Re menor\, FWV N:d2\nCarl Philipp Emanuel Bach: Trío sonata para dos flautas\, fagot y continuo en Re menor\, H. 569 Wq. 145\nGeorg Philipp Telemann: Cuarteto para dos flautas\, fagot y continuo en Mi menor\, TWV 43:e3\nJohann Friedrich Fasch: Cuarteto para dos flautas\, fagot y continuo en Si bemol mayor\, FWV N:B2\nJohann Sebastian Bach: Trío sonata para dos flautas\, fagot y continuo\, BWV 1039\n\n\nIntérpretes:\n\nCuarteto Ars Nova\nFlautas: Juan Ronda Molina y Antonio Hervás Borrull\nFagot: Ramiro García Martín\nContrabajo: Predrag Ivkovic\n\n\n\n\n\nCÁMARA 3 – Domingo\, 24 de noviembre de 2024\n\nPrograma:\n\nFelix Mendelssohn: Sinfonía nº 1 para dos violines\, viola\, violonchelo y contrabajo en Do mayor\nDarius Milhaud: Deuxième quintette à cordes para dos violines\, viola\, violonchelo y contrabajo\, Op.316\nJaani Helander: Quinteto de cuerda «Inner live» para dos violines\, viola\, violonchelo y contrabajo\, Op.2 (Estreno en España)\n\n\nIntérpretes:\n\nViolines: Pablo Flores Regidor y Katarzyna Wróbel\nViola: Jerome Ireland\nViolonchelo: Claudio R. Baraviera\nContrabajo: Vicente Fuertes Gimeno\n\n\n\n\n\nCÁMARA 4 – Domingo\, 15 de diciembre de 2024\n\nPrograma:\n\nFranz Joseph Haydn: Tríos para flauta\, violín y violonchelo\n\nLondon Trio Hob: IV nº1 en Do mayor\nLondon Trío Hob: IV nº3 en Sol mayor\nDivertimento IV Hob: IV nº9 en Sol mayor\n\n\nLudwig van Beethoven/Johann Nepomuk Hummel: Sinfonía nº 1 en Do mayor\, Op. 21\n\n\nIntérpretes:\n\nFlauta: Vicent Morelló Broseta\nViolín: Vladimir Dmitrienco\nViolonchelo: Nonna Natsvlishvili\nPiano: Tatiana Postnikova\n\n\n\n\n\nCÁMARA 5 – Domingo\, 12 de enero de 2025\n\nPrograma:\n\nLudwig van Beethoven: Trío con piano nº 1 en Re mayor\, Op. 70 «Fantasma»\nFanny Mendelssohn: Trío para piano en Re menor\, Op. 11\nJoaquín Turina: Círculo\, fantasía para piano\, violín y violonchelo\, Op. 91\n\n\nIntérpretes:\n\nTrío Helios\nViolín: Adriana Puentes González-Amor\nViolonchelo: Marina Gutiérrez Aranda\nPiano: Lucía Rodríguez Ramírez\n\n\n\n\n\nCÁMARA 6 – Domingo\, 19 de enero de 2025\n\nPrograma:\n\nWolfgang Amadeus Mozart: Divertimento en Re mayor\, KV. 136\nFranz Schubert: Cuarteto de cuerda nº 14 en Re menor\, D. 810 «La muerte y la doncella»\n\n\nIntérpretes:\n\nViolines: Vladimir Dmitrienco y Luis Miguel Díaz Márquez\nViola: York Yu Kwong\nViolonchelo: Luiza Nancu\n\n\n\n\n\nCÁMARA 7 – Domingo\, 9 de febrero de 2025\n\nPrograma:\n\nFranz Joseph Haydn: Cuarteto de cuerda en Do mayor\, Op. 76 nº 3 «Emperador»\nLudwig van Beethoven: Cuarteto de cuerda nº 7 en Fa mayor\, Op. 59 nº 1 «Rasumovsky»\n\n\nIntérpretes:\n\nViolines: Pablo Flores Regidor y Susana Fernández\nViola: Ariadna Boiso Reinoso\nViolonchelo: Claudio R. Baraviera\n\n\n\n\n\nCÁMARA 8 – Domingo\, 9 de marzo de 2025\n\nPrograma:\n\nPadre Antonio Soler: Quinteto con clave e instrumentos de arco nº 3 en Sol mayor\nVicente Baset: Sinfonía a più stromenti\, Bas-3\nVicente Baset: Obertura a più stromenti\, Bas-7\nLuigi Boccherini: Quinteto nº 5\, Op. 57\n\n\nIntérpretes:\n\nEnsemble Suspiratio\nViolonchelo barroco: Rosa de Benito\nClave: Guido García\nViol\n\n\n\n\n\n\n\nCÁMARA 9 – Domingo\, 30 de marzo de 2025\n\nPrograma:\n\nWolfgang Amadeus Mozart: Quinteto para clarinete y cuerdas en La mayor\, K. 581\nJohannes Brahms: Quinteto para clarinete y cuerdas en Si menor\, Op. 115\n\n\nIntérpretes:\n\nClarinete: Jorge Latorre\nViolines: Branislav Sisel y Gabriel Dinca\nViola: York Yu Kwong\nViolonchelo: Gretchen Talbot\n\n\n\n\n\nCÁMARA 10 – Domingo\, 13 de abril de 2025\n\nPrograma:\n\nFranz Joseph Haydn: Cuarteto de cuerda en Re menor\, Op. 76 nº 2 «Quintas»\nLudwig van Beethoven: Cuarteto de cuerda nº 11 en Fa menor\, Op. 95 «Serioso»\nDmitri Shostakóvich: Cuarteto de cuerda nº 8 en Do menor\, Op. 110\n\n\nIntérpretes:\n\nViolines: Pablo Flores Regidor y Susana Fernández\nViola: Ariadna Boiso Reinoso\nViolonchelo: Claudio R. Baraviera\n\n\n\n\n\nCÁMARA 11 – Domingo\, 11 de mayo de 2025\n\nPrograma:\n\nRobert Schumann: Cuarteto con piano en Mi bemol mayor\, Op. 47\nGabriel Fauré: Cuarteto con piano nº 1 en Do menor\, Op. 15\n\n\nIntérpretes:\n\nViolín: Vladimir Dmitrienco\nViola: York Yu Kwong\nViolonchelo: Luiza Nancu\nPiano: Tatiana Postnikova\n\n\n\n\n\nCÁMARA 12 – Domingo\, 25 de mayo de 2025\n\nPrograma:\n\nFranz Schubert: Octeto en Fa mayor\, D. 803\n\n\nIntérpretes:\n\nViolín: Branislav Sisel\nViola: York Yu Kwong\nViolonchelo: Gretchen Talbot\nContrabajo: Lucian Ciorata\nClarinete: Jorge Latorre\nFagot: Ramiro García Martín\nTrompa: Alexei Lebedev
URL:https://sevillalover.com/evento/ciclo-de-musica-de-camara-ross/
LOCATION:ESPACIO TURINA\, C. Laraña\, 4\, Casco Antiguo\, Sevilla\, Sevilla\, 41003\, España
CATEGORIES:MUSICAL
ATTACH;FMTTYPE=image/png:https://sevillalover.com/wp-content/uploads/2025/02/Diseno-sin-titulo-6.png
END:VEVENT
BEGIN:VEVENT
DTSTART;TZID=UTC:20250405T200000
DTEND;TZID=UTC:20250405T210000
DTSTAMP:20260425T155533
CREATED:20250302T205611Z
LAST-MODIFIED:20250302T205611Z
UID:13976-1743883200-1743886800@sevillalover.com
SUMMARY:Fernando Bernal y Juancho Bernabé
DESCRIPTION:¡»Nos vemos en las redes» con Fernando Bernal y Juancho Bernabé en el Teatro de Triana! 🎭😂\nSi eres de los que no para de reír con los vídeos virales de las redes sociales\, ¡prepárate para una noche de comedia en directo que no te puedes perder! El próximo sábado 4 de mayo de 2025 a las 21:00 horas\, el Teatro de Triana recibe a Fernando Bernal y Juancho Bernabé con su espectáculo «Nos vemos en las redes»\, un show lleno de humor fresco\, improvisación y situaciones cotidianas que te harán desternillarte de risa. \nEstos dos cómicos gaditanos han conquistado a cientos de miles de seguidores en redes sociales con su humor cercano y espontáneo. Ahora\, dejan la pantalla para subirse al escenario y demostrar que su talento brilla aún más en vivo. \nCon una combinación explosiva de monólogos\, imitaciones\, anécdotas surrealistas y mucha interacción con el público\, este espectáculo promete ser una de las noches más divertidas del año en Sevilla. \n¿Por qué no puedes faltar a este show?\n😂 Los reyes del humor en redes\, ahora en directo\, con un espectáculo cargado de risas y momentos inolvidables.🎭 Improvisación y participación del público\, donde cada función es única y diferente.🔥 Fernando Bernal y Juancho Bernabé\, dos humoristas con una química brutal que te harán reír sin parar.🏛 El Teatro de Triana\, un espacio ideal para disfrutar de la mejor comedia en un ambiente acogedor.🎟 Entradas limitadas\, ¡consigue la tuya antes de que se agoten! \n📍 Detalles del evento:📅 Fecha: Sábado\, 4 de mayo de 2025⏰ Horario: 21:00 horas📌 Lugar: Teatro de Triana\, Calle Condes de Bustillo 17\, Sevilla🎟 Entradas: A la venta en la web oficial y en taquilla antes del evento. \nNo dejes que te lo cuenten. Si quieres pasar una noche inolvidable llena de carcajadas y buen rollo\, este es el plan perfecto. ¡Nos vemos en las redes… y en el teatro! \n📲 Más información y entradas en elteatrodetriana.com.
URL:https://sevillalover.com/evento/fernando-bernal-y-juancho-bernabe/
LOCATION:Teatro Triana\, C. Condes de Bustillo\, 17\, Sevilla\, Sevilla\, 41010\, Spain
CATEGORIES:COMEDIA,CULTURA
ATTACH;FMTTYPE=image/png:https://sevillalover.com/wp-content/uploads/2025/03/Diseno-sin-titulo-16.png
END:VEVENT
BEGIN:VEVENT
DTSTART;TZID=UTC:20250406T190000
DTEND;TZID=UTC:20250406T203000
DTSTAMP:20260425T155533
CREATED:20250302T211053Z
LAST-MODIFIED:20250302T211053Z
UID:13979-1743966000-1743971400@sevillalover.com
SUMMARY:Fulanito y Menganito
DESCRIPTION:¡Ríete sin parar con «Fulanito y Menganito» en el Teatro de Triana! 🎭😂\nSi te encanta el humor andaluz y quieres disfrutar de una noche llena de risas\, no te puedes perder «Fulanito y Menganito». El próximo sábado 3 de febrero a las 21:00 horas\, el Teatro de Triana se llena de comedia con Jesús Piña y Quique de la Fuente\, dos cómicos que te harán llorar de risa con su espectáculo repleto de monólogos\, parodias y mucha improvisación. \nEstos dos maestros del humor han recorrido toda España cosechando éxitos y haciéndonos reír en programas como «Ocho apellidos andaluces»\, «Tú sí que vales» y «Tiene Gracia». Ahora\, llegan a Sevilla para ofrecerte un show en el que no faltarán las situaciones más disparatadas\, las anécdotas más locas y el humor más genuino. \n¿Por qué no puedes faltar a este espectáculo?\n😂 Dos cómicos de primera con más de 10 años de trayectoria y numerosos premios en certámenes de comedia.🎭 Un show lleno de variedad\, con monólogos\, parodias\, improvisación y mucha interacción con el público.🔥 El mejor humor andaluz\, con ese toque cercano y auténtico que hará que te sientas identificado en cada chiste.🏛 El Teatro de Triana\, un escenario acogedor y perfecto para vivir una noche inolvidable.🎟 Entradas a precio especial\, ¡hazte con la tuya antes de que se agoten! \n📍 Detalles del evento:📅 Fecha: Sábado\, 3 de febrero de 2025⏰ Horario: 21:00 horas📌 Lugar: Teatro de Triana\, Calle Condes de Bustillo 17\, Sevilla🎟 Entradas: Anticipadas a 10€ + gastos de gestión / En taquilla 12€ \nNo te lo pienses más. Ven con tus amigos\, tu pareja o tu familia y disfruta de una noche de carcajadas aseguradas. No hay mejor plan en Sevilla para olvidarte de la rutina y pasarlo en grande. ¡Nos vemos en el Teatro de Triana! \n📲 Más información y entradas en elteatrodetriana.com.
URL:https://sevillalover.com/evento/fulanito-y-menganito/
LOCATION:Teatro Triana\, C. Condes de Bustillo\, 17\, Sevilla\, Sevilla\, 41010\, Spain
CATEGORIES:COMEDIA,CULTURA
ATTACH;FMTTYPE=image/png:https://sevillalover.com/wp-content/uploads/2025/03/Diseno-sin-titulo-17.png
END:VEVENT
BEGIN:VEVENT
DTSTART;VALUE=DATE:20250429
DTEND;VALUE=DATE:20250430
DTSTAMP:20260425T155533
CREATED:20250317T111633Z
LAST-MODIFIED:20250317T112711Z
UID:14009-1745884800-1745971199@sevillalover.com
SUMMARY:Comedy Nuggets
DESCRIPTION:El único espectáculo de comedia en Inglés de Sevilla 🤣\n¡Sumérgete en una noche de humor con Comedy Nuggets; el único open mic en inglés de Sevilla! Disfruta de un show cargado de risas\, donde los comediantes suben al escenario para compartir sus mejores chistes. En cada edición\, comediantes de todos los niveles suben al escenario\, desde artistas ya reconocidos hasta talentos emergentes. Este show es ideal tanto para quienes disfrutan el humor en otro idioma como para aquellas personas que llegan a hacer turismo a Sevilla en busca de algo nuevo. \n  \n¿Por qué no puedes faltar?\n🔥 Porque es único: es la mejor oportunidad para disfrutar de un stand-up en inglés. \n😂 Tiene variedad de talentos: desde nuevos comediantes hasta artistas con experiencia previa. \n🎭 Con gran ambiente: un lugar perfecto para pasar una noche divertida con amigos o conocer personas nuevas. \nComedy Nuggets se llevará a cabo en dos fechas\, brindándote así dos días para disfrutar de una noche única en el Open Mic inglés en Sevilla: \n📅 Día 18 de Marzo a las 21.30 \n📅 Día 29 de Abril a las 21.00 \n Lugar: C. Dos de Mayo\, 10\, Casco Antiguo\, 41001 Sevilla Entradas: A la venta en la pulsando aquí. \n¡Escoge el que más se adapte a tí y disfruta de Comedy Nuggets! \n  \n¿No te convence este evento y prefieres alguna otra categoría?\n➡️ Pulsa aquí y busca la que más se adapte a tí. \n  \n 
URL:https://sevillalover.com/evento/comedy-nuggets/
LOCATION:Lady Drama\, C. Dos de Mayo\, 10\, Casco Antiguo\, 41001 Sevilla\, Sevilla\, Sevilla\, 41001\, Spain
CATEGORIES:COMEDIA,COMEDY,MONÓLOGOS,MONOLOGUES,TEATRO,THEATER
ATTACH;FMTTYPE=image/jpeg:https://sevillalover.com/wp-content/uploads/2025/03/ComedyNuggets_400x504.jpg
END:VEVENT
END:VCALENDAR