BEGIN:VCALENDAR
VERSION:2.0
PRODID:-//SevillaLover - ECPv6.15.16.1//NONSGML v1.0//EN
CALSCALE:GREGORIAN
METHOD:PUBLISH
X-ORIGINAL-URL:https://sevillalover.com
X-WR-CALDESC:Eventos para SevillaLover
REFRESH-INTERVAL;VALUE=DURATION:PT1H
X-Robots-Tag:noindex
X-PUBLISHED-TTL:PT1H
BEGIN:VTIMEZONE
TZID:UTC
BEGIN:STANDARD
TZOFFSETFROM:+0000
TZOFFSETTO:+0000
TZNAME:UTC
DTSTART:20240101T000000
END:STANDARD
END:VTIMEZONE
BEGIN:VEVENT
DTSTART;TZID=UTC:20250318T080000
DTEND;TZID=UTC:20250318T170000
DTSTAMP:20260423T035112
CREATED:20250318T105220Z
LAST-MODIFIED:20250318T110921Z
UID:14081-1742284800-1742317200@sevillalover.com
SUMMARY:SAI VINTAGE
DESCRIPTION:🎉 SAI VINTAGE X ISLA MÁGICA: Una fiesta inolvidable 🎶🍹\nEl evento más esperado se acerca\, y SAI VINTAGE X ISLA MÁGICA te promete música\, espectáculo y diversión sin límites. Disfruta de DJ en vivo\, shows de magia y la apertura de la caja fuerte con un premio de 500€. Además\, podrás acceder a la experiencia VIP para vivirlo de una manera única. \n⚠️ ¡Atención! Debido a causas meteorológicas\, el evento se ha pospuesto al 30 de marzo. ⚠️ \n🎭 ¿Por qué no perderte este evento?\n🎶 DJ en vivo desde las 11:30 AM – Música para ambientar la jornada desde el inicio.🎩 Show de magia – Una hora de espectáculo para sorprenderte.💰 Caja fuerte con premio de 500€ – Gana al acertar el número secreto.🍸 150 mojitos con Jägermeister – Bebidas para animar la fiesta.🔴 Zona VIP – Accede antes al evento y aumenta tus posibilidades de ganar el premio. \n📍 Detalles del evento:\n📅 Fecha: Sábado 30 de marzo de 2025 (pospuesto por clima)⏰ Horario: \n\n11:30 AM – Apertura de barra y DJ (cerveza\, Coca-Cola y agua).\n11:30 AM – Acceso VIP.\n12:30 PM – Entrada general.\n13:00 PM – Apertura de la caja fuerte (premio 500€).\n17:00 – 18:00 PM – Show de magia.\n19:00 – 21:00 PM – Jägermeister & 150 mojitos.\n21:00 PM – Cierre del evento.📌 Lugar: Isla Mágica\, Sevilla🎟 Precios y entradas VIP:\nEntrada VIP: 4\,99€\nPack 4 entradas VIP: 17\,99€\nPack 6 entradas VIP: 25\,99€ (AGOTADO)\nPack 10 entradas VIP: 39\,99€ (AGOTADO)💸 Entrada general: ¡GRATUITA!\n\n✨ Vive la experiencia más épica de SAI VINTAGE en Isla Mágica. ¡No te lo pierdas! \n🔍 ¿Quieres asegurar tu entrada VIP? \n➡️ Compra ahora y disfruta de acceso preferente y ventajas exclusivas.
URL:https://sevillalover.com/evento/sai-vintage/
LOCATION:Isla Mágica\, Pabellón de España\, s/n\, 41092 Sevilla\, Sevilla\, Sevilla\, 41092
CATEGORIES:CONCERTS,CONCIERTOS,ESPECTACULOS,EVENTOS,EVENTS,NOCHE,SPECTACULOS
ATTACH;FMTTYPE=image/png:https://sevillalover.com/wp-content/uploads/2025/03/Captura-de-pantalla-2025-03-18-120905.png
END:VEVENT
END:VCALENDAR