BEGIN:VCALENDAR
VERSION:2.0
PRODID:-//SevillaLover - ECPv6.15.16.1//NONSGML v1.0//EN
CALSCALE:GREGORIAN
METHOD:PUBLISH
X-ORIGINAL-URL:https://sevillalover.com
X-WR-CALDESC:Eventos para SevillaLover
REFRESH-INTERVAL;VALUE=DURATION:PT1H
X-Robots-Tag:noindex
X-PUBLISHED-TTL:PT1H
BEGIN:VTIMEZONE
TZID:UTC
BEGIN:STANDARD
TZOFFSETFROM:+0000
TZOFFSETTO:+0000
TZNAME:UTC
DTSTART:20230101T000000
END:STANDARD
END:VTIMEZONE
BEGIN:VEVENT
DTSTART;TZID=UTC:20240913T230000
DTEND;TZID=UTC:20240913T230000
DTSTAMP:20260423T141239
CREATED:20240905T121955Z
LAST-MODIFIED:20240906T084045Z
UID:13211-1726268400-1726268400@sevillalover.com
SUMMARY:Enrique El Extremeño
DESCRIPTION:¡Vemos el maravilloso espectáculo de Enrique El Extremeño!\nEl próximo 13 de septiembre de 2024\, el Teatro Alameda será testigo de una noche especial con Enrique El Extremeño y su espectáculo «Toda una vida»\,  como parte de la XXIII Bienal de Flamenco de Sevilla. Este evento especial celebra la trayectoria de uno de los cantaores más respetados del flamenco\, ofreciendo un recorrido por su carrera y los cantes que han marcado su vida artística. Con colaboraciones de grandes figuras como Manuela Carrasco y La Polvorilla\, esta actuación promete ser una noche llena de emoción y arte puro. \nEnrique El Extremeño es conocido por su capacidad para transmitir la profundidad y la autenticidad del flamenco\, destacando tanto en el cante solo como en el acompañamiento al baile. En «Toda una vida»\, el público podrá disfrutar de una experiencia íntima y única que revela los momentos más destacados de su carrera. Acompañado por músicos excepcionales como Ñoño Santiago y Pedro Sierra a la guitarra\, y con la presencia de Ines Rubio al baile\, Enrique El Extremeño ofrecerá una interpretación poderosa y conmovedora que captura la esencia del flamenco jondo. \nEste espectáculo no solo es un homenaje a la trayectoria de Enrique El Extremeño\, sino también una muestra de su continua relevancia en el mundo del flamenco. Con la dirección artística de Paco Tous y un equipo de producción y sonido de primer nivel\, «Toda una vida» está diseñado para ser una celebración tanto de la tradición flamenca como de su evolución moderna. \nLas entradas para este evento ya están disponibles\, y es una oportunidad que ningún amante del flamenco debería perderse. Ven a disfrutar de una noche de auténtico arte flamenco y sé testigo de la magia de Enrique El Extremeño en vivo. \nGracias y te esperamos en Sevilla. \nWeb: www.sevillalover.com\nInstagram: @sevillalovercom\nDar de alta tu empresa en sevillalover.com: 661 35 92 95\nDar de alta gratuitamente tu evento en nuestro calendario: eventos@sevillalover.com
URL:https://sevillalover.com/evento/enrique-el-extremeno/
LOCATION:TEATRO ALAMEDA\, C. Crédito\, 13\, Casco Antiguo\, Sevilla\, Sevilla\, 41002\, España
CATEGORIES:MUSICAL
ATTACH;FMTTYPE=image/jpeg:https://sevillalover.com/wp-content/uploads/2024/09/Diseno-sin-titulo-33.jpg
END:VEVENT
END:VCALENDAR