BEGIN:VCALENDAR
VERSION:2.0
PRODID:-//SevillaLover - ECPv6.15.16.1//NONSGML v1.0//EN
CALSCALE:GREGORIAN
METHOD:PUBLISH
X-WR-CALNAME:SevillaLover
X-ORIGINAL-URL:https://sevillalover.com
X-WR-CALDESC:Eventos para SevillaLover
REFRESH-INTERVAL;VALUE=DURATION:PT1H
X-Robots-Tag:noindex
X-PUBLISHED-TTL:PT1H
BEGIN:VTIMEZONE
TZID:UTC
BEGIN:STANDARD
TZOFFSETFROM:+0000
TZOFFSETTO:+0000
TZNAME:UTC
DTSTART:20250101T000000
END:STANDARD
END:VTIMEZONE
BEGIN:VEVENT
DTSTART;VALUE=DATE:20260315
DTEND;VALUE=DATE:20261130
DTSTAMP:20260421T040718
CREATED:20260212T095525Z
LAST-MODIFIED:20260212T095525Z
UID:16412-1773532800-1795996799@sevillalover.com
SUMMARY:Corta el Cable Rojo en Sevilla
DESCRIPTION:No te pierdas Corta el Cable Rojo en Sevilla\, un espectáculo de humor e improvisación lleno de sorpresas y situaciones inesperadas. Cada función es única\, con risas garantizadas y participación del público en un ambiente cercano y divertido. Una experiencia teatral fresca donde la creatividad y el ingenio se mezclan con la diversión para ofrecerte una noche inolvidable.
URL:https://sevillalover.com/evento/corta-el-cable-rojo-en-sevilla/
LOCATION:Teatro los Remedios\, C. Juan Ramón Jiménez\, 22\, Sevilla\, Sevilla\, 41001\, España
CATEGORIES:COMEDIA,TEATRO
ATTACH;FMTTYPE=image/jpeg:https://sevillalover.com/wp-content/uploads/2026/02/CortaElCableRojoSevilla_400x504.jpeg
END:VEVENT
BEGIN:VEVENT
DTSTART;TZID=UTC:20260517T120000
DTEND;TZID=UTC:20260517T133000
DTSTAMP:20260421T040718
CREATED:20260213T074400Z
LAST-MODIFIED:20260213T074400Z
UID:16486-1779019200-1779024600@sevillalover.com
SUMMARY:Entradas La Isla de Maui - Tributo a Vaiana en Sevilla
DESCRIPTION:Un divertido musical familiar que celebra la magia de la película Vaiana. La historia sigue a la valiente joven Vaiana\, quien se aventura a través del océano en una misión para salvar su isla y descubrir su verdadero destino. Junto al carismático semidiós Maui\, enfrentarán retos sorprendentes y aprenderán sobre la valentía\, la amistad y el respeto por la naturaleza. ¡Un espectáculo lleno de emoción y diversión para toda la familia!
URL:https://sevillalover.com/evento/entradas-la-isla-de-maui-tributo-a-vaiana-en-sevilla/
LOCATION:Teatro Triana\, C. Condes de Bustillo\, 17\, Sevilla\, Sevilla\, 41010\, Spain
CATEGORIES:EN FAMILIA,MUSICAL,MUSICALES INFANTILES
ATTACH;FMTTYPE=image/jpeg:https://sevillalover.com/wp-content/uploads/2026/02/2533741_654732_1728559508032.jpeg
END:VEVENT
BEGIN:VEVENT
DTSTART;TZID=UTC:20260524T190000
DTEND;TZID=UTC:20260524T203000
DTSTAMP:20260421T040718
CREATED:20260213T075526Z
LAST-MODIFIED:20260213T075526Z
UID:16492-1779649200-1779654600@sevillalover.com
SUMMARY:Entradas La Comedia de los 80's y 90's en Sevilla
DESCRIPTION:De los creadores de ‘8 Apellidos Andaluces’\, Quique De La Fuente y Txapela Cádiz nos traen una comedia retro\, vintage y nostálgica que te hará recordar (y reír) de nuestras mejores épocas. Recorre los años 80 y 90 sin parar de reír. ¡Aquellos maravillosos años… o tal vez no! ¿Fueron realmente los mejores? Descúbrelo y revive datos curiosos que creías olvidados. \nTras siete exitosas temporadas con ‘8 Apellidos Andaluces’\, el sevillano Quique de la Fuente y el gaditano Txapela Cádiz se lanzan a este desafío retro\, desplegando su característico humor 100% andaluz. A través de monólogos\, sketches e improvisaciones\, repasan momentos y vivencias que marcaron época. Incluso podrías acabar cantando\, porque en este espectáculo ¡el público también tiene mucho que decir! \n¿Te suena la frase “bada badum\, badum\, badum\, badumbadero”? Si la has leído cantando\, entonces este espectáculo es para ti.
URL:https://sevillalover.com/evento/entradas-la-comedia-de-los-80s-y-90s-en-sevilla/
LOCATION:AUDITORIO CARTUJA\, C. Albert Einstein\, s/n\, Sevilla\, Sevilla\, 41092\, España
CATEGORIES:COMEDIA,CULTURA
ATTACH;FMTTYPE=image/webp:https://sevillalover.com/wp-content/uploads/2026/02/la-comedia-de-los-80-90.webp
END:VEVENT
BEGIN:VEVENT
DTSTART;VALUE=DATE:20260529
DTEND;VALUE=DATE:20260531
DTSTAMP:20260421T040718
CREATED:20260213T080016Z
LAST-MODIFIED:20260213T080016Z
UID:16495-1780012800-1780185599@sevillalover.com
SUMMARY:Entradas Magicians en Sevilla
DESCRIPTION:España es un referente mundial en el arte de la magia\, y con ello nace MAGICIANS\, una plataforma dedicada a dar visibilidad a los ilusionistas españoles que han alcanzado reconocimiento internacional y premios en la comunidad mágica global. \nEste espectáculo reúne a algunos de los grandes exponentes de la magia\, cada uno con un estilo propio e innovador\, ofreciendo así una experiencia única e inolvidable. \nMás que un simple show\, MAGICIANS es un homenaje a la creatividad\, la destreza y el poder de sorprender. \nAquí no solo se contempla la magia\, se vive y se siente el asombro en cada acto\, en cada imposible que se convierte en realidad. \nDéjate fascinar por los mejores magos de España y adéntrate en un viaje lleno de ilusión y maravillas.
URL:https://sevillalover.com/evento/entradas-magicians-en-sevilla/
LOCATION:AUDITORIO CARTUJA\, C. Albert Einstein\, s/n\, Sevilla\, Sevilla\, 41092\, España
CATEGORIES:CULTURA
ATTACH;FMTTYPE=image/jpeg:https://sevillalover.com/wp-content/uploads/2026/02/20260128210744_1769630864.7221IMPRONTA.jpg
END:VEVENT
END:VCALENDAR