BEGIN:VCALENDAR
VERSION:2.0
PRODID:-//SevillaLover - ECPv6.15.16.1//NONSGML v1.0//EN
CALSCALE:GREGORIAN
METHOD:PUBLISH
X-ORIGINAL-URL:https://sevillalover.com
X-WR-CALDESC:Eventos para SevillaLover
REFRESH-INTERVAL;VALUE=DURATION:PT1H
X-Robots-Tag:noindex
X-PUBLISHED-TTL:PT1H
BEGIN:VTIMEZONE
TZID:UTC
BEGIN:STANDARD
TZOFFSETFROM:+0000
TZOFFSETTO:+0000
TZNAME:UTC
DTSTART:20250101T000000
END:STANDARD
END:VTIMEZONE
BEGIN:VEVENT
DTSTART;VALUE=DATE:20260211
DTEND;VALUE=DATE:20260309
DTSTAMP:20260421T041717
CREATED:20260211T084825Z
LAST-MODIFIED:20260211T090449Z
UID:16269-1770768000-1773014399@sevillalover.com
SUMMARY:Cirque Du Soleil - Kurios en Sevilla
DESCRIPTION:Un Buscador está convencido de que en su inmenso gabinete de curiosidades existe un universo oculto e invisible\, repleto de ideas extravagantes y sueños extraordinarios. Cuando personajes procedentes de otro mundo irrumpen en su particular universo mecánico\, tratan de despertar su imaginación revolucionando su realidad y aportando una dosis de humor y poesía. Al mismo tiempo\, sus curiosidades comienzan a cobrar vida ante sus propios ojos\, una tras otra.
URL:https://sevillalover.com/evento/cirque-du-soleil-kurios-en-sevilla/
LOCATION:Bajo la Gran Carpa. Sevilla\, Triana\, Parque Vega de\, Ctra. Cádiz-Huelva\, s/n\, Sevilla\, Andalucía\, 41010\, Spain
CATEGORIES:TEATRO
ATTACH;FMTTYPE=image/avif:https://sevillalover.com/wp-content/uploads/2026/02/cirque-du-soleil-kurios-share-1200x630-en.avif
END:VEVENT
BEGIN:VEVENT
DTSTART;TZID=UTC:20260308T123000
DTEND;TZID=UTC:20260308T134500
DTSTAMP:20260421T041717
CREATED:20260212T092539Z
LAST-MODIFIED:20260212T092539Z
UID:16398-1772973000-1772977500@sevillalover.com
SUMMARY:Besos de Colores - Lara Ok en Sevilla
DESCRIPTION:Lara OK vive en un bosque encantado donde sus amigos han perdido la alegría\, la curiosidad y el cariño. Con la ayuda de tres llaves misteriosas y sus besos de colores\, se embarcará en una aventura musical repleta de magia y diversión\, cantando sus canciones más queridas junto a los más pequeños para devolver la felicidad y compartirla con todos.
URL:https://sevillalover.com/evento/besos-de-colores-lara-ok-en-sevilla/
LOCATION:AUDITORIO CARTUJA\, C. Albert Einstein\, s/n\, Sevilla\, Sevilla\, 41092\, España
CATEGORIES:TEATRO
ATTACH;FMTTYPE=image/jpeg:https://sevillalover.com/wp-content/uploads/2026/02/images-1-1.jpeg
END:VEVENT
BEGIN:VEVENT
DTSTART;TZID=UTC:20260308T190000
DTEND;TZID=UTC:20260308T203000
DTSTAMP:20260421T041717
CREATED:20260212T085757Z
LAST-MODIFIED:20260212T085757Z
UID:16395-1772996400-1773001800@sevillalover.com
SUMMARY:José Luis Calero - Humorista de Guardia en Sevilla
DESCRIPTION:No te pierdas a José Luis Calero en ‘Humorista de Guardia’ en Sevilla. Un espectáculo lleno de humor\, improvisación y risas aseguradas\, donde cada función es única. Ven a disfrutar de un show cercano\, divertido y cargado de buen humor.
URL:https://sevillalover.com/evento/jose-luis-calero-humorista-de-guardia-en-sevilla/
LOCATION:Teatro Pastora Soler\, C/ de la Cal\, 1 Coria del Río (Sevilla)\, Sevilla\, Sevilla\, España
CATEGORIES:MONÓLOGOS,TEATRO
ATTACH;FMTTYPE=image/jpeg:https://sevillalover.com/wp-content/uploads/2026/02/HumoristaDeGuardia_400x504_1.jpeg
END:VEVENT
BEGIN:VEVENT
DTSTART;TZID=UTC:20260313T200000
DTEND;TZID=UTC:20260313T200000
DTSTAMP:20260421T041717
CREATED:20260212T093505Z
LAST-MODIFIED:20260212T093505Z
UID:16401-1773432000-1773432000@sevillalover.com
SUMMARY:La Cena Criminal en Sevilla
DESCRIPTION:¡Bienvenido a una cena de muerte! \nLa cena criminal combina una deliciosa cena con teatro interactivo de misterio. Puedes relajarte como espectador o participar como sospechoso o investigador. Junto a los demás invitados\, recogerás pistas y resolverás un asesinato mientras disfrutas de platos de primera de restaurantes locales. \nUn cadáver en el LouvreParís\, 1958. En el Louvre\, la historiadora Valérie La Voyante anuncia que la Mona Lisa no es auténtica… y poco después se descubre un cadáver en el museo. La policía está ocupada y solo tú puedes descubrir al culpable. \nAviso sobre dietasSi tienes alergias o sigues una dieta especial\, avisa al organizador al menos 14 días antes
URL:https://sevillalover.com/evento/la-cena-criminal-en-sevilla/
LOCATION:Restaurante Casa Limón\, Av. de San Juan\, 13\, 41927 Mairena del Aljarafe\, Sevilla\, Sevilla\, Andalucía\, 41927\, Spain
CATEGORIES:CULTURA,EN FAMILIA,TEATRO
ATTACH;FMTTYPE=image/jpeg:https://sevillalover.com/wp-content/uploads/2026/02/3047620_158103_1761233674288.jpeg
END:VEVENT
BEGIN:VEVENT
DTSTART;VALUE=DATE:20260314
DTEND;VALUE=DATE:20260315
DTSTAMP:20260421T041717
CREATED:20260212T094821Z
LAST-MODIFIED:20260212T094821Z
UID:16409-1773446400-1773532799@sevillalover.com
SUMMARY:Coco Tributo Musical en Sevilla
DESCRIPTION:La Barbarie Musical presenta Coco\, una adaptación musical de esta entrañable historia inspirada en la tradición mexicana del Día de Muertos. \nEl musical narra la vida de Miguel\, un joven de Santa Cecilia que sueña con convertirse en un gran músico. Para ganarse la bendición de su familia\, que se opone totalmente a su pasión por la música\, Miguel se verá accidentalmente transportado al mundo de los muertos. Allí descubrirá el valor del amor familiar y que solo muere quien es olvidado.
URL:https://sevillalover.com/evento/coco-tributo-musical-en-sevilla-2/
LOCATION:Teatro los Remedios\, C. Juan Ramón Jiménez\, 22\, Sevilla\, Sevilla\, 41001\, España
CATEGORIES:MUSICAL,TEATRO
ATTACH;FMTTYPE=image/png:https://sevillalover.com/wp-content/uploads/2026/02/3-66976x1-nhxvf.png
END:VEVENT
BEGIN:VEVENT
DTSTART;VALUE=DATE:20260315
DTEND;VALUE=DATE:20261130
DTSTAMP:20260421T041717
CREATED:20260212T095525Z
LAST-MODIFIED:20260212T095525Z
UID:16412-1773532800-1795996799@sevillalover.com
SUMMARY:Corta el Cable Rojo en Sevilla
DESCRIPTION:No te pierdas Corta el Cable Rojo en Sevilla\, un espectáculo de humor e improvisación lleno de sorpresas y situaciones inesperadas. Cada función es única\, con risas garantizadas y participación del público en un ambiente cercano y divertido. Una experiencia teatral fresca donde la creatividad y el ingenio se mezclan con la diversión para ofrecerte una noche inolvidable.
URL:https://sevillalover.com/evento/corta-el-cable-rojo-en-sevilla/
LOCATION:Teatro los Remedios\, C. Juan Ramón Jiménez\, 22\, Sevilla\, Sevilla\, 41001\, España
CATEGORIES:COMEDIA,TEATRO
ATTACH;FMTTYPE=image/jpeg:https://sevillalover.com/wp-content/uploads/2026/02/CortaElCableRojoSevilla_400x504.jpeg
END:VEVENT
BEGIN:VEVENT
DTSTART;TZID=UTC:20260321T200000
DTEND;TZID=UTC:20260321T211500
DTSTAMP:20260421T041717
CREATED:20260212T102217Z
LAST-MODIFIED:20260212T102217Z
UID:16424-1774123200-1774127700@sevillalover.com
SUMMARY:New Magic Experience en Sevilla
DESCRIPTION:Tras agotar entradas en su última edición\, Jammes Garibo regresa con “New Magic Experience”\, un espectáculo renovado que presenta ilusiones completamente nuevas. Este ilusionista internacional\, ganador del premio nacional de magia y habitual del legendario Magic Castle de Hollywood\, trae un show donde la espectacularidad y la emoción se combinan con su sello personal: impresionantes grandes ilusiones y una puesta en escena capaz de sorprender y emocionar a todos los públicos. \n“Impacto\, magia y emoción en un espectáculo único: New Magic Experience.”
URL:https://sevillalover.com/evento/new-magic-experience-en-sevilla/
LOCATION:AUDITORIO CARTUJA\, C. Albert Einstein\, s/n\, Sevilla\, Sevilla\, 41092\, España
CATEGORIES:TEATRO
ATTACH;FMTTYPE=image/jpeg:https://sevillalover.com/wp-content/uploads/2026/02/Maestros-de-la-magia-en-New-Magic-Experience-con-Jammes-Garibo-en-el-Auditorio-Cartuja-el-21-de-marzo-en-Sevilla.jpeg
END:VEVENT
BEGIN:VEVENT
DTSTART;TZID=UTC:20260322T120000
DTEND;TZID=UTC:20260322T131500
DTSTAMP:20260421T041717
CREATED:20260212T111812Z
LAST-MODIFIED:20260212T111812Z
UID:16437-1774180800-1774185300@sevillalover.com
SUMMARY:LA CENICIENTA EL MUSICAL en Sevilla
DESCRIPTION:¡Prepárate para vivir el clásico cuento de La Cenicienta como nunca lo habías imaginado! \nLa Tomasa Teatro presenta una versión llena de diversión\, locura y mucha música para toda la familia. Disfrutarás de canciones completamente nuevas que harán que grandes y pequeños bailen y se emocionen. Este musical transforma la historia que todos conocemos en una experiencia teatral vibrante y original. \nAcompaña a Cenicienta en su camino hacia el gran baile\, enfrentándose a sus disparatadas hermanastras\, recibiendo ayuda inesperada de divertidos personajes y descubriendo que\, más allá de los zapatos de cristal\, lo verdaderamente importante es creer en uno mismo. \nUn espectáculo cargado de humor\, emoción\, segundas oportunidades\, libertad y magia en escena\, donde los sueños sí se hacen realidad… ¡pero siempre con ritmo y risas! \nVen con toda tu familia y redescubre el cuento más querido con el sello único de La Tomasa Teatro.
URL:https://sevillalover.com/evento/la-cenicienta-el-musical-en-sevilla/
LOCATION:AUDITORIO CARTUJA\, C. Albert Einstein\, s/n\, Sevilla\, Sevilla\, 41092\, España
CATEGORIES:EN FAMILIA,INFANTIL,TEATRO
ATTACH;FMTTYPE=image/webp:https://sevillalover.com/wp-content/uploads/2026/02/CENICIENTA.webp
END:VEVENT
BEGIN:VEVENT
DTSTART;TZID=UTC:20260328T180000
DTEND;TZID=UTC:20260328T193000
DTSTAMP:20260421T041717
CREATED:20260212T112542Z
LAST-MODIFIED:20260212T112542Z
UID:16440-1774720800-1774726200@sevillalover.com
SUMMARY:Entradas Cenicienta\, Tributo Musical en Sevilla
DESCRIPTION:¡No te pierdas Cenicienta\, Tributo Musical en Sevilla!El próximo 28 de marzo\, disfruta de un espectáculo familiar lleno de humor\, música y magia. La Tomasa Teatro presenta su versión del clásico cuento de La Cenicienta\, con canciones inéditas\, diversión para grandes y pequeños\, y una experiencia teatral vibrante que hará bailar y emocionar a toda la familia. \nVen a vivir un musical único donde los sueños se hacen realidad… ¡y las risas están aseguradas!
URL:https://sevillalover.com/evento/entradas-cenicienta-tributo-musical-en-sevilla/
LOCATION:Teatro los Remedios\, C. Juan Ramón Jiménez\, 22\, Sevilla\, Sevilla\, 41001\, España
CATEGORIES:EN FAMILIA,INFANTIL,MUSICAL
ATTACH;FMTTYPE=image/jpeg:https://sevillalover.com/wp-content/uploads/2026/02/CenicientaElMusical_400x504.jpeg
END:VEVENT
END:VCALENDAR