BEGIN:VCALENDAR
VERSION:2.0
PRODID:-//SevillaLover - ECPv6.15.16.1//NONSGML v1.0//EN
CALSCALE:GREGORIAN
METHOD:PUBLISH
X-ORIGINAL-URL:https://sevillalover.com
X-WR-CALDESC:Eventos para SevillaLover
REFRESH-INTERVAL;VALUE=DURATION:PT1H
X-Robots-Tag:noindex
X-PUBLISHED-TTL:PT1H
BEGIN:VTIMEZONE
TZID:UTC
BEGIN:STANDARD
TZOFFSETFROM:+0000
TZOFFSETTO:+0000
TZNAME:UTC
DTSTART:20240101T000000
END:STANDARD
END:VTIMEZONE
BEGIN:VEVENT
DTSTART;VALUE=DATE:20250318
DTEND;VALUE=DATE:20250321
DTSTAMP:20260423T070149
CREATED:20250318T101619Z
LAST-MODIFIED:20250318T101619Z
UID:14066-1742256000-1742515199@sevillalover.com
SUMMARY:Shen Yun - Performing Arts
DESCRIPTION:🎭 Shen Yun: Un viaje a 5000 años de historia y tradición 🎶\nDéjate envolver por la belleza y la magia de Shen Yun\, la compañía de danza clásica china que revive la grandeza de una civilización perdida. Con una combinación única de danza\, efectos multimedia innovadores y música en vivo\, este espectáculo transporta al público a un mundo de leyendas\, poesía y armonía con el universo. \nDesde etéreas doncellas danzantes hasta valientes generales en épicas batallas\, cada movimiento cuenta una historia de virtud y valor. Shen Yun es más que un espectáculo; es una experiencia que deja sin aliento y conmueve el alma. \n🎭 ¿Por qué no perderse Shen Yun?\n✨ 5000 años de cultura en escena – Revive la grandeza de la China ancestral. \n💃 Danza clásica china – Una de las formas de arte más antiguas y expresivas del mundo. \n🎻 Música en vivo con orquesta – Una fusión de tradición oriental y sonidos occidentales. \n🌟 Efectos multimedia innovadores – Un espectáculo visual que te transportará a otra época. \n📍 Detalles del evento:\n📅 Fechas: \n\nMartes 18 de marzo de 2025 – 20:00 h\nMiércoles 19 de marzo de 2025 – 15:00 h y 20:00 h\nJueves 20 de marzo de 2025 – 20:00 h⏳ Duración: 2h 15min📌 Lugar: Auditorio / TeatroEntradas desde 72€ hasta 136€ (+ gastos de gestión)  en la web oficial.👶 Edad recomendada: Mayores de 5 años\n\n✨ Una experiencia inolvidable que te transportará a un mundo de belleza y espiritualidad. \n🔍 ¿Buscas más espectáculos?\n Pulsa aquí y busca la que más se adapte a tí.
URL:https://sevillalover.com/evento/shen-yun-performing-arts/
LOCATION:CARTUJA CENTER CITE\, C/ Leonardo da Vinci\, 7.\, Sevilla\, Sevilla\, 41092\, España
CATEGORIES:BALLET AND DANCE,BALLET Y DANZA,CLÁSICO,CLASSIC,CLASSICAL MUSIC,CULTURA,CULTURE,ESPECTACULOS,EVENTOS,EVENTS,MÚSICA CLÁSICA,SPECTACULOS
ATTACH;FMTTYPE=image/jpeg:https://sevillalover.com/wp-content/uploads/2025/03/slideshow-thumb-3.57a6d8d291ce82d52866.jpg
END:VEVENT
END:VCALENDAR