BEGIN:VCALENDAR
VERSION:2.0
PRODID:-//SevillaLover - ECPv6.15.16.1//NONSGML v1.0//EN
CALSCALE:GREGORIAN
METHOD:PUBLISH
X-WR-CALNAME:SevillaLover
X-ORIGINAL-URL:https://sevillalover.com
X-WR-CALDESC:Eventos para SevillaLover
REFRESH-INTERVAL;VALUE=DURATION:PT1H
X-Robots-Tag:noindex
X-PUBLISHED-TTL:PT1H
BEGIN:VTIMEZONE
TZID:UTC
BEGIN:STANDARD
TZOFFSETFROM:+0000
TZOFFSETTO:+0000
TZNAME:UTC
DTSTART:20230101T000000
END:STANDARD
END:VTIMEZONE
BEGIN:VEVENT
DTSTART;TZID=UTC:20240916T213000
DTEND;TZID=UTC:20240916T213000
DTSTAMP:20260423T170904
CREATED:20240906T142951Z
LAST-MODIFIED:20240906T144009Z
UID:13238-1726522200-1726522200@sevillalover.com
SUMMARY:Aurora Vargas
DESCRIPTION:Aurora Vargas en el Real Alcázar: Una Noche de Flamenco Inolvidable\nEl 16 de septiembre de 2024\, el Real Alcázar será testigo del espectáculo «Cuando sale la aurora»\, protagonizado por la legendaria Aurora Vargas en el marco de la XXIII Bienal de Flamenco de Sevilla. Este evento es una oportunidad única para disfrutar de una de las grandes figuras del flamenco sevillano\, quien a sus 68 años sigue cautivando al público con su cante profundo y su presencia escénica inigualable. Acompañada por guitarristas de renombre como Miguel Salado y Manuel Valencia\, y con la participación especial de Antonio Reyes y Pastora Galván\, «Cuando sale la aurora» promete ser una noche mágica en un entorno incomparable. \nEl espectáculo incluirá una variedad de palos flamencos\, desde la soleá hasta las bulerías\, con el toque especial y la energía vibrante que caracteriza a Aurora Vargas. Su arte\, que lleva más de cuatro décadas en los escenarios\, sigue sorprendiendo y emocionando al público. Además\, el evento contará con el talento de las coristas Niñas del Mono y Las Zarzanas\, quienes aportarán un toque especial a las bulerías y los tangos que conformarán parte del repertorio. \nAurora Vargas\, nacida en el barrio de La Macarena\, es conocida por su estilo único\, lleno de pasión y autenticidad. Su carrera ha sido reconocida con la Medalla de la Ciudad de Sevilla\, un testimonio de su dedicación al flamenco y su contribución a la cultura de la ciudad. En «Cuando sale la aurora»\, la cantaora repasará algunos de sus temas más emblemáticos y rendirá homenaje a sus raíces\, en un evento que promete ser inolvidable. \nEl Real Alcázar de Sevilla proporcionará el escenario perfecto para este espectáculo\, donde la historia y el arte se entrelazan para ofrecer una experiencia única. Si eres amante del flamenco o quieres disfrutar de una noche mágica bajo las estrellas de Sevilla\, no te pierdas este evento lleno de arte y emoción. \nGracias y te esperamos en Sevilla. \nWeb: www.sevillalover.com\nInstagram: @sevillalovercom\nDar de alta tu empresa en sevillalover.com: 661 35 92 95\nDar de alta gratuitamente tu evento en nuestro calendario: eventos@sevillalover.com
URL:https://sevillalover.com/evento/aurora-vargas/
LOCATION:Real Alcázar de Sevilla\, Patio de Banderas\, s/n\,\, Sevilla\, Sevilla\, 41004
CATEGORIES:MUSICAL,TEATRO
ATTACH;FMTTYPE=image/jpeg:https://sevillalover.com/wp-content/uploads/2024/09/Diseno-sin-titulo-40.jpg
END:VEVENT
END:VCALENDAR