BEGIN:VCALENDAR
VERSION:2.0
PRODID:-//SevillaLover - ECPv6.15.16.1//NONSGML v1.0//EN
CALSCALE:GREGORIAN
METHOD:PUBLISH
X-ORIGINAL-URL:https://sevillalover.com
X-WR-CALDESC:Eventos para SevillaLover
REFRESH-INTERVAL;VALUE=DURATION:PT1H
X-Robots-Tag:noindex
X-PUBLISHED-TTL:PT1H
BEGIN:VTIMEZONE
TZID:UTC
BEGIN:STANDARD
TZOFFSETFROM:+0000
TZOFFSETTO:+0000
TZNAME:UTC
DTSTART:20230101T000000
END:STANDARD
END:VTIMEZONE
BEGIN:VEVENT
DTSTART;TZID=UTC:20240530T120000
DTEND;TZID=UTC:20240602T190000
DTSTAMP:20260424T022253
CREATED:20240524T104955Z
LAST-MODIFIED:20240527T071549Z
UID:11877-1717070400-1717354800@sevillalover.com
SUMMARY:Saborea Sevilla 2024
DESCRIPTION:¡Vuelve Saborea Sevilla! Del 30 de mayo al 2 de junio\, Cervezas Alhambra presenta la segunda edición de su mercado gastronómico efímero en Las Setas de Sevilla. Disfruta de una experiencia única con lo mejor de la gastronomía sevillana y una amplia variedad de Cervezas Alhambra. \nEn ‘Saborea Sevilla’\, los visitantes tendrán la oportunidad de degustar una exquisita selección de tapas y productos artesanales locales. Los hosteleros más destacados de la ciudad\, como Quiosco Los Leones\, Ta’kool\, Rayo Verde Tapas\, Sal Gorda Halo y El Candil\, estarán presentes para deleitar a todos con sus mejores creaciones. \nLa experiencia no estaría completa sin la presencia de Cervezas Alhambra. Con una amplia gama de variedades\, la marca granadina ofrecerá catas guiadas por beer sommeliers. Estas catas no solo permitirán descubrir los matices únicos de cada cerveza\, sino que también estarán maridadas con productos artesanales y tapas especialmente seleccionadas para la ocasión. \nAdemás de las catas\, el evento incluirá talleres como el “Taller de Tapas Sin Prisa” impartido por Mauricio Giovanini\, chef con Estrella Michelin del Restaurante Messina. Aquí\, los asistentes aprenderán a preparar tapas tradicionales con un toque contemporáneo\, siempre respetando la calidad de los ingredientes. \nEl mercado también contará con la presencia de artesanos como Casa Orzáez\, Jechura\, Delicias de Sevilla\, Salmedina y La Tarta de la Madre de Cris\, que ofrecerán sus mejores productos. Una novedad de esta edición será la posibilidad de adquirir las cervezas Alhambra en un punto de venta físico habilitado en el evento. \nPara más detalles sobre el evento\, visita nuestro artículo sobre Saborea Sevilla. \nEntrada: Gratuita hasta completar aforo. Reserva previa para actividades en la web oficial del evento.
URL:https://sevillalover.com/evento/saborea-sevilla-2024/
LOCATION:SETAS DE SEVILLA\, Plaza de la Encarnación\, s/n 41001 Sevilla\, Sevilla\, Sevilla\, 41001\, España
CATEGORIES:EVENTOS,GASTRONOMIA
ATTACH;FMTTYPE=image/jpeg:https://sevillalover.com/wp-content/uploads/2024/05/portada-setas.jpg
END:VEVENT
END:VCALENDAR