BEGIN:VCALENDAR
VERSION:2.0
PRODID:-//SevillaLover - ECPv6.15.16.1//NONSGML v1.0//EN
CALSCALE:GREGORIAN
METHOD:PUBLISH
X-ORIGINAL-URL:https://sevillalover.com
X-WR-CALDESC:Eventos para SevillaLover
REFRESH-INTERVAL;VALUE=DURATION:PT1H
X-Robots-Tag:noindex
X-PUBLISHED-TTL:PT1H
BEGIN:VTIMEZONE
TZID:UTC
BEGIN:STANDARD
TZOFFSETFROM:+0000
TZOFFSETTO:+0000
TZNAME:UTC
DTSTART:20250101T000000
END:STANDARD
END:VTIMEZONE
BEGIN:VEVENT
DTSTART;VALUE=DATE:20260226
DTEND;VALUE=DATE:20260619
DTSTAMP:20260421T043054
CREATED:20260211T123802Z
LAST-MODIFIED:20260211T123802Z
UID:16326-1772064000-1781827199@sevillalover.com
SUMMARY:Todo por los jajas en Sevilla
DESCRIPTION:¡Ven a descubrir el show de comedia que está transformando las noches de los miércoles en Sevilla! \nEn cada función podrás disfrutar de una selección de los mejores cómicos de la ciudad\, conducidos por el humorista e influencer Pabloshurmano. No hay mejor plan para animar la semana que una buena dosis de comedia en un ambiente inmejorable\, acompañado de bebidas bien frías en la sala Cuatro Gatos (antiguo Platea Café y Copas)\, uno de los locales de referencia en la capital hispalense. \nMás de cuatro años de éxito y aforos completos respaldan a estos cómicos\, que ahora se reúnen en un nuevo espacio para reinventar el concepto de open mic en la ciudad.
URL:https://sevillalover.com/evento/todo-por-los-jajas-en-sevilla-2/
LOCATION:cuatro gatos\, C. de Madre Dolores Márquez\, 11\, E\, Casco Antiguo\, Sevilla\, Sevilla\, 41807\, España
CATEGORIES:TEATRO
ATTACH;FMTTYPE=image/jpeg:https://sevillalover.com/wp-content/uploads/2026/02/tic_0_0.jpeg
END:VEVENT
END:VCALENDAR