BEGIN:VCALENDAR
VERSION:2.0
PRODID:-//SevillaLover - ECPv6.15.16.1//NONSGML v1.0//EN
CALSCALE:GREGORIAN
METHOD:PUBLISH
X-WR-CALNAME:SevillaLover
X-ORIGINAL-URL:https://sevillalover.com
X-WR-CALDESC:Eventos para SevillaLover
REFRESH-INTERVAL;VALUE=DURATION:PT1H
X-Robots-Tag:noindex
X-PUBLISHED-TTL:PT1H
BEGIN:VTIMEZONE
TZID:UTC
BEGIN:STANDARD
TZOFFSETFROM:+0000
TZOFFSETTO:+0000
TZNAME:UTC
DTSTART:20240101T000000
END:STANDARD
END:VTIMEZONE
BEGIN:VEVENT
DTSTART;TZID=UTC:20250318T200000
DTEND;TZID=UTC:20250318T210000
DTSTAMP:20260422T003745
CREATED:20250317T122239Z
LAST-MODIFIED:20250317T122749Z
UID:14026-1742328000-1742331600@sevillalover.com
SUMMARY:Origen y raíces con Ismael Arroyo y Eduardo Moreno
DESCRIPTION:¡La música clásica se fusiona con la tradición en Origen y raíces! 🎶🎷\nEste año\, el Teatro Maestranza\, en colaboración con Juventudes Musicales de Sevilla\, sigue apostando por el talento emergente andaluz y español. En esta ocasión\, los jóvenes y brillantes músicos Ismael Arroyo y Eduardo Moreno presentan Origen y raíces\, un programa que nos sumerge en la riqueza del folclore a través de la visión de grandes compositores nacionales. \nEste concierto es un verdadero viaje sonoro que explora cómo la música clásica y la tradición popular se entrelazan. Desde melodías evocadoras hasta armonías vibrantes\, cada interpretación promete transportar al público a diferentes épocas y paisajes sonoros. \nCon el clarinete de Ismael Arroyo y el piano de Eduardo Moreno\, los asistentes disfrutarán de una interpretación llena de matices y técnica impecable. Además\, el evento tendrá lugar en la Sala Manuel García\, un espacio íntimo y acogedor dentro del Teatro Maestranza. \n 🎵 ¿Por qué no perderte Origen y raíces?\n✅ Un recorrido único – Descubre la conexión entre la música clásica y el folclore español.\n🎼 Talento excepcional – Ismael Arroyo y Eduardo Moreno sorprenderán con su maestría interpretativa.\n🎻 Un ambiente especial – La Sala Manuel García ofrece una atmósfera cálida y perfecta para disfrutar del concierto.\n🎟 Entradas limitadas – No pierdas la oportunidad de vivir esta experiencia única. \n📍 Detalles del evento:\n📅 Fecha: 18/03/25\n⏰ Horario: 20:00 a 21:00\n📌 Lugar: Sala Manuel García\, Teatro Maestranza\n🎟 Entradas: Disponibles en su web oficial. \nNo dejes pasar esta oportunidad de disfrutar de un espectáculo inolvidable. ¡Compra tu entrada y déjate llevar por la magia de la música! \n¿No te convence este evento y prefieres alguna otra categoría?\n Pulsa aquí y busca la que más se adapte a tí. \n 
URL:https://sevillalover.com/evento/origen-y-raices/
LOCATION:TEATRO DE LA MAESTRANZA\, P.º de Cristóbal Colón\, 22\, Sevilla\, Sevilla\, Sevilla\, 41001\, España
CATEGORIES:CLÁSICO,CLASSIC,CLASSICAL MUSIC,EVENTOS,EVENTS,MÚSICA CLÁSICA,NOCHE,SPECTACULOS,TEATRO,THEATER,TURISMO
ATTACH;FMTTYPE=image/png:https://sevillalover.com/wp-content/uploads/2025/03/Diseno-sin-titulo-30-e1742211927535.png
END:VEVENT
END:VCALENDAR