BEGIN:VCALENDAR
VERSION:2.0
PRODID:-//SevillaLover - ECPv6.15.16.1//NONSGML v1.0//EN
CALSCALE:GREGORIAN
METHOD:PUBLISH
X-WR-CALNAME:SevillaLover
X-ORIGINAL-URL:https://sevillalover.com
X-WR-CALDESC:Eventos para SevillaLover
REFRESH-INTERVAL;VALUE=DURATION:PT1H
X-Robots-Tag:noindex
X-PUBLISHED-TTL:PT1H
BEGIN:VTIMEZONE
TZID:UTC
BEGIN:STANDARD
TZOFFSETFROM:+0000
TZOFFSETTO:+0000
TZNAME:UTC
DTSTART:20250101T000000
END:STANDARD
END:VTIMEZONE
BEGIN:VEVENT
DTSTART;VALUE=DATE:20260703
DTEND;VALUE=DATE:20260705
DTSTAMP:20260420T173139
CREATED:20260217T074043Z
LAST-MODIFIED:20260217T074043Z
UID:16522-1783036800-1783209599@sevillalover.com
SUMMARY:Festival Puro Latino Fest - Abono General en Sevilla
DESCRIPTION:ABONO GENERAL: \nABONO PARA LOS DÍAS 3 y 4 DE JULIO DE 2026. Evento para todos los públicos. Menores de 16 Años Acompañados de Padre / Madre / Tutor Legal y con Autorización de Menores firmada por ellos. Menores con 16 y 17 Años sólo con Autorización de Menores firmada por Padre / Madre / Tutor Legal. Incluye Acceso al Evento exclusivamente en ZONA GENERAL. Área de Food Trucks (Zona de Restauración)\, amplias barras\, Wc´s. \nNO INCLUYE REACCESO: Si quieres salir y volver a entrar del recinto en el mismo día\, deberás adquirir la opción de reacceso en el propio recinto\, la cual será válida para todos los días del evento.
URL:https://sevillalover.com/evento/festival-puro-latino-fest-abono-general-en-sevilla/
LOCATION:EXPLANADA EXTERIOR ESTADIO LA CARTUJA\, Isla de la Cartuja\, sector norte\, 41092 Sevilla\, Sevilla\, Andalucía\, 41092\, Spain
CATEGORIES:CONCIERTOS,LATINOS,REGGAETON,TRAP,URBANO
ATTACH;FMTTYPE=image/jpeg:https://sevillalover.com/wp-content/uploads/2026/02/m_poster.jpg
END:VEVENT
BEGIN:VEVENT
DTSTART;VALUE=DATE:20260703
DTEND;VALUE=DATE:20260705
DTSTAMP:20260420T173139
CREATED:20260217T074550Z
LAST-MODIFIED:20260217T074550Z
UID:16533-1783036800-1783209599@sevillalover.com
SUMMARY:Festival Puro Latino Fest - Abono General con Reacceso en Sevilla
DESCRIPTION:ABONO GENERAL CON REACCESO \nEntrada válida para los días 3 y 4 de julio de 2026. Evento apto para todos los públicos. \nLos menores de 16 años deberán acceder acompañados por su padre\, madre o tutor legal y presentar la autorización de menores debidamente firmada. Los jóvenes de 16 y 17 años podrán asistir presentando la autorización firmada por su padre\, madre o tutor legal. \nEl abono incluye acceso al evento exclusivamente en ZONA GENERAL\, además del disfrute de la zona de Food Trucks (área de restauración)\, amplias barras y servicios (WC). \nIncluye reacceso: podrás salir y volver a entrar al recinto durante el mismo día del evento.
URL:https://sevillalover.com/evento/festival-puro-latino-fest-abono-general-con-reacceso-en-sevilla/
LOCATION:EXPLANADA EXTERIOR ESTADIO LA CARTUJA\, Isla de la Cartuja\, sector norte\, 41092 Sevilla\, Sevilla\, Andalucía\, 41092\, Spain
CATEGORIES:CONCIERTOS,FESTIVALES,LATINOS,REGGAETON,TRAP,URBANO
ATTACH;FMTTYPE=image/jpeg:https://sevillalover.com/wp-content/uploads/2026/02/m_poster.jpg
END:VEVENT
BEGIN:VEVENT
DTSTART;VALUE=DATE:20260703
DTEND;VALUE=DATE:20260705
DTSTAMP:20260420T173139
CREATED:20260217T075030Z
LAST-MODIFIED:20260217T075030Z
UID:16535-1783036800-1783209599@sevillalover.com
SUMMARY:Festival Puro Latino Fest - Abono Oro en Sevilla
DESCRIPTION:ABONO ORO \nEntrada válida para los días 3 y 4 de julio de 2026. Evento apto para todos los públicos. \nLos menores de 16 años deberán asistir acompañados por su padre\, madre o tutor legal y presentar la correspondiente autorización de menores firmada. Los jóvenes de 16 y 17 años podrán acceder presentando la autorización firmada por su padre\, madre o tutor legal. \nEl abono incluye acceso al evento en ZONA ORO\, con pulsera de reingreso incluida\, además de acceso a la zona de Food Trucks (área de restauración)\, amplias barras y servicios (WC). \nEste abono también permite el acceso a Zona General.
URL:https://sevillalover.com/evento/festival-puro-latino-fest-abono-oro-en-sevilla/
LOCATION:EXPLANADA EXTERIOR ESTADIO LA CARTUJA\, Isla de la Cartuja\, sector norte\, 41092 Sevilla\, Sevilla\, Andalucía\, 41092\, Spain
CATEGORIES:CONCIERTOS,FESTIVALES,LATINOS,REGGAETON,TRAP,URBANO
ATTACH;FMTTYPE=image/jpeg:https://sevillalover.com/wp-content/uploads/2026/02/PuroLatino26AbonoOro_400x504.jpeg
END:VEVENT
BEGIN:VEVENT
DTSTART;VALUE=DATE:20260703
DTEND;VALUE=DATE:20260705
DTSTAMP:20260420T173139
CREATED:20260217T075433Z
LAST-MODIFIED:20260217T075433Z
UID:16538-1783036800-1783209599@sevillalover.com
SUMMARY:Festival Puro Latino Fest - Abono Platino en Sevilla
DESCRIPTION:ABONO PLATINO \nEntrada válida para los días 3 y 4 de julio de 2026. Evento apto para todos los públicos. \nLos menores de 16 años deberán asistir acompañados por su padre\, madre o tutor legal y presentar la autorización de menores firmada. Los jóvenes de 16 y 17 años podrán acceder con la autorización firmada por su padre\, madre o tutor legal. \nEl abono incluye acceso a la ZONA PLATINO (Front Stage VIP\, más cercana al escenario\, con visibilidad exclusiva). Disfruta de zona de descanso con barra exclusiva y lounge\, además de la pulsera de reingreso incluida\, acceso a la zona de Food Trucks (área de restauración)\, amplias barras y servicios (WC). La entrada es sin colas y también permite el acceso a las Zonas General y Oro.
URL:https://sevillalover.com/evento/festival-puro-latino-fest-abono-platino-en-sevilla/
LOCATION:EXPLANADA EXTERIOR ESTADIO LA CARTUJA\, Isla de la Cartuja\, sector norte\, 41092 Sevilla\, Sevilla\, Andalucía\, 41092\, Spain
CATEGORIES:CONCIERTOS,FESTIVALES,LATINOS,REGGAETON,TRAP,URBANO
ATTACH;FMTTYPE=image/jpeg:https://sevillalover.com/wp-content/uploads/2026/02/PuroLatino26AbonoPlatino_400x504.jpeg
END:VEVENT
BEGIN:VEVENT
DTSTART;VALUE=DATE:20260703
DTEND;VALUE=DATE:20260705
DTSTAMP:20260420T173139
CREATED:20260217T075909Z
LAST-MODIFIED:20260217T075909Z
UID:16541-1783036800-1783209599@sevillalover.com
SUMMARY:Festival Puro Latino Fest - Abono Plataforma Premium Lateral en Sevilla
DESCRIPTION:ABONO PLATAFORMA PREMIUM LATERAL \nEntrada válida para los días 3 y 4 de julio de 2026. Evento apto para todos los públicos. \nLos menores de 16 años deberán asistir acompañados por su padre\, madre o tutor legal y presentar la autorización de menores firmada. Los jóvenes de 16 y 17 años podrán acceder con la autorización firmada por su padre\, madre o tutor legal. \nEl abono incluye acceso a la PLATAFORMA PREMIUM LATERAL\, con visibilidad exclusiva y barra propia. Disfruta de pulsera de reingreso incluida y entrada exclusiva al festival. Aforo muy limitado para una experiencia privilegiada. También permite el acceso a las Zonas General\, Oro y Platino.
URL:https://sevillalover.com/evento/festival-puro-latino-fest-abono-plataforma-premium-lateral-en-sevilla/
LOCATION:EXPLANADA EXTERIOR ESTADIO LA CARTUJA\, Isla de la Cartuja\, sector norte\, 41092 Sevilla\, Sevilla\, Andalucía\, 41092\, Spain
CATEGORIES:CONCIERTOS,FESTIVALES,LATINOS,REGGAETON,TRAP,URBANO
ATTACH;FMTTYPE=image/jpeg:https://sevillalover.com/wp-content/uploads/2026/02/m_poster-1.jpg
END:VEVENT
END:VCALENDAR