BEGIN:VCALENDAR
VERSION:2.0
PRODID:-//SevillaLover - ECPv6.15.16.1//NONSGML v1.0//EN
CALSCALE:GREGORIAN
METHOD:PUBLISH
X-ORIGINAL-URL:https://sevillalover.com
X-WR-CALDESC:Eventos para SevillaLover
REFRESH-INTERVAL;VALUE=DURATION:PT1H
X-Robots-Tag:noindex
X-PUBLISHED-TTL:PT1H
BEGIN:VTIMEZONE
TZID:UTC
BEGIN:STANDARD
TZOFFSETFROM:+0000
TZOFFSETTO:+0000
TZNAME:UTC
DTSTART:20250101T000000
END:STANDARD
END:VTIMEZONE
BEGIN:VEVENT
DTSTART;TZID=UTC:20260606T220000
DTEND;TZID=UTC:20260606T234500
DTSTAMP:20260421T062655
CREATED:20260213T082208Z
LAST-MODIFIED:20260213T082208Z
UID:16504-1780783200-1780789500@sevillalover.com
SUMMARY:Concierto Alejandro Sanz - ¿Y Ahora Qué? en Sevilla
DESCRIPTION:Tras su rotundo éxito en ventas en México y Latinoamérica\, Alejandro Sanz anuncia su esperada gira «¿Y Ahora Qué?» en España. \nEl reconocido artista español continúa su gira mundial tras conquistar el público latinoamericano\, agotando entradas en cada presentación. Ahora llevará su espectáculo a grandes recintos españoles a mediados de 2026. \nDespués de un inicio triunfal en México\, con localidades agotadas de inmediato\, Alejandro Sanz confirma las fechas de su gira «¿Y Ahora Qué?» para España\, prometiendo un show inolvidable para sus fans.
URL:https://sevillalover.com/evento/concierto-alejandro-sanz-y-ahora-que-en-sevilla/
LOCATION:Estadio de la Cartuja\, Isla de la Cartuja\, sector norte\, 41092 Sevilla\, Sevilla\, Andalucía\, 41092\, Spain
CATEGORIES:CONCIERTOS,POP
ATTACH;FMTTYPE=image/jpeg:https://sevillalover.com/wp-content/uploads/2026/02/Alejandro-PC.jpeg
END:VEVENT
END:VCALENDAR