BEGIN:VCALENDAR
VERSION:2.0
PRODID:-//SevillaLover - ECPv6.15.16.1//NONSGML v1.0//EN
CALSCALE:GREGORIAN
METHOD:PUBLISH
X-ORIGINAL-URL:https://sevillalover.com
X-WR-CALDESC:Eventos para SevillaLover
REFRESH-INTERVAL;VALUE=DURATION:PT1H
X-Robots-Tag:noindex
X-PUBLISHED-TTL:PT1H
BEGIN:VTIMEZONE
TZID:UTC
BEGIN:STANDARD
TZOFFSETFROM:+0000
TZOFFSETTO:+0000
TZNAME:UTC
DTSTART:20250101T000000
END:STANDARD
END:VTIMEZONE
BEGIN:VEVENT
DTSTART;TZID=UTC:20260517T120000
DTEND;TZID=UTC:20260517T133000
DTSTAMP:20260421T055036
CREATED:20260213T074400Z
LAST-MODIFIED:20260213T074400Z
UID:16486-1779019200-1779024600@sevillalover.com
SUMMARY:Entradas La Isla de Maui - Tributo a Vaiana en Sevilla
DESCRIPTION:Un divertido musical familiar que celebra la magia de la película Vaiana. La historia sigue a la valiente joven Vaiana\, quien se aventura a través del océano en una misión para salvar su isla y descubrir su verdadero destino. Junto al carismático semidiós Maui\, enfrentarán retos sorprendentes y aprenderán sobre la valentía\, la amistad y el respeto por la naturaleza. ¡Un espectáculo lleno de emoción y diversión para toda la familia!
URL:https://sevillalover.com/evento/entradas-la-isla-de-maui-tributo-a-vaiana-en-sevilla/
LOCATION:Teatro Triana\, C. Condes de Bustillo\, 17\, Sevilla\, Sevilla\, 41010\, Spain
CATEGORIES:EN FAMILIA,MUSICAL,MUSICALES INFANTILES
ATTACH;FMTTYPE=image/jpeg:https://sevillalover.com/wp-content/uploads/2026/02/2533741_654732_1728559508032.jpeg
END:VEVENT
END:VCALENDAR