BEGIN:VCALENDAR
VERSION:2.0
PRODID:-//SevillaLover - ECPv6.15.16.1//NONSGML v1.0//EN
CALSCALE:GREGORIAN
METHOD:PUBLISH
X-ORIGINAL-URL:https://sevillalover.com
X-WR-CALDESC:Eventos para SevillaLover
REFRESH-INTERVAL;VALUE=DURATION:PT1H
X-Robots-Tag:noindex
X-PUBLISHED-TTL:PT1H
BEGIN:VTIMEZONE
TZID:UTC
BEGIN:STANDARD
TZOFFSETFROM:+0000
TZOFFSETTO:+0000
TZNAME:UTC
DTSTART:20230101T000000
END:STANDARD
END:VTIMEZONE
BEGIN:VEVENT
DTSTART;VALUE=DATE:20240303
DTEND;VALUE=DATE:20240304
DTSTAMP:20260422T201332
CREATED:20240223T122100Z
LAST-MODIFIED:20240223T122508Z
UID:10639-1709424000-1709510399@sevillalover.com
SUMMARY:Entradas El Musical de la Granja en Sevilla
DESCRIPTION:Entradas para El Musical de la Granja en el Teatro de los Remedios (Sevilla).
URL:https://sevillalover.com/evento/entradas-el-musical-de-la-granja-en-sevilla/
LOCATION:Teatro los Remedios\, C. Juan Ramón Jiménez\, 22\, Sevilla\, Sevilla\, 41001\, España
CATEGORIES:EN FAMILIA,MUSICALES INFANTILES
ATTACH;FMTTYPE=image/jpeg:https://sevillalover.com/wp-content/uploads/2024/02/la-granja-400.jpg
END:VEVENT
END:VCALENDAR