BEGIN:VCALENDAR
VERSION:2.0
PRODID:-//SevillaLover - ECPv6.15.16.1//NONSGML v1.0//EN
CALSCALE:GREGORIAN
METHOD:PUBLISH
X-ORIGINAL-URL:https://sevillalover.com
X-WR-CALDESC:Eventos para SevillaLover
REFRESH-INTERVAL;VALUE=DURATION:PT1H
X-Robots-Tag:noindex
X-PUBLISHED-TTL:PT1H
BEGIN:VTIMEZONE
TZID:UTC
BEGIN:STANDARD
TZOFFSETFROM:+0000
TZOFFSETTO:+0000
TZNAME:UTC
DTSTART:20230101T000000
END:STANDARD
END:VTIMEZONE
BEGIN:VEVENT
DTSTART;VALUE=DATE:20240301
DTEND;VALUE=DATE:20240302
DTSTAMP:20260422T110822
CREATED:20240223T112233Z
LAST-MODIFIED:20240223T112532Z
UID:10630-1709251200-1709337599@sevillalover.com
SUMMARY:Concierto Homenaje a Antonio Machín - Johnny Vergara en Sevilla
DESCRIPTION:“TODA UNA VIDA” es un proyecto escénico sobre uno de los más grandes artistas del siglo pasado: ANTONIO MACHÍN. Más de 40 años después del fallecimiento\, el genio cubano sigue descansando en Sevilla\, aunque su memoria persiste en nuestros ojos y en nuestros oídos y lo seguirá estando por muchos años. Angelitos negros’\, ‘El manisero’\, ‘Dos gardenias’… sus canciones resuenan aún en los rincones de nuestros hogares haciéndonos revivir un rostro de casi permanente sonrisa\, educado en una familia de padre gallego y madre cubana\, al que ahora queremos rendir un más que merecido tributo por toda España
URL:https://sevillalover.com/evento/concierto-homenaje-a-antonio-machin-johnny-vergara-en-sevilla/
LOCATION:Cartuja Center – Sala 2\, Calle Leonardo da Vinci\, 7 41092 Sevilla\, Sevilla\, Sevilla\, 41092\, España
CATEGORIES:CONCIERTOS,LATINOS
ATTACH;FMTTYPE=image/jpeg:https://sevillalover.com/wp-content/uploads/2024/02/toda-una-vida-400.jpg
END:VEVENT
END:VCALENDAR