BEGIN:VCALENDAR
VERSION:2.0
PRODID:-//SevillaLover - ECPv6.15.16.1//NONSGML v1.0//EN
CALSCALE:GREGORIAN
METHOD:PUBLISH
X-WR-CALNAME:SevillaLover
X-ORIGINAL-URL:https://sevillalover.com
X-WR-CALDESC:Eventos para SevillaLover
REFRESH-INTERVAL;VALUE=DURATION:PT1H
X-Robots-Tag:noindex
X-PUBLISHED-TTL:PT1H
BEGIN:VTIMEZONE
TZID:UTC
BEGIN:STANDARD
TZOFFSETFROM:+0000
TZOFFSETTO:+0000
TZNAME:UTC
DTSTART:20230101T000000
END:STANDARD
END:VTIMEZONE
BEGIN:VEVENT
DTSTART;TZID=UTC:20240803T210000
DTEND;TZID=UTC:20240803T223000
DTSTAMP:20260425T110421
CREATED:20240730T080345Z
LAST-MODIFIED:20240731T135556Z
UID:12488-1722718800-1722724200@sevillalover.com
SUMMARY:Real Betis - Al-Ittihad en Sevilla 2024
DESCRIPTION:El partido amistoso entre el Real Betis Balompié y el Al-Ittihad de Arabia Saudí se celebrará el sábado 3 de agosto de 2024 en el estadio Benito Villamarín de Sevilla. Este encuentro promete ser un emocionante evento deportivo\, enfrentando a dos equipos con jugadores de renombre mundial. El Al-Ittihad\, dirigido por el entrenador francés Laurent Blanc\, cuenta en sus filas con estrellas como Karim Benzema\, N’Golo Kanté y el ex bético Luis Felipe. \nEl estadio Benito Villamarín\, ubicado en la avenida de la Palmera s/n\, se prepara para recibir a una multitud de aficionados que disfrutarán de este espectáculo futbolístico. El partido comenzará a las 21:00 horas\, y las entradas están disponibles a un precio de 15 euros. Los abonados del Real Betis pueden acceder gratuitamente y tienen la posibilidad de adquirir dos entradas adicionales por solo 5 euros. Para los socios del programa «Soy Bético»\, también hay una oferta especial de dos entradas por 5 euros. Además\, se ofrecen entradas VIP a un precio de 55 euros\, proporcionando una experiencia premium para los asistentes. \nEste partido no solo es una oportunidad para ver en acción a grandes jugadores\, sino también para disfrutar de una noche de verano en Sevilla\, rodeado de la apasionada afición del Real Betis. El evento es ideal tanto para los seguidores locales como para los visitantes que quieran vivir la emoción del fútbol en uno de los estadios más emblemáticos de España. \nEl Real Betis\, conocido por su historia y su fervorosa hinchada\, buscará ofrecer un espectáculo a la altura\, mientras que el Al-Ittihad\, uno de los clubes más exitosos de Arabia Saudí\, intentará demostrar su calidad en el campo. Este encuentro amistoso es una excelente oportunidad para los aficionados de ambos equipos de disfrutar del fútbol de alto nivel y de ver a sus ídolos en acción.
URL:https://sevillalover.com/evento/real-betis-al-ittihad-en-sevilla-2024/
LOCATION:Estadio Benito Villamarín\, Avenida de de Heliópolis\, s/n.\, Sevilla\, Sevilla\, 41012\, España
CATEGORIES:Deportes
ATTACH;FMTTYPE=image/png:https://sevillalover.com/wp-content/uploads/2024/07/Diseno-sin-titulo.png
END:VEVENT
BEGIN:VEVENT
DTSTART;TZID=UTC:20240830T160000
DTEND;TZID=UTC:20240901T140000
DTSTAMP:20260425T110421
CREATED:20240821T095254Z
LAST-MODIFIED:20240821T100613Z
UID:12973-1725033600-1725199200@sevillalover.com
SUMMARY:XLV Trofeo de Petanca de Sevilla
DESCRIPTION:XLV Trofeo de Petanca Ciudad de Sevilla: Un Evento Imperdible\nEl XLV Trofeo de Petanca Ciudad de Sevilla se celebrará del 30 de agosto al 1 de septiembre de 2024 en el Club Petanca Pino Montano\, ubicado en un entorno ideal para disfrutar de un evento deportivo y familiar. Las jornadas comenzarán cada día a las 9:00 horas y se extenderán hasta las 14:00 horas. La entrada es gratuita\, lo que permite a todos los interesados acercarse a disfrutar de la competición y el ambiente festivo sin ningún costo. \nUn Torneo con Historia y Tradición\nCon 45 ediciones en su haber\, este trofeo se ha convertido en una de las citas deportivas más importantes para los amantes de la petanca en Sevilla. Este deporte\, que combina estrategia y precisión\, es muy popular en la comunidad sevillana y encuentra en este torneo su máxima expresión. Jugadores de todos los niveles y edades se reunirán en este evento\, que es tan competitivo como inclusivo. \nFormato de la Competición\nEl torneo está organizado en diferentes categorías\, permitiendo la participación de hombres y mujeres\, jóvenes y mayores\, en igualdad de condiciones. La estructura del evento garantiza que todos los participantes puedan competir de manera justa y disfrutar de un entorno respetuoso y de camaradería. El fair play es un valor esencial en este trofeo\, asegurando que todos los partidos se jueguen con deportividad y respeto mutuo. \nActividades y Ambiente Familiar\nAdemás de los partidos de petanca\, el evento contará con actividades paralelas diseñadas para toda la familia. Estas actividades están pensadas para crear un ambiente festivo donde tanto los jugadores como los espectadores puedan disfrutar de un día completo de diversión y deporte. El Club Petanca Pino Montano se transformará en un punto de encuentro para la comunidad\, donde el deporte se une con la convivencia y la tradición. \nConclusión\nEl XLV Trofeo de Petanca Ciudad de Sevilla es más que un simple torneo; es una celebración de la cultura deportiva sevillana y una oportunidad para disfrutar de un fin de semana diferente en la ciudad. Con entrada gratuita y un ambiente acogedor\, este evento es ideal tanto para los aficionados a la petanca como para aquellos que buscan pasar un día agradable en familia o con amigos. No te pierdas esta oportunidad de vivir una de las tradiciones deportivas más queridas de Sevilla.
URL:https://sevillalover.com/evento/xlv-trofeo-de-petanca-de-sevilla/
LOCATION:Club Petanca Pino Montano\, Av. Garrochistas\, 1\, Norte\, Sevilla\, Sevilla\, 41015\, España
CATEGORIES:Deportes
ATTACH;FMTTYPE=image/jpeg:https://sevillalover.com/wp-content/uploads/2024/08/Diseno-sin-titulo-23.jpg
END:VEVENT
END:VCALENDAR