BEGIN:VCALENDAR
VERSION:2.0
PRODID:-//SevillaLover - ECPv6.15.16.1//NONSGML v1.0//EN
CALSCALE:GREGORIAN
METHOD:PUBLISH
X-WR-CALNAME:SevillaLover
X-ORIGINAL-URL:https://sevillalover.com
X-WR-CALDESC:Eventos para SevillaLover
REFRESH-INTERVAL;VALUE=DURATION:PT1H
X-Robots-Tag:noindex
X-PUBLISHED-TTL:PT1H
BEGIN:VTIMEZONE
TZID:UTC
BEGIN:STANDARD
TZOFFSETFROM:+0000
TZOFFSETTO:+0000
TZNAME:UTC
DTSTART:20250101T000000
END:STANDARD
END:VTIMEZONE
BEGIN:VEVENT
DTSTART;TZID=UTC:20260517T203000
DTEND;TZID=UTC:20260517T220000
DTSTAMP:20260424T162314
CREATED:20260213T073826Z
LAST-MODIFIED:20260213T073826Z
UID:16483-1779049800-1779055200@sevillalover.com
SUMMARY:Concierto THE MUSIC OF MORRICONE\, ZIMMER & WILLIAMS en Sevilla
DESCRIPTION:El concierto The Music of Morricone\, Zimmer & Williams llega a Sevilla con un homenaje espectacular a tres leyendas del cine: Ennio Morricone\, Hans Zimmer y John Williams. Un recorrido emocionante por las bandas sonoras más icónicas de la historia del séptimo arte\, interpretadas en directo por orquesta. Una experiencia sinfónica envolvente que hará revivir escenas inolvidables y despertará la emoción del gran cine. Una cita imprescindible para amantes de la música y del cine épico.
URL:https://sevillalover.com/evento/concierto-the-music-of-morricone-zimmer-williams-en-sevilla/
LOCATION:CARTUJA CENTER CITE\, C/ Leonardo da Vinci\, 7.\, Sevilla\, Sevilla\, 41092\, España
CATEGORIES:BANDAS SONORAS,CONCIERTOS
ATTACH;FMTTYPE=image/jpeg:https://sevillalover.com/wp-content/uploads/2026/02/facebook.jpeg
END:VEVENT
BEGIN:VEVENT
DTSTART;TZID=UTC:20260517T203000
DTEND;TZID=UTC:20260517T223000
DTSTAMP:20260424T162314
CREATED:20260213T073228Z
LAST-MODIFIED:20260213T073228Z
UID:16479-1779049800-1779057000@sevillalover.com
SUMMARY:Festival DJ SYMPHONIC: 80 & 90S EDITION en Sevilla
DESCRIPTION:El Festival DJ Symphonic: 80 & 90s Edition llega a Sevilla para hacer vibrar al público con los grandes éxitos que marcaron una generación. Un espectáculo único que fusiona la energía de un DJ en directo con la potencia y elegancia de una orquesta sinfónica. Los himnos más icónicos de los años 80 y 90 sonarán como nunca antes\, en una experiencia envolvente cargada de nostalgia y emoción. Una noche para cantar\, bailar y revivir la mejor música de dos décadas inolvidables.
URL:https://sevillalover.com/evento/festival-dj-symphonic-80-90s-edition-en-sevilla/
LOCATION:CARTUJA CENTER CITE\, C/ Leonardo da Vinci\, 7.\, Sevilla\, Sevilla\, 41092\, España
CATEGORIES:CONCIERTOS,MÚSICA CLÁSICA
ATTACH;FMTTYPE=image/jpeg:https://sevillalover.com/wp-content/uploads/2026/02/c_festival_dj.jpeg
END:VEVENT
END:VCALENDAR