BEGIN:VCALENDAR
VERSION:2.0
PRODID:-//SevillaLover - ECPv6.15.16.1//NONSGML v1.0//EN
CALSCALE:GREGORIAN
METHOD:PUBLISH
X-ORIGINAL-URL:https://sevillalover.com
X-WR-CALDESC:Eventos para SevillaLover
REFRESH-INTERVAL;VALUE=DURATION:PT1H
X-Robots-Tag:noindex
X-PUBLISHED-TTL:PT1H
BEGIN:VTIMEZONE
TZID:UTC
BEGIN:STANDARD
TZOFFSETFROM:+0000
TZOFFSETTO:+0000
TZNAME:UTC
DTSTART:20250101T000000
END:STANDARD
END:VTIMEZONE
BEGIN:VEVENT
DTSTART;TZID=UTC:20260306T220000
DTEND;TZID=UTC:20260306T233000
DTSTAMP:20260424T162320
CREATED:20260211T132828Z
LAST-MODIFIED:20260212T072846Z
UID:16341-1772834400-1772839800@sevillalover.com
SUMMARY:Concierto Fran Perea - El Hombre Invisible en Sevilla
DESCRIPTION:El 6 de marzo\, Fran Perea llega a Sevilla con un concierto en vivo lleno de emoción y energía. Interpretará sus mayores éxitos junto a nuevas canciones\, creando un espectáculo íntimo y vibrante. Una oportunidad única para cantar\, emocionarse y disfrutar de la música en directo con uno de los artistas más queridos del pop español.
URL:https://sevillalover.com/evento/concierto-fran-perea-el-hombre-invisible-en-sevilla/
LOCATION:Sala Custom\, C/ Metalurgia\, 25 P.I. Calonge - Sevilla 41007\, Sevilla\, Sevilla\, 41007\, España
CATEGORIES:CONCIERTOS
ATTACH;FMTTYPE=image/jpeg:https://sevillalover.com/wp-content/uploads/2026/02/00-00089Np.jpeg
END:VEVENT
BEGIN:VEVENT
DTSTART;TZID=UTC:20260307T190000
DTEND;TZID=UTC:20260307T213000
DTSTAMP:20260424T162320
CREATED:20260212T073853Z
LAST-MODIFIED:20260212T073853Z
UID:16365-1772910000-1772919000@sevillalover.com
SUMMARY:Concierto Cantores de Híspalis - Credo en Sevilla
DESCRIPTION:El concierto Cantores de Híspalis – Credo en Sevilla es un espectáculo musical profundo que fusiona fe\, tradición cofrade y música andaluza\, interpretado por el emblemático grupo sevillano en un formato escénico de gran fuerza emocional.
URL:https://sevillalover.com/evento/concierto-cantores-de-hispalis-credo-en-sevilla/
LOCATION:Teatro Cerezo\, Calle Paseo del Estatuto\, 30\, 41410 Carmona\, Sevilla\, Sevilla\, Andalucía\, 41410\, Spain
CATEGORIES:CONCIERTOS,FLAMENCO
ATTACH;FMTTYPE=image/jpeg:https://sevillalover.com/wp-content/uploads/2026/02/00-00089MJ.jpeg
END:VEVENT
BEGIN:VEVENT
DTSTART;TZID=UTC:20260307T203000
DTEND;TZID=UTC:20260307T220000
DTSTAMP:20260424T162320
CREATED:20260212T072231Z
LAST-MODIFIED:20260212T072231Z
UID:16357-1772915400-1772920800@sevillalover.com
SUMMARY:Concierto Joana Jiménez - Incienso y Mantilla en Sevilla
DESCRIPTION:El concierto “Incienso y Mantilla” de Joana Jiménez en Sevilla es un espectáculo cargado de emoción y tradición\, donde la artista rinde homenaje a la copla y a la música vinculada a la Semana Santa andaluza. Una propuesta intensa y elegante que conecta con las raíces y el sentimiento cofrade de la ciudad.
URL:https://sevillalover.com/evento/concierto-joana-jimenez-incienso-y-mantilla-en-sevilla/
LOCATION:Teatro los Remedios\, C. Juan Ramón Jiménez\, 22\, Sevilla\, Sevilla\, 41001\, España
CATEGORIES:CONCIERTOS
ATTACH;FMTTYPE=image/jpeg:https://sevillalover.com/wp-content/uploads/2026/02/JoanaJimenez_400x504.jpeg
END:VEVENT
BEGIN:VEVENT
DTSTART;TZID=UTC:20260307T210000
DTEND;TZID=UTC:20260307T223000
DTSTAMP:20260424T162320
CREATED:20260212T083054Z
LAST-MODIFIED:20260212T083054Z
UID:16389-1772917200-1772922600@sevillalover.com
SUMMARY:Concierto Tributo Extremoduro - Pedrá en Sevilla
DESCRIPTION:El Concierto Tributo Extremoduro – Pedrá en Sevilla es un espectáculo musical que revive con energía la esencia del legendario rock español de Extremoduro\, con la banda Pedrá interpretando sus temas más emblemáticos en directo. Te transporta a los años 90 con un repertorio potente y lleno de fuerza\, ideal para los amantes del rock transgresivo y los himnos clásicos del género.
URL:https://sevillalover.com/evento/concierto-tributo-extremoduro-pedra-en-sevilla/
LOCATION:Teatro Triana\, C. Condes de Bustillo\, 17\, Sevilla\, Sevilla\, 41010\, Spain
CATEGORIES:CONCIERTOS,ROCK
ATTACH;FMTTYPE=image/jpeg:https://sevillalover.com/wp-content/uploads/2026/02/event_image_1108.jpeg
END:VEVENT
BEGIN:VEVENT
DTSTART;TZID=UTC:20260321T203000
DTEND;TZID=UTC:20260321T233000
DTSTAMP:20260424T162320
CREATED:20260212T105706Z
LAST-MODIFIED:20260212T105706Z
UID:16427-1774125000-1774135800@sevillalover.com
SUMMARY:Concierto Tributo Radio Futura\, El Último de la Fila y Héroes del Silencio en Sevilla
DESCRIPTION:Un homenaje a tres de los grupos más icónicos de los 80 en España: RADIO FUTURA\, EL ÚLTIMO DE LA FILA y HÉROES DEL SILENCIO. Este show de tres horas cuenta con una cuidada producción que cuida cada detalle\, con un repertorio seleccionado para transportar a los asistentes a aquella época inolvidable\, cuando la radio sonaba diferente y la música tenía un sello propio. \nUn directo lleno de energía\, interpretado por músicos de amplia trayectoria y calidad\, donde las canciones se disfrutan en un ambiente cercano y lleno de buena vibra entre público y banda. \nUn hit tras otro\, reproducidos fielmente en directo\, evocando los años que marcaron a toda una generación.
URL:https://sevillalover.com/evento/concierto-tributo-radio-futura-el-ultimo-de-la-fila-y-heroes-del-silencio-en-sevilla/
LOCATION:Sala Supra Music Hall\, SALA SUPRA MUSIC HALL\, C. Herramientas\, 35\, 41006 Sevilla.\, Sevilla\, Andalucía\, 41006\, Spain
CATEGORIES:CONCIERTOS,POP,ROCK
ATTACH;FMTTYPE=image/jpeg:https://sevillalover.com/wp-content/uploads/2026/02/00-00089l1.jpeg
END:VEVENT
BEGIN:VEVENT
DTSTART;TZID=UTC:20260322T200000
DTEND;TZID=UTC:20260322T214500
DTSTAMP:20260424T162320
CREATED:20260212T111017Z
LAST-MODIFIED:20260212T111017Z
UID:16434-1774209600-1774215900@sevillalover.com
SUMMARY:Concierto Antonio José - Gira 2026 en Sevilla
DESCRIPTION:Antonio José pone “Patas Arriba” los escenarios en su Gira 2026. Con motivo del lanzamiento de su próximo trabajo\, el cantante nos hará vibrar y bailar con su música en directo como solo él sabe. ¡No te pierdas estas fechas únicas para disfrutar de los éxitos del cordobés en conciertos inolvidables!
URL:https://sevillalover.com/evento/concierto-antonio-jose-gira-2026-en-sevilla/
LOCATION:CARTUJA CENTER CITE\, C/ Leonardo da Vinci\, 7.\, Sevilla\, Sevilla\, 41092\, España
CATEGORIES:CONCIERTOS,POP
ATTACH;FMTTYPE=image/jpeg:https://sevillalover.com/wp-content/uploads/2026/02/20250929100123_1759132883.251j5qNGlq8.jpg
END:VEVENT
END:VCALENDAR