BEGIN:VCALENDAR
VERSION:2.0
PRODID:-//SevillaLover - ECPv6.15.16.1//NONSGML v1.0//EN
CALSCALE:GREGORIAN
METHOD:PUBLISH
X-ORIGINAL-URL:https://sevillalover.com
X-WR-CALDESC:Eventos para SevillaLover
REFRESH-INTERVAL;VALUE=DURATION:PT1H
X-Robots-Tag:noindex
X-PUBLISHED-TTL:PT1H
BEGIN:VTIMEZONE
TZID:UTC
BEGIN:STANDARD
TZOFFSETFROM:+0000
TZOFFSETTO:+0000
TZNAME:UTC
DTSTART:20240101T000000
END:STANDARD
END:VTIMEZONE
BEGIN:VEVENT
DTSTART;VALUE=DATE:20250322
DTEND;VALUE=DATE:20250407
DTSTAMP:20260422T203025
CREATED:20250318T084547Z
LAST-MODIFIED:20250318T084625Z
UID:14045-1742601600-1743983999@sevillalover.com
SUMMARY:Las lecciones de Merlín
DESCRIPTION:🎭 ¡Higuitus Figitus…! La magia de Merlín llega a los más pequeños 🎭\nFarandulario Teatro trae a los más jóvenes una versión encantada de la legendaria historia del Rey Arturo. Con la famosa fórmula Higuitus Figitus\, el mago Merlín guía al joven Arturo en un viaje lleno de sabiduría\, donde aprenderá valiosas lecciones sobre el conocimiento\, la igualdad\, la tolerancia y el control de las emociones. A través de esta divertida obra\, los niños no solo se sumergen en un relato mágico\, sino que también reciben un mensaje educativo que les ayudará a comprender el valor de la amistad y la cooperación. \n🎉 ¿Por qué no perderse este espectáculo?\n🧙‍♂️ Magia y Enseñanza – Merlín y Arturo\, con sus encantamientos\, transmitirán importantes lecciones a los pequeños. \n🌟 Diversión y Educación – Un teatro donde aprender es tan divertido como mágico. \n🎭 Una Experiencia Única – Una obra llena de magia\, luces y sorpresas para toda la familia. \n✨ Un espectáculo para toda la familia – Perfecto para los más pequeños\, con una dosis de magia y enseñanzas sobre valores importantes. \n📍 Detalles del evento:\n📅 Fechas y horarios: \n\nSábado\, 22 de marzo: 17:00\nDomingo\, 23 de marzo: 12:00\nSábado\, 29 de marzo: 17:00\nDomingo\, 30 de marzo: 12:00\nSábado\, 5 de abril: 17:00\nDomingo\, 6 de abril: 12:00\n\n📌 Lugar: Teatro de la Maestranza\, Sevilla 🎟 Entradas disponibles en la web oficial. \n💰 Precios de las entradas (todos los precios incluyen IVA):\n\nInfantil: 8\,00 €\nAdulto: 12\,00 €\nCanguro (adulto + menor de 3 años\, 1 butaca): 13\,00 €\nGrupo + 6: 8\,00 €\nFamilia Numerosa: 8\,00 €\nPensionista / T. Discapacidad: 10\,00 €\nDesempleado: 10\,00 €\n\n¡No te pierdas esta oportunidad de disfrutar de una tarde mágica con los más pequeños! Un viaje lleno de fantasía\, magia y enseñanzas que dejará una huella imborrable. \n¿No te convence este evento y prefieres alguna otra categoría?\n Pulsa aquí y busca la que más se adapte a tí.
URL:https://sevillalover.com/evento/las-lecciones-de-merlin/
LOCATION:TEATRO DE LA MAESTRANZA\, P.º de Cristóbal Colón\, 22\, Sevilla\, Sevilla\, Sevilla\, 41001\, España
CATEGORIES:CHILDREN'S SHOWS,CHILDREN'S THEATER,EN FAMILIA,ESPECTACULOS,ESPECTACULOS EN FAMILIA,ESPECTACULOS INFANTILES,EVENTOS,EVENTS,FAMILY SHOWS,IN FAMILY,INFANTIL,INFANTIL,TEATRO,TEATRO INFANTIL,THEATER
ATTACH;FMTTYPE=image/jpeg:https://sevillalover.com/wp-content/uploads/2025/03/merlin-1.jpg
END:VEVENT
BEGIN:VEVENT
DTSTART;VALUE=DATE:20250323
DTEND;VALUE=DATE:20250324
DTSTAMP:20260422T203025
CREATED:20250318T093313Z
LAST-MODIFIED:20250318T093313Z
UID:14052-1742688000-1742774399@sevillalover.com
SUMMARY:La Sicodramática - Tu historia puesta en escena
DESCRIPTION:🎭 La Sicodrámatica: Teatro que nace de ti 🎭\nCuando entras en una función de La Sicodramática\, no sabes qué historia se va a contar… y eso es lo que la hace única. Aquí\, el guion no está escrito: las escenas nacen de lo que el público quiere compartir. No hay ensayo\, solo espontaneidad\, emoción y verdad. \nEn nuestro escenario\, tus historias toman vida. Si te apetece compartir\, lo haremos teatro. Si prefieres solo observar\, también eres bienvenido. Cada función es irrepetible\, porque la creamos juntas y juntos. \n🎟 ¿Por qué no perderse la experiencia de La SicoDramática?\n🎭 Un teatro vivo – No hay guion\, cada función es una obra única. \n🗣 Tú decides – Comparte tu historia o simplemente disfruta viendo cómo cobra vida. \n✨ Emoción pura – Ríe\, sorpréndete y déjate llevar por la magia del teatro espontáneo. \n📍 Detalles del evento\n📅 Fecha: 23/03/2025 \n⏰ Hora: 19:30 \n📌 Lugar: Teatro Viento Sur \n🎟 Entradas disponibles en su web oficial \n💰 Precios:\n🎫 Entrada general: 12\,24 € \n🎫 Reducida (estudiantes\, desempleados\, tercera edad\, personas con discapacidad): 10\,20 € \nDéjate sorprender por un teatro sin barreras\, sin guion y lleno de verdad. Acompáñanos y contémonos historias en «La Sicodramática: Puesta en escena». 🎭✨ \n¿No te convence este evento y prefieres alguna otra categoría?\n Pulsa aquí y busca la que más se adapte a tí.
URL:https://sevillalover.com/evento/la-sicodramatica/
LOCATION:Teatro Viento Sur\, C. San José de Calasanz\, 4\, 41010 Sevilla\, Sevilla\, Sevilla\, 41010
CATEGORIES:CHILDREN'S THEATER,DRAMA,ESPECTACULOS,EVENTOS,EVENTS,INTERACTIVO,TEATRO,THEATER
ATTACH;FMTTYPE=image/jpeg:https://sevillalover.com/wp-content/uploads/2025/03/la-sicodramatica-tu-historia-puesta-en-escena.jpg
END:VEVENT
END:VCALENDAR