BEGIN:VCALENDAR
VERSION:2.0
PRODID:-//SevillaLover - ECPv6.15.16.1//NONSGML v1.0//EN
CALSCALE:GREGORIAN
METHOD:PUBLISH
X-ORIGINAL-URL:https://sevillalover.com
X-WR-CALDESC:Eventos para SevillaLover
REFRESH-INTERVAL;VALUE=DURATION:PT1H
X-Robots-Tag:noindex
X-PUBLISHED-TTL:PT1H
BEGIN:VTIMEZONE
TZID:UTC
BEGIN:STANDARD
TZOFFSETFROM:+0000
TZOFFSETTO:+0000
TZNAME:UTC
DTSTART:20230101T000000
END:STANDARD
END:VTIMEZONE
BEGIN:VEVENT
DTSTART;TZID=UTC:20240307T080000
DTEND;TZID=UTC:20240310T170000
DTSTAMP:20260424T021959
CREATED:20240229T100652Z
LAST-MODIFIED:20240229T100849Z
UID:10708-1709798400-1710090000@sevillalover.com
SUMMARY:Sara Baras - Vuela en Sevilla
DESCRIPTION:Cuando su compañía cumple 25 años\, Sara Baras quiere rendir un homenaje al genio por antonomasia de la guitarra\, Paco de Lucía\, desde el respeto\, el cariño y el amor que tanto se profesaban\, nace “Vuela”\, un espectáculo creado para ser inolvidable\, para transportarnos una vez más a ese mágico mundo que sólo Sara Baras es capaz de crear. Afrontando en esta ocasión la responsabilidad de hacer tributo al genio de Algeciras\, este viaje coreográfico está compuesto por 15 piezas únicas\, donde cada una de ellas girará en torno a una palabra\, creando así\, con nuestro lenguaje flamenco\, palabras en movimiento. Un recorrido fascinante dividido en cuatro actos\, cada uno de ellos teje una narrativa poderosa. Madera\, que nos recuerda la fuerza de unas raíces\, la calidez del ser. Mar\, que nos invita a navegar en la pasión y ser como el agua. Muerte\, una forma de explorar las emociones humanas desde lo más profundo. Volar\, la única forma de huir sin correr\, sólo dejarse llevar por la celebración y la alegría\, una oportunidad que sólo la música\, el baile y los sentimientos nos pueden brindar. \nPROGRAMA \nACTO 1 – MADERA \n1. MAESTRO (presentación) \n2. INSPIRACIÓN (zapateado) Sara Baras y Keko Baldomero \n3. VOZ (minera) Músicos \n4. RITMO (rondeña) Cuerpo de baile \nACTO 2 – MAR \n5. AIRE (tiento) Sara Baras \n6. MAR (La Barrosa) Cuerpo de baile \n7. TIERRA (alegría) Músicos \nACTO 3 – MUERTE \n8. LUTO (seguirilla) Sara Baras y Daniel Saltares \n9. MUERTE (Canción de Amor) Sara Baras y cuerpo de baile \n10. RAÍZ (soleá por bulería) Músicos \n11. SOLEDAD (soleá) Keko Baldomero \nACTO 4 – VOLAR \n12. RECUERDO (tangos) Cuerpo de baile \n13. ETERNIDAD (fandango) Sara Baras \n14. ALMA (copla) Sara Baras y Diego Villegas \n15. VOLAR (bulería) Toda la compañía
URL:https://sevillalover.com/evento/sara-baras-vuela-en-sevilla/
LOCATION:CARTUJA CENTER CITE\, C/ Leonardo da Vinci\, 7.\, Sevilla\, Sevilla\, 41092\, España
CATEGORIES:BALLET Y DANZA,TEATRO
ATTACH;FMTTYPE=image/jpeg:https://sevillalover.com/wp-content/uploads/2024/02/sara-400_1.jpg
END:VEVENT
END:VCALENDAR