BEGIN:VCALENDAR
VERSION:2.0
PRODID:-//SevillaLover - ECPv6.15.16.1//NONSGML v1.0//EN
CALSCALE:GREGORIAN
METHOD:PUBLISH
X-WR-CALNAME:SevillaLover
X-ORIGINAL-URL:https://sevillalover.com
X-WR-CALDESC:Eventos para SevillaLover
REFRESH-INTERVAL;VALUE=DURATION:PT1H
X-Robots-Tag:noindex
X-PUBLISHED-TTL:PT1H
BEGIN:VTIMEZONE
TZID:UTC
BEGIN:STANDARD
TZOFFSETFROM:+0000
TZOFFSETTO:+0000
TZNAME:UTC
DTSTART:20240101T000000
END:STANDARD
END:VTIMEZONE
BEGIN:VEVENT
DTSTART;TZID=UTC:20250525T100000
DTEND;TZID=UTC:20250525T120000
DTSTAMP:20260423T034014
CREATED:20250502T081029Z
LAST-MODIFIED:20250502T081214Z
UID:15162-1748167200-1748174400@sevillalover.com
SUMMARY:BAILANDO POR LA VIDA - PARQUE DE MARIA LUISA
DESCRIPTION:La experiencia más liberadora del año llega a Sevilla de la mano de Bailando por la Vida.\nUna propuesta de bienestar\, conexión y alegría que combina movimiento consciente\, música envolvente y la belleza de la naturaleza\, en un entorno tan emblemático como el Parque de María Luisa. \n🎧 Se trata de una sesión de terapia de baile con auriculares\, donde podrás desconectar del ruido externo y conectar contigo mismo a través del cuerpo y el ritmo. Sin coreografías\, sin juicios\, sin expectativas. Solo tú\, tu respiración\, tu energía y la música que te acompaña en este viaje hacia dentro. Una oportunidad para soltar el estrés\, liberar tensiones y disfrutar del presente con cada paso. \nEste evento está pensado para todas las edades y no requiere experiencia previa en baile. Es ideal para quienes buscan nuevas formas de cuidarse\, para quienes desean reconectar con su cuerpo\, o simplemente para quienes quieren vivir una experiencia diferente\, divertida y profundamente transformadora. \n💥 Información del evento:\n📅 Fecha: 25 de mayo de 2025🕒 Horario: De 10:00 a 12:00 h📍 Lugar: Parque de María Luisa – Sevilla🎟 Precio entrada: 12 €🔗 Reserva tu plaza: bailandoporlavida.es/reservar-actividad \n🌿✨ Ven solo/a o acompañado/a\, trae ropa cómoda y muchas ganas de disfrutar. Permítete esta pausa. Regálate movimiento\, naturaleza\, buena energía… y un par de auriculares que te conectarán con algo más que música. \n📲 Más información:\nInstagram: @bailando.porlavidaCorreo: info.bailandoporlavida@gmail.comTeléfono: 696 448 680 \n¿Prefieres otro tipo de experiencia?\n➡️ Pulsa aquí y encuentra la que más se adapta a ti.
URL:https://sevillalover.com/evento/bailando-por-la-vida-parque-de-maria-luisa/
LOCATION:BAILANDO POR LA VIDA\, AVENIDA PORTIMAO\, 53\, Sevilla\, Sevilla\, 41089\, Spain
CATEGORIES:BALLET AND DANCE,BALLET Y DANZA,EN FAMILIA,ESPECTACULOS,ESPECTACULOS EN FAMILIA,EXPERIENCES,EXPERIENCIAS,IN FAMILY
ATTACH;FMTTYPE=image/jpeg:https://sevillalover.com/wp-content/uploads/2025/05/c12eceb1-2a16-4b21-a526-8781961283ca.jpg
ORGANIZER;CN="MARIA DEL CARMEN BENITEZ BERNAL":MAILTO:INFO.BAILANDOPORLAVIDA@gmail.com
END:VEVENT
END:VCALENDAR